{"text_format":"1","workbook":"xlsx","n_sheets":7,"sheets":["Paramètres","Nrj","Schema","Air humide","Démo1","Démo2","Densité"],"not_rendered":{"charts":0,"images":2,"macros":1,"external_links":0,"defined_names":21,"comments":2,"pivot_tables":0},"unopened":[],"bounds":{"document_bytes":16777216,"sheet_cells":100000,"rows_first":2000,"rows_last":500,"rows_between":2000,"halvings":0,"cell_chars":16384,"cell_head_chars":4096},"cells_cut":0,"cells_raw":0,"read":"whole","date_system":"1900"}

{"sheet":"Paramètres","index":0,"n_rows":107,"n_cols":20,"rows_kept":107,"cut":false,"hidden":false,"merged":[[8,3,8,4],[8,6,8,7],[8,9,8,12]]}
[]
[null,"Règlage des paramètres de fonctionnement tour de séchage MSD"]
[]
[null,"Produit fabriqué :","Lait 14%",null,null,"Concentré traité :",null,{"$f":"H5/C5%","v":0},null,"kg / h",{"$f":"H4/((VLOOKUP(Paramètres!C5,Densité!A2:B286,2))-(VLOOKUP(M4,Densité!D2:E75,2)))","v":0},"ltrs / h",{"$f":"Nrj!C47","v":60},null,"Nb buses",null,null,null,3]
[null,"Extrait sec entrant :",49,"%",null,"Extrait sec traité :",null,{"$f":"H6*C6/100","v":0},null,"kg / h",null,null,null,null,"P",null,null,null,{"$f":"L7","v":220},"bars"]
[null,"Extrait sec poudre :",96.2,"%",null,"Poudre produite :",null,{"$f":"H32*((C5/(C6-C5)))","v":0},null,"kg / h",null,null,null,null,"f",null,null,null,0.9]
[null,"Buse",40,"Pointeau",null,640,null,"Homo.",null,"60/20","P. buses",220,null,null,"A",null,null,null,{"$f":"((K4/1000)/((SQRT(S5))*S6*S4))*1000","v":0}]
[null,null,null,null,null,null,null,null,null,null,null,null,null,null,"Débit buse au prod",null,null,null,{"$f":"3150/3","v":1050}]
[null,"Paramètres","T°c","Volume",null,"Poids","W",null,null,"Enthalpie",null,null,null,null,"Débit buse à l'eau",null,null,null,{"$f":"IF(S11=0,0,(S8)/(1/S11))","v":0}]
[]
[null,null,null,"m3/kgas","total","kg as","kg/kgas","total",null,"kj/kgas","kcal/kgas","total kj","total kcal",null,"Densité",null,null,null,{"$f":"IF(H4=0,0,H4/K4)","v":0}]
[]
[]
[null,"Caractéristiques de l'air ",null,null,null,null,null,null,null,null,null,null,null,null,"Pression 2",null,null,null,180]
[null,"ambiant entrée bâtiment",20,{"$f":"((22.41/273)*(C15+273))*((1/29)+((1/18)*G15))","v":0.8387244353921941},{"$f":"D15*F15","v":35253.227744601405},{"$f":"F52+F57+F59","v":42031.955022410577},7.0000000000000001E-3,{"$f":"F15*G15","v":294.22368515687407},null,{"$f":"(((1.005+(1.88*G15))*C15)+(2487*G15))","v":37.772199999999998},{"$f":"J15/4.1855","v":9.0245370923426105},{"$f":"F15*J15","v":1587639.4114974968},{"$f":"L15/4.1855","v":379318.93716342055},null,"Débit 2",null,null,null,{"$f":"S9*S6*SQRT(S14/S5)","v":0}]
[]
[]
[null,"Air amont avant chauffage",{"$f":"IF(Nrj!C10=\"non\",C15+5,IF(C21<80,C15+5,Nrj!C14))","v":25},{"$f":"((22.41/273)*(C18+273))*((1/29)+((1/18)*G18))","v":0.85303713906782874},{"$f":"D18*F18","v":23032.002754831377},27000,{"$f":"G15","v":7.0000000000000001E-3},{"$f":"F18*G18","v":189},null,{"$f":"(((1.005+(1.88*G18))*C18)+(2487*G18))","v":42.863},{"$f":"J18/4.1855","v":10.24083144188269},{"$f":"F18*J18","v":1157301},{"$f":"L18/4.1855","v":276502.44893083262},null,null,"2 buses",null,null,{"$f":"S15*2","v":0}]
[null,"Air amont sortie batterie vapeur",{"$f":"IF(C21<140,C21,140)","v":71},{"$f":"((22.41/273)*(C19+273))*((1/29)+((1/18)*G19))","v":0.98471401288366811},{"$f":"D19*F19","v":26587.278347859039},{"$f":"F18","v":27000},{"$f":"G15","v":7.0000000000000001E-3},{"$f":"F19*G19","v":189},null,{"$f":"(((1.005+(1.88*G19))*C19)+(2487*G19))","v":89.698360000000008},{"$f":"J19/4.1855","v":21.430739457651416},{"$f":"F19*J19","v":2421855.7200000002},{"$f":"L19/4.1855","v":578629.96535658825}]
[]
[null,"Air amont vapeur ou électricité",{"$f":"Schema!CN29","v":71},{"$f":"((22.41/273)*(C21+273))*((1/29)+((1/18)*G21))","v":0.98471401288366811},{"$f":"D21*F21","v":26587.278347859039},{"$f":"F18","v":27000},{"$f":"G15","v":7.0000000000000001E-3},{"$f":"F21*G21","v":189},null,{"$f":"(((1.005+(1.88*G21))*C21)+(2487*G21))","v":89.698360000000008},{"$f":"J21/4.1855","v":21.430739457651416},{"$f":"F21*J21","v":2421855.7200000002},{"$f":"L21/4.1855","v":578629.96535658825}]
[null,"Combustion gaz","Start",null,null,{"$f":"F21","v":27000},{"$f":"H22/F22","v":0},{"$f":"0.1875*((M21-M19)/1000)","v":0}]
[null,"Total air amont",{"$f":"C21","v":71},{"$f":"((22.41/273)*(C23+273))*((1/29)+((1/18)*G23))","v":0.98471401288366811},{"$f":"D23*F23","v":26587.278347859039},{"$f":"F21","v":27000},{"$f":"H23/F23","v":7.0000000000000001E-3},{"$f":"SUM(H21:H22)","v":189},null,{"$f":"(((1.005+(1.88*G23))*C23)+(2487*G23))","v":89.698360000000008},{"$f":"J23/4.1855","v":21.430739457651416},{"$f":"F23*J23","v":2421855.7200000002},{"$f":"L23/4.1855","v":578629.96535658825}]
[null,"Mise en fonction des buses",null,null,null,null,null,null,null,"Buse 1","Buse 2","Buse 3"]
[null,"Air amont LS",90,{"$f":"((22.41/273)*(C25+273))*((1/29)+((1/18)*G25))","v":1.03910228685108},{"$f":"D25*F25","v":8346.0228316718458},{"$f":"C73","v":8031.9550224105742},{"$f":"G15","v":7.0000000000000001E-3},{"$f":"F25*G25","v":56.223685156874019},null,{"$f":"(((1.005+(1.88*G25))*C25)+(2487*G25))","v":109.04339999999999},{"$f":"J25/4.1855","v":26.052657985903711},{"$f":"F25*J25","v":875831.68429072516},{"$f":"L25/4.1855","v":209253.77715702428},"Simulation mise en fonction des buses"]
[null,"Température sortie LS (t°c poudre)",{"$f":"IF(C21<150,C25,IF(C21>178,62,C25-(C21-150)))","v":90},{"$f":"((22.41/273)*(C26+273))*((1/29)+((1/18)*G26))","v":1.03910228685108},{"$f":"D26*F26","v":8346.0228316718458},{"$f":"F25","v":8031.9550224105742},{"$f":"(J26-(1.005*C26))/(1.88*C26+2487)","v":7.0000000000000019E-3},{"$f":"F26*G26","v":56.223685156874033},null,{"$f":"J25","v":109.04339999999999},{"$f":"J26/4.1855","v":26.052657985903711},{"$f":"F26*J26","v":875831.68429072516},{"$f":"L26/4.1855","v":209253.77715702428}]
[null,null,{"$f":"C26","v":90},{"$f":"((22.41/273)*(C27+273))*((1/29)+((1/18)*G27))","v":1.03910228685108},{"$f":"D27*F27","v":8346.0228316718458},{"$f":"F25","v":8031.9550224105742},{"$f":"G15","v":7.0000000000000001E-3},{"$f":"F27*G27","v":56.223685156874019},null,{"$f":"(((1.005+(1.88*G27))*C27)+(2487*G27))","v":109.04339999999999},{"$f":"J27/4.1855","v":26.052657985903711},{"$f":"F27*J27","v":875831.68429072516},{"$f":"L27/4.1855","v":209253.77715702428}]
[null,null,null,null,null,null,null,null,null,null,null,null,null,null,null,null,null,"PB"]
[null,"Température plaque",{"$f":"C26+2","v":92},null,null,null,null,null,null,null,null,null,null,null,null,null,null,"Débit évaporatoire une buse",590]
[null,"Delta P plaque LS",220]
[null,null,null,null,null,null,null,null,null,null,null,null,null,null,"Valeur  incrementation buses en montée "]
[null,"Eau évaporée du concentré",null,null,null,null,null,{"$f":"IF(C21<R33,0,(VLOOKUP(C21,R33:S37,2)))+H33","v":0},null,null,null,null,null,null,null,null,null,"TE","EE"]
[null,"Dont évaporation dans le lit statique",null,null,null,null,null,{"$f":"IF(C26>=C25,0,(H26-H25))","v":0},null,null,null,null,null,null,null,"B1",null,122,{"$f":"S29","v":590}]
[]
[null,null,null,null,null,null,null,null,null,null,null,null,null,null,null,"B2",null,182,{"$f":"S29*2","v":1180}]
[]
[null,"Refroidissement",40,{"$f":"((22.41/273)*(C37+273))*((1/29)+((1/18)*G37))","v":0.895975250094733},{"$f":"D37*F37","v":2687.9257502841988},3000,{"$f":"G15","v":7.0000000000000001E-3},{"$f":"F37*G37","v":21},null,{"$f":"(((1.005+(1.88*G37))*C37)+(2487*G37))","v":58.135399999999997},{"$f":"J37/4.1855","v":13.889714490502925},{"$f":"J37*F37","v":174406.19999999998},{"$f":"K37*F37","v":41669.143471508774},null,null,"B3",null,238,{"$f":"S29*3","v":1770}]
[]
[]
[]
[null,"Air amont",{"$f":"($J$41-(2487*$G$41))/((1.005+(1.88*$G$41)))","v":71.000000000000014},{"$f":"((22.41/273)*(C41+273))*((1/29)+((1/18)*G41))","v":0.98471401288366811},{"$f":"D41*F41","v":26587.278347859039},{"$f":"F21","v":27000},{"$f":"H41/F41","v":7.0000000000000001E-3},{"$f":"H32+H23-H33","v":189},null,{"$f":"J23","v":89.698360000000008},{"$f":"K23","v":21.430739457651416},{"$f":"F41*J41","v":2421855.7200000002},{"$f":"F41*K41","v":578629.96535658825}]
[]
[null,"Zone atomisation",{"$f":"($J$43-(2487*$G$43))/((1.005+(1.88*$G$43)))","v":67.90000000000002},{"$f":"((22.41/273)*(C43+273))*((1/29)+((1/18)*G43))","v":0.97584013660477464},{"$f":"D43*F43","v":29275.20409814324},{"$f":"SUM(F37:F41)","v":30000},{"$f":"H43/F43","v":7.0000000000000001E-3},{"$f":"SUM(H37:H41)","v":210},null,{"$f":"L43/F43","v":86.542064000000011},{"$f":"J43/4.1855","v":20.67663696093657},{"$f":"L41+L39+L37","v":2596261.9200000004},{"$f":"F43*K43","v":620299.10882809712}]
[]
[]
[]
[null,"Lit statique",{"$f":"($J$47-(2487*$G$47))/((1.005+(1.88*$G$47)))","v":90},{"$f":"((22.41/273)*(C47+273))*((1/29)+((1/18)*G47))","v":1.03910228685108},{"$f":"D47*F47","v":8346.0228316718458},{"$f":"F25","v":8031.9550224105742},{"$f":"H47/F47","v":7.0000000000000001E-3},{"$f":"H25+H33","v":56.223685156874019},null,{"$f":"IF(C25<=72,J27,J26)","v":109.04339999999999},{"$f":"J47/4.1855","v":26.052657985903711},{"$f":"F47*J47","v":875831.68429072516},{"$f":"F47*K47","v":209253.77715702428}]
[]
[]
[]
[]
[null,"Caractéristiques de l'air ",{"$f":"($J$52-(2487*$G$52))/((1.005+(1.88*$G$52)))","v":72.567291121129003},{"$f":"((22.41/273)*(C52+273))*((1/29)+((1/18)*G52))","v":0.98920044756170267},{"$f":"D52*F52","v":37621.226929815086},{"$f":"F37+F39+F41+F47+F45","v":38031.955022410577},{"$f":"H52/F52","v":6.9999999999999993E-3},{"$f":"H37+H39+H41+H47+H45","v":266.22368515687401},null,{"$f":"L52/F52","v":91.294113127888693},{"$f":"J52/4.1855","v":21.811996924594119},{"$f":"L37+L39+L41+L47+L45","v":3472093.6042907257},{"$f":"K52*F52","v":829552.88598512136}]
[null,"sortie chambre"]
[]
[]
[]
[null,"LV 1",70,{"$f":"((22.41/273)*(C57+273))*((1/29)+((1/18)*G57))","v":0.98185147214854118},{"$f":"D57*F57","v":1963.7029442970825},2000,{"$f":"G15","v":7.0000000000000001E-3},{"$f":"F57*G57","v":14},null,{"$f":"(((1.005+(1.88*G57))*C57)+(2487*G57))","v":88.680199999999985},{"$f":"J57/4.1855","v":21.187480587743394},{"$f":"J57*F57","v":177360.39999999997},{"$f":"K57*F57","v":42374.961175486787}]
[]
[null,"LV 2",40,{"$f":"((22.41/273)*(C59+273))*((1/29)+((1/18)*G59))","v":0.895975250094733},{"$f":"D59*F59","v":1791.9505001894661},2000,{"$f":"G57","v":7.0000000000000001E-3},{"$f":"F59*G59","v":14},null,{"$f":"(((1.005+(1.88*G59))*C59)+(2487*G59))","v":58.135399999999997},{"$f":"J59/4.1855","v":13.889714490502925},{"$f":"J59*F59","v":116270.79999999999},{"$f":"K59*F59","v":27779.428981005851}]
[]
[null,"LV 3",35,{"$f":"((22.41/273)*(C61+273))*((1/29)+((1/18)*G61))","v":0.88166254641909825},{"$f":"D61*F61","v":1763.3250928381965},2000,{"$f":"G59","v":7.0000000000000001E-3},{"$f":"F61*G61","v":14},null,{"$f":"(((1.005+(1.88*G61))*C61)+(2487*G61))","v":53.044599999999996},{"$f":"J61/4.1855","v":12.673420140962847},{"$f":"J61*F61","v":106089.2},{"$f":"K61*F61","v":25346.840281925695}]
[]
[]
[]
[]
[]
[]
[]
[]
[]
[]
[null,"Masse vol. de l'air entrée LS",{"$f":"1/D25","v":0.96236916485904722},"kg/m3"]
[null,"Débit dans le lit statique",{"$f":"4*138*((C30*C72)^(1/2))","v":8031.9550224105742}]
[null,"Vitesse m/s",{"$f":"0.038*(C30/C72)^(1/2)","v":0.57454505000639511}]
[]
[null,"Température de saturation sortie chambre",null,null,{"$f":"VLOOKUP(J52,'Air humide'!$H$2:$K$222,4)","v":28},"°c"]
[null,"Ws",null,null,{"$f":"VLOOKUP(J52,'Air humide'!$A$5:$D$65,4)","v":96700.900154545059}]
[null,"Driving force",null,null,{"$f":"C52-E76","v":44.567291121129003},"°c"]
[]
[null,"Point de rosée",null,null,{"$f":"VLOOKUP(ROUND(G52,4),'Air humide'!$I$2:$K$201,3)","v":8.5},"°c"]
[null,"Pression partielle de vapeur dans l'air sortant",null,null,{"$f":"100000*(G52/(G52+0.6215))","v":1113.7629276054095},"Pa"]
[null,"Pression partielle de vapeur saturante à",null,{"$f":"C52","v":72.567291121129003},{"$f":"IF(D82<99,611.14*EXP(17.269*(((273.16+D82)-273.16)/((273.16+D82)-35.86))),((D82/100)^4)*100000)","v":34874.934825783246},"Pa"]
[null,"Humidité relative sortie chambre",null,null,{"$f":"E81/E82%","v":3.1935914236662541},"%"]
[]
[null,"Delta P cyclones principaux",null,null,{"$f":"G107","v":198.56273636028473},"mmCE"]
[]
[]
[]
[]
[null,"Impact température de sortie sur humidité poudre :"]
[]
[null,1," =",0.2]
[]
[null,"Formule débit cyclones :"]
[]
[null,"          P = ","L2"]
[null,null,"d4 r K2"]
[null,null,null,null,null,null,"U","calc"]
[null,"L = ","débit d'air",null,null,null,{"$f":"F18","v":27000},{"$f":"G99^2","v":729000000}]
[]
[null,"d = ","diamètre en mètre",null,null,null,2.5,{"$f":"G101^4","v":39.0625}]
[]
[null,"r = ","densité air kg / m3",null,null,null,{"$f":"1/D52","v":1.0109174560777012}]
[]
[null,"K = ","constante",null,null,null,304.91376063272452,{"$f":"G105^2","v":92972.401423190429}]
[]
[null,null,null,null,"Résultat (mmCE) :",null,{"$f":"H99/(H101*G103*H105)","v":198.56273636028473}]

{"sheet":"Nrj","index":1,"n_rows":99,"n_cols":18,"rows_kept":99,"cut":false,"hidden":false,"merged":[[6,3,6,4],[6,6,6,7],[6,13,6,14],[86,3,86,4],[86,6,86,7]]}
[]
[null,"Bilan énergie  tour de séchage MSD "]
[]
[]
[]
[]
[null,null,"T°c","Volume",null,"Poids","W",null,null,null,"Enthalpie",null,null,"Ratios"]
[]
[null,null,null,"m3/kgas","total","kg","kg/kgas","total",null,"kj/kgas","kcal/kgas","total kj","total kcal"," /kgee"," /kg prod"]
[null,"Cogénération","non"]
[]
[null,"Air amont après gaz",{"$f":"Paramètres!C21","v":71},{"$f":"((22.41/273)*(C12+273))*((1/29)+((1/18)*G12))","v":0.98471401288366811},{"$f":"D12*F12","v":26587.278347859039},{"$f":"Paramètres!F21","v":27000},{"$f":"Paramètres!G23","v":7.0000000000000001E-3},{"$f":"F12*G12","v":189},null,{"$f":"(((1.005+(1.88*G12))*C12)+(2487*G12))","v":89.698360000000008},{"$f":"J12/4.1855","v":21.430739457651416},{"$f":"F12*J12","v":2421855.7200000002},{"$f":"L12/4.1855","v":578629.96535658825},null,null,{"$f":"M12-M13","v":0}]
[null,"Air amont après vapeur",{"$f":"Paramètres!C19","v":71},{"$f":"((22.41/273)*(C13+273))*((1/29)+((1/18)*G13))","v":0.98471401288366811},{"$f":"D13*F13","v":26587.278347859039},{"$f":"Paramètres!F22","v":27000},{"$f":"Paramètres!G19","v":7.0000000000000001E-3},{"$f":"F13*G13","v":189},null,{"$f":"(((1.005+(1.88*G13))*C13)+(2487*G13))","v":89.698360000000008},{"$f":"J13/4.1855","v":21.430739457651416},{"$f":"F13*J13","v":2421855.7200000002},{"$f":"L13/4.1855","v":578629.96535658825}]
[null,"Air amont après filtre",{"$f":"IF(C10=\"oui\",45,Paramètres!C18)","v":25},{"$f":"((22.41/273)*(C14+273))*((1/29)+((1/18)*G14))","v":0.85303713906782874},{"$f":"D14*F14","v":23032.002754831377},{"$f":"F12","v":27000},{"$f":"Paramètres!G18","v":7.0000000000000001E-3},{"$f":"F14*G14","v":189},null,{"$f":"(((1.005+(1.88*G14))*C14)+(2487*G14))","v":42.863},{"$f":"J14/4.1855","v":10.24083144188269},{"$f":"F14*J14","v":1157301},{"$f":"L14/4.1855","v":276502.44893083262}]
[]
[null,"Energie consommée",null,null,null,null,null,null,null,null,null,{"$f":"L12-L14-L15","v":1264554.7200000002},{"$f":"M12-M14","v":302127.51642575563}]
[]
[null,"Air amont LS",{"$f":"Paramètres!C25","v":90},{"$f":"((22.41/273)*(C18+273))*((1/29)+((1/18)*G18))","v":1.03910228685108},{"$f":"D18*F18","v":8346.0228316718458},{"$f":"Paramètres!F47","v":8031.9550224105742},{"$f":"G14","v":7.0000000000000001E-3},{"$f":"F18*G18","v":56.223685156874019},null,{"$f":"(((1.005+(1.88*G18))*C18)+(2487*G18))","v":109.04339999999999},{"$f":"J18/4.1855","v":26.052657985903711},{"$f":"F18*J18","v":875831.68429072516},{"$f":"L18/4.1855","v":209253.77715702428}]
[null,"Air amont LS",{"$f":"Paramètres!C18","v":25},{"$f":"((22.41/273)*(C19+273))*((1/29)+((1/18)*G19))","v":0.85303713906782874},{"$f":"D19*F19","v":6851.5559334385944},{"$f":"F18","v":8031.9550224105742},{"$f":"G14","v":7.0000000000000001E-3},{"$f":"F19*G19","v":56.223685156874019},null,{"$f":"(((1.005+(1.88*G19))*C19)+(2487*G19))","v":42.863},{"$f":"J19/4.1855","v":10.24083144188269},{"$f":"F19*J19","v":344273.68812558445},{"$f":"L19/4.1855","v":82253.897533289797}]
[null,"Energie consommée",null,null,null,null,null,null,null,null,null,{"$f":"L18-L19","v":531557.99616514076},{"$f":"M18-M19","v":126999.87962373448}]
[]
[]
[]
[]
[]
[null,"Répartition fines"]
[null,"Répartition fines"]
[null,"Energie consommée"]
[]
[null,"Surpresseurs fines"]
[null,"Surpresseurs fines"]
[null,"Energie consommée"]
[]
[null,"LV 1",{"$f":"Paramètres!C57","v":70},{"$f":"((22.41/273)*(C34+273))*((1/29)+((1/18)*G34))","v":0.98185147214854118},{"$f":"D34*F34","v":1963.7029442970825},{"$f":"Paramètres!F57","v":2000},{"$f":"G14","v":7.0000000000000001E-3},{"$f":"F34*G34","v":14},null,{"$f":"(((1.005+(1.88*G34))*C34)+(2487*G34))","v":88.680199999999985},{"$f":"J34/4.1855","v":21.187480587743394},{"$f":"J34*F34","v":177360.39999999997},{"$f":"K34*F34","v":42374.961175486787}]
[null,"LV 1",{"$f":"Paramètres!C18","v":25},{"$f":"((22.41/273)*(C35+273))*((1/29)+((1/18)*G35))","v":0.85303713906782874},{"$f":"D35*F35","v":1706.0742781356576},{"$f":"F34","v":2000},{"$f":"G14","v":7.0000000000000001E-3},{"$f":"F35*G35","v":14},null,{"$f":"(((1.005+(1.88*G35))*C35)+(2487*G35))","v":42.863},{"$f":"J35/4.1855","v":10.24083144188269},{"$f":"J35*F35","v":85726},{"$f":"K35*F35","v":20481.662883765381}]
[null,"Energie consommée",null,null,null,null,null,null,null,null,null,{"$f":"L34-L35","v":91634.399999999965},{"$f":"M34-M35","v":21893.298291721407}]
[]
[null,"LV 2",{"$f":"Paramètres!C59","v":40},{"$f":"((22.41/273)*(C38+273))*((1/29)+((1/18)*G38))","v":0.895975250094733},{"$f":"D38*F38","v":1791.9505001894661},{"$f":"Paramètres!F59","v":2000},{"$f":"G14","v":7.0000000000000001E-3},{"$f":"F38*G38","v":14},null,{"$f":"(((1.005+(1.88*G38))*C38)+(2487*G38))","v":58.135399999999997},{"$f":"J38/4.1855","v":13.889714490502925},{"$f":"J38*F38","v":116270.79999999999},{"$f":"K38*F38","v":27779.428981005851}]
[null,"LV 2",{"$f":"C35","v":25},{"$f":"((22.41/273)*(C39+273))*((1/29)+((1/18)*G39))","v":0.85303713906782874},{"$f":"D39*F39","v":1706.0742781356576},{"$f":"F38","v":2000},{"$f":"G38","v":7.0000000000000001E-3},{"$f":"F39*G39","v":14},null,{"$f":"(((1.005+(1.88*G39))*C39)+(2487*G39))","v":42.863},{"$f":"J39/4.1855","v":10.24083144188269},{"$f":"J39*F39","v":85726},{"$f":"K39*F39","v":20481.662883765381}]
[null,"Energie consommée",null,null,null,null,null,null,null,null,null,{"$f":"L38-L39","v":30544.799999999988},{"$f":"M38-M39","v":7297.7660972404701}]
[]
[null,"LV 3",{"$f":"Paramètres!C61","v":35},{"$f":"((22.41/273)*(C42+273))*((1/29)+((1/18)*G42))","v":0.88166254641909825},{"$f":"D42*F42","v":1763.3250928381965},{"$f":"Paramètres!F61","v":2000},{"$f":"G14","v":7.0000000000000001E-3},{"$f":"F42*G42","v":14},null,{"$f":"(((1.005+(1.88*G42))*C42)+(2487*G42))","v":53.044599999999996},{"$f":"J42/4.1855","v":12.673420140962847},{"$f":"J42*F42","v":106089.2},{"$f":"K42*F42","v":25346.840281925695}]
[null,"LV 3",{"$f":"C35","v":25},{"$f":"((22.41/273)*(C43+273))*((1/29)+((1/18)*G43))","v":0.85303713906782874},{"$f":"D43*F43","v":1706.0742781356576},{"$f":"F42","v":2000},{"$f":"G42","v":7.0000000000000001E-3},{"$f":"F43*G43","v":14},null,{"$f":"(((1.005+(1.88*G43))*C43)+(2487*G43))","v":42.863},{"$f":"J43/4.1855","v":10.24083144188269},{"$f":"J43*F43","v":85726},{"$f":"K43*F43","v":20481.662883765381}]
[null,"Energie consommée",null,null,null,null,null,null,null,null,null,{"$f":"L42-L43","v":20363.199999999997},{"$f":"M42-M43","v":4865.1773981603146}]
[]
[null,"Réchauffage concentré de",50,null,null,{"$f":"+Paramètres!H4","v":0},null,null,null,0.8,"Kcal/kg conc",null,{"$f":"C46*$F$46*$J$46","v":0}]
[null,"à",60,null,null,null,null,null,null,null,null,null,{"$f":"C47*$F$46*$J$46","v":0}]
[null,null,null,null,null,null,null,null,null,null,null,null,{"$f":"M47-M46","v":0}]
[]
[null,"Pertes",5,null,null,null,null,null,null,null,null,null,{"$f":"(M16+M20+M36+M40+M44)*C50%","v":23159.181891830616}]
[null,"Réchauffage concentré",null,null,null,null,null,null,null,null,null,null,{"$f":"((Paramètres!H4*0.8)*(Paramètres!E76-Paramètres!M4))","v":0}]
[]
[]
[null,"Total énergie consommée","kcal",null,null,null,null,null,null,null,null,{"$f":"L16+L20+L24+L28+L32+L36+L40+L44+L50","v":1938655.1161651409},{"$f":"M16+M20+M24+M28+M32+M36+M40+M44+M50+M51+M48","v":486342.81972844293},{"$f":"M54/Paramètres!$H$32","v":{"$error":"#DIV/0!"}},{"$f":"M54/Paramètres!H6","v":{"$error":"#DIV/0!"}}]
[null,null,"kwh",null,null,null,null,null,null,null,null,null,{"$f":"M54/860","v":565.51490666098016},{"$f":"M55/Paramètres!$H$32","v":{"$error":"#DIV/0!"}},{"$f":"M55/Paramètres!H6","v":{"$error":"#DIV/0!"}}]
[]
[null,"Energie vapeur","kcal",null,null,null,null,null,null,null,null,null,{"$f":"M20+M24+M28+M32+M36+M40+M44+M48+(M13-M14)+M50+M51","v":486342.81972844293},{"$f":"M57/Paramètres!$H$32","v":{"$error":"#DIV/0!"}},{"$f":"M57/Paramètres!H6","v":{"$error":"#DIV/0!"}}]
[]
[null,"Energie gaz direct","kcal",null,null,null,null,null,null,null,null,null,{"$f":"M54-M57","v":0},{"$f":"M59/Paramètres!$H$32","v":{"$error":"#DIV/0!"}},{"$f":"M59/Paramètres!H6","v":{"$error":"#DIV/0!"}}]
[null,null,"kwh",null,null,null,null,null,null,null,null,null,{"$f":"M59/860","v":0},{"$f":"M60/Paramètres!$H$32","v":{"$error":"#DIV/0!"}},{"$f":"M60/Paramètres!H6","v":{"$error":"#DIV/0!"}}]
[]
[null,"Conso vapeur","kg",null,null,null,null,null,null,null,null,null,{"$f":"M57/585","v":831.3552473990477},{"$f":"M62/Paramètres!$H$32","v":{"$error":"#DIV/0!"}},{"$f":"M62/Paramètres!H6","v":{"$error":"#DIV/0!"}},{"$f":"P64*P71/P70","v":9700},null,"Pcs"]
[]
[null,null,"Nm3 ",null,null,null,null,null,null,null,null,null,{"$f":"(M57/P64)/P65","v":65.615598991964774},null,null,8720,"kcal / m3","Pci"]
[null,null,null,null,null,null,null,null,null,null,null,null,null,null,null,0.85,"R chauffe"]
[null,"Conso Gaz entrée tour","Nm3",null,null,null,null,null,null,null,null,null,{"$f":"(M59/P62)*P66","v":0},{"$f":"M66/Paramètres!$H$32","v":{"$error":"#DIV/0!"}},{"$f":"M66/Paramètres!H6","v":{"$error":"#DIV/0!"}},1,"R chauffe(pci)"]
[]
[]
[null,"Total gaz","Nm3",null,null,null,null,null,null,null,null,null,{"$f":"M64+M66","v":65.615598991964774},{"$f":"M69/Paramètres!$H$32","v":{"$error":"#DIV/0!"}},{"$f":"M69/Paramètres!$H$6","v":{"$error":"#DIV/0!"}}]
[null,null,"kwh pci",null,null,null,null,null,null,null,null,null,{"$f":"M69*P70","v":665.31165489527075},null,null,{"$f":"8720/860","v":10.13953488372093},"Kwh / Nm3"]
[null,null,"kwh pcs",null,null,null,null,null,null,null,null,null,{"$f":"M69*P71","v":740.08291886285849},{"$f":"M71/Paramètres!$H$32","v":{"$error":"#DIV/0!"}},{"$f":"M71/Paramètres!$H$6","v":{"$error":"#DIV/0!"}},{"$f":"9700/860","v":11.279069767441861},"Kwh / Nm3"]
[]
[null,"Kwh motrice","kwh",null,null,null,null,null,null,null,null,null,{"$f":"215+M94+M99","v":215},{"$f":"M73/Paramètres!$H$32","v":{"$error":"#DIV/0!"}},{"$f":"M73/Paramètres!$H$6","v":{"$error":"#DIV/0!"}}]
[]
[null,"Volume d'air ambiant","m3",null,{"$f":"E14+E19+E23+E27+E31+E35+E39+E43+E47","v":35001.781522676945}]
[null,"Poids d'air ambiant","kg",null,null,{"$f":"SUM(F12:F47)/2-F15","v":54531.955022410577}]
[]
[]
[]
[null,null,null,null,null,null,null,null,null,null,null,null,"Prix","Coût t ee","Coût t prod"]
[null,null,null,null,null,null,null,null,null,null,"Gaz",null,5.1999999999999998E-2,{"$f":"N71*M81*1000","v":{"$error":"#DIV/0!"}},{"$f":"O71*M81*1000","v":{"$error":"#DIV/0!"}},null,"Coûts NRJ en 2016"]
[null,null,null,null,null,null,null,null,null,null,"Elec",null,0.16,{"$f":"N73*M82*1000","v":{"$error":"#DIV/0!"}},{"$f":"O73*M82*1000","v":{"$error":"#DIV/0!"}},null,"Coût t ee","Coût t prod"]
[null,null,null,null,null,null,null,null,null,null,"Coût",null,null,{"$f":"SUM(N81:N82)","v":{"$error":"#DIV/0!"}},{"$f":"SUM(O81:O82)","v":{"$error":"#DIV/0!"}},null,57.160631923185242,55.060853607639665]
[null,null,null,null,null,null,null,null,null,null,null,null,null,null,null,null,{"$f":"(N83-Q83)/Q83%","v":{"$error":"#DIV/0!"}},"% d'augmentation depuis 2021"]
[]
[]
[null,"Froid vibro fluidiseur","T°c","Volume",null,"Poids","W",null,null,null,null,null,"Enthalpie"]
[null,null,null,null,null,null,null,null,null,null,null,null,"kcal"]
[null,"TP avant refroidissement",{"$f":"Paramètres!C18","v":25},{"$f":"((22.41/273)*(C89+273))*((1/29)+((1/18)*G89))","v":0.85303713906782874},{"$f":"D89*F89","v":1706.0742781356576},{"$f":"F42","v":2000},{"$f":"G42","v":7.0000000000000001E-3},{"$f":"F89*G89","v":14},null,{"$f":"(((1.005+(1.88*G89))*C89)+(2487*G89))","v":42.863},{"$f":"J89/4.1855","v":10.24083144188269},{"$f":"J89*F89","v":85726},{"$f":"K89*F89","v":20481.662883765381}]
[null,"TP aprèst refroidissement",{"$f":"C42","v":35},{"$f":"((22.41/273)*(C90+273))*((1/29)+((1/18)*G90))","v":0.88166254641909825},{"$f":"D90*F90","v":1763.3250928381965},{"$f":"F89","v":2000},7.0000000000000001E-3,{"$f":"F90*G90","v":14},null,{"$f":"(((1.005+(1.88*G90))*C90)+(2487*G90))","v":53.044599999999996},{"$f":"J90/4.1855","v":12.673420140962847},{"$f":"J90*F90","v":106089.2},{"$f":"K90*F90","v":25346.840281925695}]
[]
[null,"Puissance à fournir","Kcal",null,null,null,null,null,null,null,null,null,{"$f":"M89-M90","v":-4865.1773981603146}]
[]
[null,"Electricité","Kwh",null,null,null,null,null,null,null,null,null,{"$f":"IF(M92/2250<=0,0,M92/2250)","v":0}]
[]
[]
[null,"Homogénéisateur","Kwh nominal",null,null,null,null,null,null,null,null,null,80]
[]
[null,null,"Kwh consommé",null,null,null,null,null,null,null,null,null,{"$f":"(M97*(Paramètres!K4/3200))*0.85","v":0}]

{"sheet":"Schema","index":2,"n_rows":48,"n_cols":95,"rows_kept":48,"cut":false,"hidden":false,"merged":[]}
["Tour 1 MSD",null,null,null,null,null,null,null,null,null,null,null,null,null,null,null,null,null,null,null,null,null,null,null,null,null,null,null,null,null,null,null,null,null,null,null,null,null,null,null,null,null,null,null,null,null,null,null,null,null,null,null,null,null,null,null,null,null,null,null,null,null,null,null,null,null,null,null,null,null,null,null,null,null,null,null,null,"Observations"]
[null,null,null,null,null,null,null,null,null,null,null,null,null,null,null,null,null,null,null,null,null,null,null,null,null,null,null,null,null,null,null,null,null,null,null,null,null,null,"Evaporation"]
[null,null,null,null,null,null,null,null,null,null,null,null,null,null,null,null,null,null,null,null,null,null,null,null,null,null,null,null,null,null,null,null,null,null,null,null,null,null,"Kg / h :",null,null,{"$f":"Paramètres!H32","v":0},null,null,null,null,null,null,null,null,null,null,null,null,null,null,null,null,null,null,null,null,null,null,null,null,null,null,null,null,null,null,null,null,null,null,null,"le :                                          ",null,{"$f":"NOW()","v":"2023-08-03T11:37:48.380"}]
[null,"Concentré ",null,null,null,null,null,"ES %",null,{"$f":"Paramètres!C5","v":49},null,null,null,null,null,null,null,null,null,null,"T°C :",{"$f":"Paramètres!C37","v":40}]
[null,"PB :",{"$f":"Paramètres!H4","v":0},null,null,"kg",null,"PHP :",null,220,null,"b",null,null,null,null,null,null,null,null,null,null,null,null,null,null,null,null,null,"Air sortant ",null,null,null,null,null,null,null,null,null,null,null,null,null,null,null,null,null,null,null,null,null,null,null,null,null,null,null,null,null,null,null,null,null,null,null,null,null,null,null,null,null,null,null,null,null,null,null,"Production :",null,null,null,null,null,{"$f":"Paramètres!C4","v":"Lait 14%"}]
[null,"MS :",{"$f":"Paramètres!H5","v":0},null,null,"kg",null,"PH1 :",null,100,null,"b",null,null,null,null,null,null,null,null,null,null,null,null,null,null,null,null,null,"T°C :",null,null,{"$f":"Paramètres!C52","v":72.567291121129003}]
[null,"T°C :",{"$f":"Paramètres!M4","v":60},null,null,null,null,"PH2 :",null,60,null,"b",null,null,null,null,null,null,null,null,null,null,null,null,null,null,null,null,null,"HR % :",null,null,{"$f":"Paramètres!E83","v":3.1935914236662541},null,null,null,null,null,null,null,null,null,null,null,null,null,"Delta p :",null,null,null,{"$f":"Paramètres!E85","v":198.56273636028473},null,null,null,null,null,null,null,null,null,null,null,null,null,null,null,null,null,null,null,null,null,null,null,null,null,null,"Heures fab. :",null,null,null,null,null,null,null,null,null,20]
[null,null,null,null,null,null,null,null,null,null,null,null,null,null,null,null,null,null,null,null,null,null,null,null,null,null,null,null,null,null,null,null,null,null,null,null,null,null,null,null,null,null,null,null,null,null,null,null,null,null,null,null,null,null,null,null,null,null,null,null,null,null,null,null,null,null,null,null,null,null,null,null,null,null,null,null,null,"Mise en chauffe :",null,null,null,null,null,null,null,null,null,1]
[null,null,null,null,null,null,null,null,null,null,null,null,null,null,null,null,null,null,null,null,null,null,null,null,null,null,null,null,null,null,null,null,null,null,null,null,null,null,null,null,null,null,null,null,null,null,null,null,null,null,null,null,null,null,null,null,null,null,null,null,null,null,null,null,null,null,null,null,null,null,null,null,null,null,null,null,null,"Temps de nettoyage :",null,null,null,null,null,null,null,null,null,3]
[null,null,null,null,null,null,null,null,null,null,null,null,null,null,null,null,null,null,null,null,null,null,null,null,null,null,null,null,null,null,null,null,null,null,null,null,null,null,null,null,null,null,null,null,null,null,null,null,null,null,null,null,null,null,null,null,null,null,null,null,null,null,null,null,null,null,null,null,null,null,null,null,null,null,null,null,null,"HF / HM :",null,null,null,null,null,null,null,null,null,{"$f":"CJ7/(CJ7+CJ8)","v":0.95238095238095233}]
[]
[null,null,null,null,null,null,null,null,null,null,null,null,null,null,null,null,null,null,null,null,null,null,null,null,null,null,null,null,null,null,null,null,null,null,null,null,null,null,null,null,null,null,null,null,null,null,null,null,null,null,null,null,null,null,null,null,null,null,null,null,null,null,null,null,null,null,null,null,null,null,null,null,null,null,null,null,null,"Consommations d'énergie :"]
[null,"Air filtres amont ",null,null,null,null,null,null,null,"Air amont ",null,null,null,null,null,null,null,null,null,null,null,null,null,null,null,null,null,null,null,null,null,null,null,null,null,null,null,null,null,null,null,null,null,null,null,null,null,null,null,null,null,null,null,null,null,null,null,null,null,null,null,null,null,null,null,null,null,null,null,null,null,null,null,null,null,null,null,"Vapeur kg :",null,null,null,null,null,null,null,null,null,{"$f":"Nrj!M62","v":831.3552473990477}]
[null,"T°C",null,null,{"$f":"Paramètres!C18","v":25},null,null,null,null,"T°C cogé :",null,null,{"$f":"Paramètres!C18","v":25},null,null,null,null,null,null,null,null,null,null,null,null,null,null,null,null,null,null,null,null,null,null,null,null,null,null,null,null,null,null,null,null,null,null,null,null,null,null,null,null,null,null,null,null,null,null,null,null,null,null,null,"Adjonction ",null,null,null,null,null,null,null,null,null,null,null,null,"Gaz brul. m3  :",null,null,null,null,null,null,null,null,null,{"$f":"Nrj!M66","v":0}]
[null,null,null,null,null,null,null,null,null,"T°C Vap : ",null,{"$f":"Paramètres!C19","v":71},null,null,null,null,null,null,null,null,null,null,null,null,null,null,null,null,null,null,null,null,null,null,null,null,null,null,null,null,null,null,null,null,null,null,null,null,null,null,null,null,null,null,null,null,null,null,null,null,null,null,null,null,"Qualité :",null,null,null,null,null,null,null,null,null,null,null,null,"Tot Gaz m3  :",null,null,null,null,null,null,null,null,null,{"$f":"Nrj!M69","v":65.615598991964774}]
[null,null,null,null,null,null,null,null,null,"T°C Gaz : ",null,{"$f":"Paramètres!C23","v":71},null,null,null,null,null,null,null,null,null,null,null,null,null,null,null,null,null,null,null,null,null,null,null,null,null,null,null,null,null,null,null,null,null,null,null,null,null,null,null,null,null,null,null,null,null,null,null,null,null,null,null,null,"Kg / h :",null,null,null,null,null,null,null,null,null,null,null,null,"Kwh élec :",null,null,null,null,null,null,null,null,null,{"$f":"Nrj!M73","v":215}]
[null,null,null,null,null,null,null,null,null,"w 1 :",null,null,{"$f":"Paramètres!G21","v":7.0000000000000001E-3}]
[null,null,null,null,null,null,null,null,null,"w 2 :",null,null,{"$f":"Paramètres!G23","v":7.0000000000000001E-3},null,null,null,null,null,null,null,null,null,null,null,null,null,null,null,null,null,null,null,null,null,null,null,null,null,null,null,null,null,null,null,null,null,null,null,null,null,null,null,null,null,null,null,null,null,null,null,null,null,null,null,"Réincorporation",null,null,null,null,null,null,null,null,null,null,null,null,"Ratios (HM comprises) :"]
[null,null,null,null,null,null,null,null,null,null,null,null,null,null,null,null,null,null,null,null,null,null,null,null,null,null,null,null,null,null,null,null,null,null,null,null,null,null,null,null,null,null,null,null,null,null,null,null,null,null,null,null,null,null,null,null,null,null,null,null,null,null,null,null,"Qualité :",null,null,null,null,null,null,null,null,null,null,null,null,"Vapeur t / t de poudre :",null,null,null,null,null,null,null,null,null,{"$f":"Nrj!O62","v":{"$error":"#DIV/0!"}}]
[null,null,null,null,null,null,null,null,null,null,null,null,null,null,null,null,null,null,null,null,null,null,null,null,null,null,null,null,null,null,null,null,null,null,null,null,null,null,null,null,null,null,null,null,null,null,null,null,null,null,null,null,null,null,null,null,null,null,null,null,null,null,null,null,"Poids kg :",null,null,null,null,null,null,null,null,null,null,null,null,"Gaz kw pcs / t de poudre :",null,null,null,null,null,null,null,null,null,{"$f":"(Nrj!O71*1000)/CJ10","v":{"$error":"#DIV/0!"}}]
[null,null,null,null,null,null,null,null,null,null,null,"Entrée LS",null,null,null,null,null,null,null,null,null,null,null,null,null,null,null,null,null,null,null,null,null,null,null,null,null,null,null,null,null,null,null,null,null,null,null,null,null,null,null,null,null,null,null,null,null,null,null,null,null,null,null,null,null,null,null,null,null,null,null,null,null,null,null,null,null,"Kwh(élec) / t de poudre :",null,null,null,null,null,null,null,null,null,{"$f":"(Nrj!O73*1000)/CJ10","v":{"$error":"#DIV/0!"}}]
[null,null,null,null,null,null,null,null,null,null,null,"T°c :",null,{"$f":"IF(L15<75,70,Paramètres!C25)","v":70}]
[null,null,null,null,null,null,null,null,null,null,null,null,null,null,null,null,null,null,null,null,null,null,null,null,null,null,null,null,null,null,null,null,null,null,null,null,null,null,null,null,null,null,null,null,null,null,null,null,null,null,null,null,null,null,null,null,null,null,null,null,null,null,null,null,null,null,null,null,null,null,null,null,null,null,null,null,null,"Simulation ",null,null,null,null,null,null,null,null,null,null,null,null,null,{"$f":"Paramètres!R33","v":122},null,null,"Ouverture B1"]
[]
[null,null,null,null,null,null,null,null,null,null,null,null,null,null,null,null,null,null,null,null,null,null,null,null,null,null,null,null,null,null,null,null,null,null,null,null,null,null,null,null,null,null,null,null,null,null,null,null,null,null,null,null,null,null,null,null,null,null,null,null,null,null,null,null,null,null,null,null,null,null,null,null,null,null,null,null,null,null,null,null,null,null,null,null,null,null,null,null,null,null,null,{"$f":"Paramètres!R35","v":182},null,null,"Ouverture B2"]
[null,null,null,null,null,null,null,null,null,null,null,null,null,null,null,null,null,null,"Lit statique",null,null,null,null,null,null,null,null,null,null,null,null,null,null,null,null,null,null,null,null,null,null,null,null,null,null,null,null,null,null,null,null,null,null,null,null,null,null,null,null,null,null,null,null,null,null,"Recyclage fines"]
[null,null,null,null,null,null,null,null,null,null,null,null,null,null,null,null,null,null,"Delta P LS :",null,null,null,null,{"$f":"Paramètres!C30","v":220},null,null,null,null,null,null,null,null,null,null,null,null,null,null,null,null,null,null,null,null,null,null,null,null,null,null,null,null,null,null,null,null,null,null,null,null,null,null,null,null,null,"Retour vibro",null,null,null,null,null,null,null,null,null,null,null,null,null,null,null,null,null,null,null,null,null,null,null,null,null,{"$f":"Paramètres!R37","v":238},null,null,"Ouverture B3"]
[null,null,null,null,null,null,null,null,null,null,null,null,null,null,null,null,null,null,"H LS (m) :",null,null,null,null,{"$f":"X27*0.3/100","v":0.66},null,null,null,null,null,null,null,null,null,null,null,null,null,null,null,null,null,null,null,null,null,null,null,null,null,null,null,null,null,null,null,null,null,null,null,null,null,null,null,null,null,"Retour chambre"]
[null,null,null,null,null,null,null,null,null,null,null,null,null,null,null,null,null,null,"T°C PL :",null,null,null,null,{"$f":"IF(L15<75,70,Paramètres!C29)","v":70},null,null,null,null,null,null,null,null,null,null,null,null,null,null,null,null,null,null,null,null,null,null,null,null,null,null,null,null,null,null,null,null,null,null,null,null,null,null,null,null,null,"x = oui",null,null,null,null,null,null,null,null,null,null,null,null,null,null,null,null,null,null,null,null,null,null,null,null,null,71,null,null,"Compteur = température d'entrée générée avec 2 macros Marche - Arrêt"]
[null,null,null,null,null,null,null,null,null,null,null,null,null,null,null,null,null,null,"T°C Prd :",null,null,null,null,{"$f":"X29-2","v":68}]
[null,null,null,null,null,null,null,null,null,null,null,null,null,null,null,null,null,null,null,null,null,null,null,null,null,null,null,null,null,null,null,null,null,null,null,null,null,null,null,null,null,null,null,null,null,null,null,null,null,null,null,null,null,null,null,null,null,null,null,null,null,null,null,null,null,null,null,null,null,null,null,null,null,null,null,null,null,null,null,null,null,null,null,null,null,null,null,null,null,null,null,"Possibilité de saisir une valeur dans le compteur pour vérifier l'évolution du système."]
[]
[null,null,null,null,null,null,null,null,null,null,null,null,null,null,null,null,null,null,null,null,null,null,null,null,null,null,null,null,null,null,null,null,null,null,null,null,null,null,null,null,null,null,null,null,null,null,null,null,null,null,null,null,null,null,null,null,null,null,null,null,null,null,null,null,null,null,null,null,null,null,null,null,null,null,null,null,null,null,null,null,null,null,null,null,null,null,null,null,null,null,null,"71°C = tour à l'arrêt"]
[null,null,null,null,null,null,null,null,null,null,null,null,null,null,null,null,null,null,null,null,null,null,null,null,null,null,null,null,null,null,null,null,null,null,null,null,null,null,null,null,null,null,null,null,null,null,null,null,null,null,null,null,null,null,null,null,null,null,null,null,null,null,null,null,null,null,null,null,null,null,null,null,null,null,null,null,null,null,null,null,null,null,null,null,null,null,null,null,null,null,null,"244°C = tour en marche"]
[]
[]
[null,"Lécithine",null,null,null,null,null,null,null,null,null,null,null,null,null,"T°C :",null,null,{"$f":"IF(L15<75,35,Paramètres!C57)","v":35},null,null,null,null,null,null,null,null,null,null,null,null,null,null,null,null,null,null,null,null,null,null,null,null,null,null,null,null,null,null,null,null,null,null,null,null,null,null,null,null,null,"Production"]
[null,"% :",null,null,null,null,0.5,null,null,null,null,null,null,null,null,null,null,null,null,null,null,null,null,null,null,null,null,null,null,null,null,null,null,null,null,null,null,null,null,null,null,null,null,null,null,null,null,null,null,null,null,null,null,null,null,null,null,null,null,null,"Débit kg / h :",null,null,null,null,null,null,{"$f":"Paramètres!H6","v":0}]
[null,"Débit kg / h :",null,null,null,null,{"$f":"IF(G41=0,0,BP38*G38%)","v":0},null,null,null,null,null,null,null,null,null,null,null,null,null,null,null,null,null,null,null,null,null,null,null,null,null,null,null,null,null,null,null,null,null,null,null,null,null,null,null,null,null,null,null,null,null,null,null,null,null,null,null,null,null,"Extrait sec % :",null,null,null,null,null,null,{"$f":"IF(BP38=0,0,Paramètres!C6)","v":0}]
[null,"T°C :",null,null,null,null,50]
[null,"Adjonction :"]
[null,"x = oui",null,null,null,null,null,null,null,null,null,null,null,null,null,null,null,null,null,null,null,null,null,null,null,null,"T°C :",null,null,{"$f":"Paramètres!C59","v":40}]
[]
[]
[null,null,null,null,null,null,null,null,null,null,null,null,null,null,null,null,null,null,null,"T°C :",null,null,{"$f":"Paramètres!C61","v":35}]
[]
[null,null,null,null,null,null,null,null,null,null,null,null,null,null,null,null,null,null,null,null,null,null,null,null,null,null,null,null,null,null,null,null,null,null,null,null,null,null,null,null,null,null,null,null,null,null,null,null,null,null,null,null,null,null,null,null,null,null,null,null,null,null,null,null,null,null,null,"x = oui"]
["NB : Quantités ramenées à l'heure de production"]

{"sheet":"Air humide","index":3,"n_rows":722,"n_cols":14,"rows_kept":722,"cut":false,"hidden":true,"merged":[]}
["T°c humide","T°c de rosée","Pv sat.Pe en Pa","P air sec Pa","ws gr/ kg as",null,"T°c humide","H kj / kg","ws kg/ kg as","v m3 / kg","T°c humide",null,null,"P atm Pa"]
[0,{"$f":"A2-0.1","v":-0.1},{"$f":"611.14*EXP(17.269*(((273.16+A2)-273.16)/((273.16+A2)-35.86)))","v":611.14},{"$f":"$N$2-C2","v":100713.86},{"$f":"I2*1000","v":3.7663959643892997},null,0,{"$f":"(((1.005+(1.88*(E2/1000)))*A2)+(2487*(E2/1000)))","v":9.3670267634361881},{"$f":"(18/29)*(C2/($N$2-C2))","v":3.7663959643892998E-3},{"$f":"((22.41/273)*(A2+273))*((1/28.96)+((1/18.1)*I2))","v":0.77848922284872735},0,null,null,101325]
[0.5,0.4,{"$f":"611.14*EXP(17.269*(((273.16+A3)-273.16)/((273.16+A3)-35.86)))","v":633.73823447394739},{"$f":"$N$2-C3","v":100691.26176552605},{"$f":"I3*1000","v":3.9065432226005008},null,0.5,{"$f":"(((1.005+(1.88*(E3/1000)))*A3)+(2487*(E3/1000)))","v":10.221745145236689},{"$f":"(18/29)*(C3/($N$2-C3))","v":3.9065432226005007E-3},{"$f":"((22.41/273)*(A3+273))*((1/28.96)+((1/18.1)*I3))","v":0.7800888644273074},0.5]
[1,0.9,{"$f":"611.14*EXP(17.269*(((273.16+A4)-273.16)/((273.16+A4)-35.86)))","v":657.07196185169926},100667.9280381483,4.0513178067064404,null,1,11.088243862755522,{"$f":"(18/29)*(C4/($N$2-C4))","v":4.05131780670644E-3},0.78169489178581186,1]
[1.5,1.4,681.16167322142337,100643.83832677858,4.2008533368502974,null,1.5,11.966868655156608,4.2008533368502977E-3,0.78330750275029559,1.5]
[2,1.9,706.02832654109068,100618.97167345892,4.3552867938754742,null,2,12.857974134713276,4.3552867938754739E-3,0.78492690055025127,2]
[2.5,2.4,731.69335459137551,100593.30664540862,4.5147585967539774,null,2.5,13.761923995531887,4.5147585967539776E-3,0.78655329395345819,2.5]
[3,2.9,758.1786730067455,100566.82132699326,4.6794126820166539,null,3,14.679091227701992,4.6794126820166541E-3,0.78818689740438808,3]
[3.5,3.4,785.50668838452327,100539.49331161547,4.8493965852589636,null,3.5,15.609858337070046,4.8493965852589634E-3,0.78982793116629602,3.5]
[4,3.9,813.7003064716929,100511.2996935283,5.0248615247995039,null,4,16.554617570842858,5.0248615247995036E-3,0.79147662146712405,4]
[4.5,4.4000000000000004,842.78294042920345,100482.2170595708,5.2059624875720232,null,4.5,17.513771149236479,5.2059624875720233E-3,0.79313320064935366,4.5]
[5,4.9000000000000004,872.77851917350927,100452.2214808265,5.392858317335425,null,5,18.487731503396155,5.3928583173354248E-3,0.79479790732394995,5]
[5.5,5.4,903.71149579507028,100421.28850420493,5.5857118052901793,null,5.5,19.476921519823378,5.5857118052901793E-3,0.7964709865285452,5.5]
[6,5.9,935.60685605351853,100389.39314394648,5.7846897831937172,null,6,20.4817747915572,5.7846897831937173E-3,0.79815268989001742,6]
[6.5,6.4,968.49012694918486,100356.50987305082,5.9899632190716652,null,6.5,21.502735876368284,5.9899632190716654E-3,0.79984327579162606,6.5]
[7,6.9,1002.3873853706591,100322.61261462934,6.2017073156263187,null,7,22.540260562236295,6.2017073156263184E-3,0.80154300954487523,7]
[7.5,7.4,1037.3252668180478,100287.67473318195,6.4201016114485174,null,7.5,23.594816140393888,6.4201016114485178E-3,0.80325216356628293,7.5]
[8,7.9,1073.3309742015704,100251.66902579843,6.6453300851440646,null,8,24.666881686233854,6.645330085144065E-3,0.80497101755923961,8]
[8.5,8.4,1110.4322867151302,100214.56771328487,6.8775812624910557,null,8.5,25.756948348389862,6.8775812624910556E-3,0.80669985870115524,8.5]
[9,8.9,1148.6575687844665,100176.34243121554,7.1170483267499609,null,9,26.865519646315761,7.1170483267499612E-3,0.80843898183609497,9]
[9.5,9.4,1188.0357790894955,100136.96422091051,7.3639292322541312,null,9.5,27.993111776704083,7.3639292322541308E-3,0.81018868967311963,9.5]
[10,9.9,1228.5964796604169,100096.40352033958,7.6184268214143183,null,10,29.140253929099998,7.6184268214143187E-3,0.81194929299055207,10]
[10.5,10.4,1270.3698450471602,100054.63015495284,7.880748945277297,null,10.5,30.307488611084409,7.8807489452772973E-3,0.81372111084640664,10.5]
[11,10.9,1313.3866715617226,100011.61332843828,8.1511085877852381,null,11,31.495371983417282,8.1511085877852378E-3,0.81550447079522481,11]
[11.5,11.4,1357.6783865929367,99967.321613407068,8.4297239938895299,null,11.5,32.704474205551151,8.4297239938895298E-3,0.81729970911157446,11.5]
[12,11.9,1403.277057993193,99921.722942006803,8.7168188016800965,null,12,33.9353797919443,8.7168188016800967E-3,0.81910717102048269,12]
[12.5,12.4,1450.2154035366293,99874.784596463374,9.0126221786990222,null,12.5,35.188687979623893,9.0126221786990222E-3,0.82092721093508525,12.5]
[13,12.9,1498.5268004482734,99826.473199551721,9.3173689626153813,null,13,36.465013107470767,9.317368962615381E-3,0.82276019270178558,13]
[13.5,13.4,1548.2452950036304,99776.754704996376,9.6312998064467408,null,13.5,37.764985007720654,9.6312998064467404E-3,0.8246064898532367,13.5]
[14,13.9,1599.4056121981712,99725.59438780183,9.9546613285218477,null,14,39.089249410200523,9.9546613285218469E-3,0.82646648586947036,14]
[14.5,14.4,1652.0431654861761,99672.956834513825,10.287706267388362,null,14.5,40.438468359843867,1.0287706267388362E-2,0.82834057444751386,14.5]
[15,14.9,1706.1940665883733,99618.805933411626,10.630693641879592,null,15,41.813320648055551,1.0630693641879591E-2,0.8302291597798519,15]
[15.5,15.4,1761.8951353677908,99563.104864632216,10.983888916564547,null,15.5,43.214502258524718,1.0983888916564547E-2,0.83213265684211279,15.5]
[16,15.9,1819.1839097732338,99505.81609022677,11.347564172816773,null,16,44.642726828113638,1.1347564172816772E-2,0.83405149169036608,16]
[16.5,16.399999999999999,1878.0986558497796,99446.901344150217,11.721998285748946,null,16.5,46.098726123481562,1.1721998285748946E-2,0.83598610176845423,16.5]
[17,16.899999999999999,1938.6783778156737,99386.321622184332,12.107477107272565,null,17,47.583250534135303,1.2107477107272566E-2,0.83793693622578158,17]
[17.5,17.399999999999999,2000.9628282049935,99324.037171795004,12.5042936555549,null,17.5,49.097069582632791,1.25042936555549E-2,0.83990445624602761,17.5]
[18,17.899999999999999,2064.9925180754335,99260.007481924564,12.912748311159042,null,18,50.640972452702158,1.2912748311159043E-2,0.84188913538725529,18]
[18.5,18.399999999999999,2130.8087272805501,99194.191272719443,13.333149020167173,null,18.5,52.215768536077171,1.3333149020167174E-2,0.8438914599339199,18.5]
[19,18.899999999999999,2198.4535148058017,99126.546485194194,13.765811504602434,null,19,53.822287998890644,1.3765811504602434E-2,0.84591192926130743,19]
[19.5,19.399999999999999,2267.9697291676862,99057.030270832314,14.211059480480586,null,19.5,55.461382368509632,1.4211059480480586E-2,0.84795105621295797,19.5]
[20,19.899999999999999,2339.4010188752882,98985.598981124713,14.669224883839739,null,20,57.133925141741798,1.4669224883839739E-2,0.85000936749165745,20]
[20.5,20.399999999999999,2412.791842953513,98912.208157046494,15.140648105114014,null,20.5,58.840812415389649,1.5140648105114014E-2,0.85208740406460859,20.5]
[21,20.9,2488.1874815273036,98836.812518472696,15.625678232236096,null,21,60.582963540179847,1.5625678232236095E-2,0.85418572158343287,21]
[21.5,21.4,2565.6340464660716,98759.365953533925,16.124673302873177,null,21.5,62.361321799147724,1.6124673302873177E-2,0.85630489081967731,21.5]
[22,21.9,2645.178492087628,98679.821507912377,16.638000566222235,null,22,64.176855111613648,1.6638000566222236E-2,0.85844549811654158,22]
[22.5,22.4,2726.8686259208284,98598.131374079167,17.166036754812481,null,22.5,66.030556763947203,1.7166036754812482E-2,0.86060814585758116,22.5]
[23,22.9,2810.7531195261718,98514.246880473831,17.709168366786532,null,23,67.92344616837795,1.7709168366786533E-2,0.86279345295317167,23]
[23.5,23.4,2896.8815193735572,98428.118480626435,18.26779195915671,null,23.5,69.856569651178276,1.8267791959156711E-2,0.86500205534557595,23.5]
[24,23.9,2985.3042577764168,98339.695742223586,18.84231445255929,null,24,71.831001271614426,1.8842314452559291E-2,0.86723460653348527,24]
[24.5,24.4,3076.0726638814035,98248.927336118591,19.433153448057428,null,24.5,73.847843673136353,1.943315344805743E-2,0.86949177811696587,24.5]
[25,24.9,3169.2389747128163,98155.761025287182,20.04073755657295,null,25,75.908228968355843,2.004073755657295E-2,0.87177426036378181,25]
[25.5,25.4,3264.8563462709462,98060.143653729057,20.665506741558989,null,25.5,78.013319659447532,2.0665506741558988E-2,0.87408276279812691,25.5]
[26,25.9,3362.9788646834731,97962.021135316521,21.307912675558089,null,26,80.164309595694249,2.130791267555809E-2,0.87641801481284654,26]
[26.5,26.4,3463.6615574090938,97861.338442590903,21.968419111326412,null,26.5,82.362424969995061,2.1968419111326413E-2,0.87878076630629709,26.5]
[27,26.9,3566.9604044924904,97758.039595507507,22.647502268241489,null,27,84.608925356252513,2.2647502268241488E-2,0.8811717883450485,27]
[27.5,27.4,3672.9323498697863,97652.067650130208,23.345651234751315,null,27.5,86.905104789663156,2.3345651234751314E-2,0.8835918738537063,27.5]
[28,27.9,3781.6353127235916,97543.364687276407,24.063368387664426,null,28,89.252292892048075,2.4063368387664427E-2,0.88604183833319905,28]
[28.5,28.4,3893.1281988867518,97431.871801113244,24.801169829125755,null,28.5,91.651856044480311,2.4801169829125756E-2,0.88852252060895298,28.5]
[29,28.9,4007.4709122938889,97317.529087706105,25.55958584217074,null,29,94.105198609593771,2.5559585842170742E-2,0.89103478361045896,29]
[29.5,29.4,4124.7243664798416,97200.275633520156,26.339161365801036,null,29.5,96.613764206094501,2.6339161365801035E-2,0.89357951518381795,29.5]
[30,29.9,4244.95049612404,97080.049503875955,27.140456490578966,null,30,99.179037038138546,2.7140456490578967E-2,0.89615762893894824,30]
[30.5,30.4,4368.2122686399443,96956.787731360062,27.964046975796006,null,30.5,101.80254328239681,2.7964046975796006E-2,0.89877006513322888,30.5]
[31,30.9,4494.573695808529,96830.426304191467,28.810524789331009,null,31,104.48585253578844,2.8810524789331007E-2,0.90141779159346502,31]
[31.5,31.4,4624.0998454549463,96700.900154545059,29.680498671380189,null,31.5,107.23057932704167,2.9680498671380187E-2,0.9041018046781627,31.5]
[32,{"$f":"A66-0.1","v":31.9},4756.8568531673363,{"$f":"$N$2-C66","v":96568.143146832663},30.574594723309719,null,32,{"$f":"(((1.005+(1.88*(E66/1000)))*A66)+(2487*(E66/1000)))","v":110.03838469542558},3.0574594723309718E-2,{"$f":"((22.41/273)*(A66+273))*((1/28.96)+((1/18.1)*I66))","v":0.90682313028222505},32]
[32.5,32.4,4892.9119340568632,96432.088065943142,{"$f":"I67*1000","v":31.493457022956562},null,32.5,112.91097784019561,3.1493457022956563E-2,0.90958282488630571,32.5]
[33,32.9,{"$f":"611.14*EXP(17.269*(((273.16+A68)-273.16)/((273.16+A68)-35.86)))","v":5032.3333945579889},96292.666605442006,32.437748267782361,null,33,115.85011784450795,{"$f":"(18/29)*(C68/($N$2-C68))","v":3.2437748267782361E-2},0.91238197665318588,33]
[33.5,33.4,5175.190644267981,96149.809355732024,33.408150447369543,null,33.5,118.85761547778338,3.3408150447369542E-2,0.91522170657369151,33.5]
[34,33.9,5321.5542078247017,96003.445792175306,34.405365546839917,null,34,121.93533508074486,3.4405365546839914E-2,0.91810316966481254,34]
[34.5,34.4,5471.4957368216355,95853.504263178358,35.430116282871758,null,34.5,125.08519653760914,3.5430116282871758E-2,0.92102755622285448,34.5]
[35,34.9,5625.0880217591912,95699.911978240809,36.483146874095681,null,35,128.30917734019144,3.6483146874095679E-2,0.92399609313462738,35]
[35.5,35.4,5782.4050040312259,95542.594995968771,37.565223847759377,null,35.5,131.60931474897703,3.7565223847759378E-2,0.92701004524985864,35.5]
[36,35.9,5943.5217879457796,95381.478212054222,38.677136884670041,null,36,134.98770805652885,3.8677136884670039E-2,0.93007071681822728,36]
[36.5,36.4,6108.5146527790366,95216.485347220965,39.819699704550345,null,36.5,138.44652095894295,3.9819699704550349E-2,0.93317945299461535,36.5]
[37,36.9,6277.4610648613852,95047.538935138611,40.993750994078646,null,37,141.98798404142173,4.0993750994078648E-2,0.93633764141642151,37]
[37.5,37.4,6450.4396896946337,94874.560310305373,42.200155380031056,null,37.5,145.61439738442942,4.2200155380031058E-2,0.93954671385701072,37.5]
[38,37.9,6627.5304040992705,94697.469595900737,43.439804450098379,null,38,149.32813329730971,4.3439804450098381E-2,0.94280814795964751,38]
[38.5,38.4,6808.8143083907507,94516.185691609251,44.7136178241187,null,38.5,153.13163918669292,4.4713617824118701E-2,0.94612346905654254,38.5]
[39,38.9,6994.3737385836848,94330.626261416313,46.022544278646585,null,39,157.02744056750441,4.6022544278646584E-2,0.94949425207794602,39]
[39.5,39.4,7184.2922786229947,94140.70772137701,47.367562927974092,null,39.5,161.0181442249029,4.7367562927974088E-2,0.95292212355654771,39.5]
[40,39.9,7378.6547726408189,93946.345227359183,48.749684464925451,null,40,165.10644153603198,4.8749684464925454E-2,0.95640876373279526,40]
[40.5,40.4,7577.5473372381693,93747.452662761832,50.169952464972297,null,40.5,169.2951119610691,5.0169952464972301E-2,0.959955908767126,40.5]
[41,40.9,7781.0573737902514,93543.942626209755,51.629444757457165,null,41,173.58702671370077,5.1629444757457163E-2,0.96356535306550706,41]
[41.5,41.4,7989.273580774382,93335.726419225612,53.129274867972569,null,41.5,177.98515262184699,5.3129274867972566E-2,0.96723895172512375,41.5]
[42,41.9,8202.2859661193343,93122.714033880664,54.670593536222142,null,42,182.49255619020454,5.467059353622214E-2,0.97097862310752703,42]
[42.5,42.4,8420.1858595751073,92904.814140424889,56.254590313993454,null,42.5,187.11240787698978,5.6254590313993456E-2,0.9747863515470615,42.5]
[43,42.9,8643.0659251019806,92681.934074898018,57.88249524819696,null,43,191.84798659813009,5.7882495248196962E-2,0.97866419020294715,43]
[43.5,43.4,8871.0201732777332,92453.979826722265,59.555580654277286,null,43.5,196.70268447309439,5.9555580654277289E-2,0.98261426406397823,43.5]
[44,43.9,9104.1439737219407,92220.856026278052,61.275162985683941,null,44,201.68001182757172,6.1275162985683938E-2,0.98663877311545733,44]
[44.5,44.4,9342.5340675363059,91982.465932463689,63.0426048054996,null,44.5,206.78360246930561,6.30426048054996E-2,0.99073999567866167,44.5]
[45,44.9,9586.2885797597028,91738.711420240303,64.859316866767401,null,45,212.01721925457903,6.4859316866767394E-2,0.99492029193390286,45]
[45.5,45.4,9835.5070318371127,91489.492968162886,66.726760308544016,null,45.5,217.38475996414181,6.672676030854402E-2,0.99918210763905457,45.5]
[46,45.9,10090.290354101055,91234.70964589894,68.646448975223322,null,46,222.8902635087577,6.8646448975223318E-2,1.0035279780562985,46]
[46.5,46.4,10350.740898264583,90974.259101735413,70.619951867245163,null,46.5,228.5379164860733,7.0619951867245165E-2,1.0079605321008069,46.5]
[47,46.9,10616.962449924635,90708.037550075358,72.648895731916468,null,47,234.33206011214838,7.2648895731916463E-2,1.0124824967261086,47]
[47.5,47.4,10889.060241074585,90435.939758925408,74.734967803739607,null,47.5,240.27719755277434,7.4734967803739602E-2,1.0170967015620218,47.5]
[48,47.9,11167.14096262497,90157.859037375034,76.879918704369842,null,48,246.37800168165012,7.6879918704369846E-2,1.0218060838222618,48]
[48.5,48.4,11451.312776931138,89873.68722306886,79.085565513110822,null,48.5,252.63932329459206,7.9085565513110828E-2,1.0266136935001609,48.5]
[49,48.9,11741.685330326769,89583.314669673229,81.35379501971822,null,49,259.06619981125561,8.135379501971822E-2,1.0315226988723996,49]
[49.5,49.4,12038.369765662128,89286.630234337877,83.686567172217224,null,49.5,265.66386449835079,8.368656717221723E-2,1.0365363923322259,49.5]
[50,49.9,12341.478734845845,88983.521265154151,86.085918733459721,null,50,272.43775625105951,8.6085918733459721E-2,1.0416581965753622,50]
[50.5,50.4,12651.126411389183,88673.873588610819,88.553967161262335,null,50.5,279.39352997234965,8.8553967161262334E-2,1.0468916711636895,50.5]
[51,50.9,12967.428502951529,88357.57149704847,91.092914728182393,null,51,286.53706759312769,9.1092914728182386E-2,1.0522405194938531,51]
[51.5,51.4,13290.502263886183,88034.497736113815,93.705052898321384,null,51.5,293.87448977974077,9.3705052898321387E-2,1.0577085962001851,51.5]
[52,51.9,13620.466507785004,87704.533492214992,96.392766979997731,null,52,301.41216837921894,9.6392766979997727E-2,1.0632999150237932,52]
[52.5,52.4,13957.44162002106,87367.558379978946,99.15854107472947,null,52.5,309.15673965692798,9.9158541074729475E-2,1.0690186571823745,52.5]
[53,52.9,14301.549570287951,87023.450429712044,102.00496334471283,null,53,317.115118385968,0.10200496334471283,1.0748691802782537,53]
[53.5,53.4,14652.913925134784,86672.086074865219,104.93473162290115,null,53.5,325.29451285278657,0.10493473162290115,1.0808560277854002,53.5]
[54,53.9,15011.659860495558,86313.340139504435,107.95065939189654,null,54,333.70244084911201,0.10795065939189653,1.0869839391597305,54]
[54.5,54.4,15377.914174211912,85947.08582578809,111.05568216018153,null,54.5,342.34674672650368,0.11105568216018154,1.0932578606209231,54.5]
[55,54.9,15751.805298548024,85573.194701451983,114.25286426676882,null,55,351.235619596638,0.11425286426676882,1.0996829566582882,55]
[55.5,55.4,16133.463312696596,85191.536687303407,117.54540614815399,null,55.5,360.37761276795732,0.11754540614815398,1.1062646223179675,55.5]
[56,55.9,16523.019955274685,84801.980044725322,120.93665210455495,null,56,369.78166451759569,0.12093665210455495,1.1130084963339915,56]
[56.5,56.4,16920.608636808378,84404.391363191622,124.43009860584137,null,56.5,379.45712030663992,0.12443009860584137,1.1199204751714935,56.5]
[57,56.9,17326.364452205096,83998.635547794896,128.02940318133619,null,57,389.41375655689507,0.12802940318133618,1.1270067280567737,57]
[57.5,57.4,17740.424193212282,83584.575806787718,131.73839394185302,null,57.5,399.6618061185028,0.13173839394185302,1.1342737130759728,57.5]
[58,57.9,18162.92636086166,83162.07363913834,135.56107978697074,null,58,410.21198557016749,0.13556107978697074,1.1417281944319535,58]
[58.5,58.4,18594.011177897592,82730.988822102401,139.50166135567744,null,58.5,421.07552450746721,0.13950166135567743,1.1493772609576656,58.5]
[59,58.9,19033.820601188585,82291.179398811422,143.56454278422902,null,59,432.26419699000428,0.14356454278422903,1.1572283459939283,59]
[59.5,59.4,19482.498334120854,81842.501665879143,147.7543443414084,null,59.5,443.79035533511262,0.14775434434140841,1.1652892487502775,59.5]
[60,59.9,19940.189838972648,81384.810161027359,152.07591601843171,null,60,455.66696646471877,0.15207591601843171,1.1735681572794665,60]
[60.5,60.4,20407.042349268399,80917.957650731609,156.53435215862405,null,60.5,467.90765103301987,0.15653435215862405,1.1820736732095267,60.5]
[61,60.9,20883.204882111491,80441.795117888512,161.13500722076981,null,61,480.52672558613239,0.16113500722076982,1.1908148383921295,61]
[61.5,61.4,21368.828250494556,79956.171749505447,165.88351277986294,null,61.5,493.53924803112687,0.16588351277986293,1.1998011636426054,61.5]
[62,61.9,21864.065075586092,79460.934924413916,170.78579587997268,null,62,506.96106672126166,0.17078579587997267,1.2090426597655501,62]
[62.5,62.4,22369.069798992532,78955.930201007461,175.84809886626059,null,62.5,520.80887349717568,0.1758480988662606,1.2185498710807721,62.5]
[63,62.9,22883.99869499437,78441.00130500563,181.07700083700513,null,63,535.10026106076657,0.18107700083700512,1.2283339116877032,63]
[63.5,63.4,23409.009882755399,77915.990117244597,186.47944087203882,null,63.5,549.85378510006456,0.18647944087203883,1.2384065047326847,63.5]
[64,{"$f":"A130-0.1","v":63.9},23944.263338504061,{"$f":"$N$2-C130","v":77380.736661495932},192.06274321149945,null,64,{"$f":"(((1.005+(1.88*(E130/1000)))*A130)+(2487*(E130/1000)))","v":565.08903163020682},0.19206274321149946,{"$f":"((22.41/273)*(A130+273))*((1/28.96)+((1/18.1)*I130))","v":1.2487800249731025},64]
[64.5,64.400000000000006,24489.920907685515,76835.079092314481,{"$f":"I131*1000","v":197.83464457852654},null,64.5,580.82669006838762,0.19783464457852654,1.2594675449657202,64.5]
[65,64.900000000000006,{"$f":"611.14*EXP(17.269*(((273.16+A132)-273.16)/((273.16+A132)-35.86)))","v":25046.146317083694},76278.853682916306,203.80332386182954,null,65,597.08863262028558,{"$f":"(18/29)*(C132/($N$2-C132))","v":0.20380332386182953},1.2704828852442349,65]
[65.5,65.400000000000006,25613.105186911922,75711.894813088074,209.97743439926327,null,65.5,613.89800062289305,0.20997743439926328,1.2818406688936952,65.5]
[66,65.900000000000006,26190.965042871303,75134.034957128693,216.36613913213142,null,66,631.27929856512571,0.21636613913213143,1.2935563809777613,66]
[66.5,66.400000000000006,26779.895328175659,74545.104671824345,222.97914893238143,null,66.5,649.25849659435892,0.22297914893238144,1.3056464333296096,66.5]
[67,66.900000000000006,27380.067415541838,73944.932584458162,229.82676444176022,null,67,667.86314241574189,0.22982676444176023,1.3181282352796932,67]
[67.5,67.400000000000006,27991.65461914468,73333.345380855317,236.91992180405794,null,67.5,687.12248360362707,0.23691992180405794,1.3310202709646559,67.5]
[68,67.900000000000006,28614.832206535131,72710.167793464876,244.27024271957612,null,68,707.0676014728565,0.24427024271957612,1.3443421839428662,68]
[68.5,68.400000000000006,29249.777410520757,72075.222589479235,251.89008930589225,null,68.5,727.73155780456682,0.25189008930589224,1.3581148699349026,68.5]
[69,68.900000000000006,29896.669441007569,71428.330558992428,259.79262431195747,null,69,749.14955588958549,0.25979262431195749,1.3723605786137638,69]
[69.5,69.400000000000006,30555.689496801966,70769.310503198038,267.99187730489916,null,69.5,771.35911754594235,0.26799187730489915,1.3871030254918659,69.5]
[70,69.900000000000006,31227.020777371839,70097.979222628157,276.50281753217757,null,70,794.4002779897603,0.27650281753217759,1.4023675150926604,70]
[70.5,70.400000000000006,31910.848494565973,69414.151505434027,285.34143425783634,null,70.5,818.31580069577262,0.28534143425783631,1.4181810767571634,70.5]
[71,70.900000000000006,32607.359884290327,68717.64011570967,294.52482548270854,null,71,843.15141468092793,0.29452482548270853,1.434572614623524,71]
[71.5,71.400000000000006,33316.744218140528,68008.25578185948,304.07129608727837,null,71.5,868.95607698911317,0.3040712960872784,1.4515730735355739,71.5]
[72,71.900000000000006,34039.192814989488,67285.807185010519,314.00046658561655,null,72,895.78226355545735,0.31400046658561653,1.4692156228893947,72]
[72.5,72.400000000000006,34774.899052528795,66550.100947471205,324.33339385324803,null,72.5,923.68629209522567,0.32433339385324805,1.4875358607218385,72.5]
[73,72.900000000000006,35524.058378763562,65800.941621236445,335.09270539562124,null,73,952.72868120740509,0.33509270539562125,1.5065720406894729,73]
[73.5,73.400000000000006,36286.868323458897,65038.131676541103,346.30274896255003,null,73.5,982.97455052150701,0.34630274896255003,1.5263653249899589,73.5]
[74,73.900000000000006,37063.52850953782,64261.47149046218,357.98975959447796,null,74,1014.4940674662505,0.35798975959447799,1.5469600667520189,74]
[74.5,74.400000000000006,37854.240664428813,63470.759335571187,370.18204651681339,null,74.5,1047.3629471224597,0.37018204651681341,1.5684041259786943,74.5]
[75,74.900000000000006,38659.208631362992,62665.791368637008,382.91020268912314,null,75,1081.6630126670157,0.38291020268912312,1.590749223788803,75]
[75.5,75.400000000000006,39478.638380618773,61846.361619381227,396.20734027890978,null,75.5,1117.482825152837,0.3962073402789098,1.6140513404841146,75.5]
[76,75.900000000000006,40312.7380207143,61012.2619792857,410.10935588043174,null,76,1154.9183928428297,0.41010935588043174,1.6383711639007723,76]
[76.5,76.400000000000006,41161.717809545567,60163.282190454433,424.65522995626418,null,76.5,1194.0739720735392,0.4246552299562642,1.6637745956145749,76.5]
[77,76.900000000000006,42025.790165470047,59299.209834529953,439.88736576662666,null,77,1235.0629737299776,0.43988736576662668,1.6903333239007017,77]
[77.5,77.400000000000006,42905.169678334678,58419.830321665322,455.85197399800177,null,77.5,1278.008991944539,0.45585197399800176,1.718125473948551,77.5]
[78,77.900000000000006,43800.07312044681,57524.92687955319,472.5995104449197,null,78,1323.0469746881583,0.47259951044491971,1.7472363477635033,78]
[78.5,78.400000000000006,44710.71945748802,56614.28054251198,490.18517548306613,null,78.5,1370.3245596241763,0.49018517548306612,1.7777592685275725,78.5]
[79,78.900000000000006,45637.329859369311,55687.670140630689,508.66948575631022,null,79,1420.0036031004706,0.50866948575631021,1.8097965470384754,79]
[79.5,79.400000000000006,46580.127711026675,54744.872288973325,528.11893055904602,null,79.5,1472.2619356617026,0.52811893055904602,1.8434605913270694,79.5]
[80,79.900000000000006,47539.338623156662,53785.661376843338,548.60672792313426,null,80,1527.2953842244742,0.54860672792313425,1.8788751848265388,80]
[80.5,80.400000000000006,48515.190442890467,52809.809557109533,570.21369853752333,null,80.5,1585.3201093994894,0.57021369853752335,1.9161769637390678,80.5]
[81,80.900000000000006,49507.91326440611,51817.08673559389,593.02927949598109,null,81,1646.5753167881528,0.59302927949598105,1.9555171307835482,81]
[81.5,81.400000000000006,50517.739439477446,50807.260560522554,617.15270468927258,null,81.5,1711.3264139747114,0.61715270468927264,1.997063450657661,81.5]
[82,81.900000000000006,51544.903587959532,49780.096412040468,642.6943847012634,null,82,1779.8687010975889,0.64269438470126339,2.0410025827636731,82]
[82.5,82.4,52589.642608209084,48735.357391790916,669.77752668800645,null,82.5,1852.5317032623818,0.6697775266880065,2.0875428196282981,82.5]
[83,82.9,53652.195687439234,47672.804312560766,698.54004438554352,null,83,1929.684278912767,0.69854004438554351,2.1369173157885761,83]
[83.5,83.4,54732.804312008324,46592.195687991676,729.13682073573887,null,83.5,2011.7406712888787,0.72913682073573882,2.1893879127827169,83.5]
[84,83.9,55831.712277640851,45493.287722359149,761.74240148975673,null,84,2099.1677125482875,0.76174240148975669,2.2452496927137813,84]
[84.5,84.4,56949.165699580604,44375.834300419396,796.55421870221073,null,84.5,2192.4934450954315,0.79655421870221077,2.3048364275998554,84.5]
[85,84.9,58085.413022674889,43239.586977325111,833.79646985290481,null,85,2292.3174964066684,0.83379646985290479,2.3685271370705054,85]
[85.5,85.4,59240.705031388752,42084.294968611248,873.72481362770827,null,85.5,2399.3236380346284,0.87372481362770826,2.436754026635259,85.5]
[86,85.9,60415.294859748967,40909.705140251033,916.63209023576906,null,86,2514.2950847656771,0.91663209023576908,2.510012157943033,86]
[86.5,86.4,61609.438001216447,39715.561998783553,962.85533689571128,null,86.5,2638.1332577456142,0.96285533689571123,2.5888713085402473,86.5]
[87,86.9,62823.392318486331,38501.607681513669,1012.7844540280124,null,87,2771.8809624684886,1.0127844540280124,2.6739906221675254,87]
[87.5,87.4,64057.418053215704,37267.581946784296,1066.8729937847861,null,87.5,2916.7512430203606,1.0668729937847861,2.7661368468932266,87.5]
[88,87.9,65311.777835677101,36013.222164322899,1125.6517031037481,null,88,3074.1636033805053,1.1256517031037481,2.8662072298031602,88]
[88.5,88.4,66586.736694337465,34738.263305662535,1189.7456782512113,null,88.5,3245.7898877581988,1.1897456782512112,2.9752585169558392,88.5]
[89,88.9,67882.562065362552,33442.437934637448,1259.8963066903166,null,89,3433.6129647742414,1.2598963066903166,3.0945440463684979,89]
[89.5,89.4,69199.523802044481,32125.476197955519,1336.9896309745498,null,89.5,3640.0025875414826,1.3369896309745497,3.2255616975139394,89.5]
[90,89.9,70537.894184153469,30787.105815846531,1422.0934400145916,null,90,3867.8145953667577,1.4220934400145915,3.3701165945467588,90]
[90.5,90.4,71897.947927211164,29427.052072788836,1516.506389976139,null,90.5,4120.5222890611985,1.5165063899761391,3.5304041457651389,90.5]
[91,90.9,73279.962191686966,28045.037808313034,1621.8239666741838,null,91,4402.3928493373151,1.6218239666741838,3.7091215538245645,91]
[91.5,91.4,74684.21659211423,26640.78340788577,1740.0284343612727,null,91.5,4718.7279075353108,1.7400284343612726,3.9096198752385343,91.5]
[92,91.9,76110.993206127998,25214.006793872002,1873.6136035079921,null,92,5076.197240787119,1.8736136035079922,4.1361149418036041,92]
[92.5,92.4,77560.576583422066,23764.423416577934,2025.7612267990014,null,92.5,5483.3105483894633,2.0257612267990015,4.3939855601426219,92.5]
[93,92.9,79033.253754624457,22291.746245375543,2200.5957936242116,null,93,5951.0989073006713,2.2005957936242115,4.6902042448451624,93]
[93.5,93.4,80529.314240092906,20795.685759907094,2403.5616263888733,null,93.5,6494.1233275157638,2.4035616263888731,5.0339747043010563,93.5]
[94,93.9,82049.050058626279,19275.949941373721,2641.9967235339009,null,94,7132.0095124117224,2.641996723533901,5.4377019292094921,94]
[94.5,94.4,83592.755736094492,17732.244263905508,2926.0345143317272,null,94.5,7891.8596289591796,2.926034514331727,5.9185166198811947,94.5]
[95,94.9,85160.728313983927,16164.271686016073,3270.0751458642453,null,95,8812.1873088157317,3.2700751458642454,6.5007624145315877,95]
[95.5,95.4,86753.267357858975,14571.732642141025,3695.2953312982272,null,95.5,9949.6303127199753,3.6952953312982273,7.2202388179151074,95.5]
[96,{"$f":"A194-0.1","v":95.9},88370.674965739425,{"$f":"$N$2-C194","v":12954.325034260575},4234.1660894545485,null,96,{"$f":"(((1.005+(1.88*(E194/1000)))*A194)+(2487*(E194/1000)))","v":11391.033360298219},4.2341660894545488,{"$f":"((22.41/273)*(A194+273))*((1/28.96)+((1/18.1)*I194))","v":8.1318384942961579},96]
[96.5,96.4,90013.255776390812,11311.744223609188,{"$f":"I195*1000","v":4939.1407358898014},null,96.5,13276.684422463064,4.9391407358898016,9.3242344206649719,96.5]
[97,96.9,{"$f":"611.14*EXP(17.269*(((273.16+A196)-273.16)/((273.16+A196)-35.86)))","v":91681.316977530849},9643.6830224691512,5900.8207640120445,null,97,15848.899914623191,{"$f":"(18/29)*(C196/($N$2-C196))","v":5.9008207640120443},10.950589526836797,97]
[97.5,97.4,{"$f":"611.14*EXP(17.269*(((273.16+A197)-273.16)/((273.16+A197)-35.86)))","v":93375.168313947477},7949.8316860525229,7290.3431558346147,null,97.5,19565.390829025171,7.2903431558346146,13.300212953128732,97.5]
[98,97.9,{"$f":"611.14*EXP(17.269*(((273.16+A198)-273.16)/((273.16+A198)-35.86)))","v":95095.1220955303},6229.8779044697003,9474.4326369069622,null,98,25406.973437011355,9.4744326369069629,16.99305726849909,98]
[98.5,98.4,{"$f":"611.14*EXP(17.269*(((273.16+A199)-273.16)/((273.16+A199)-35.86)))","v":96841.493205214734},4483.5067947852658,13406.584572111758,null,98.5,35923.799661905592,13.406584572111759,23.641017851976326,98.5]
[99,98.9,{"$f":"611.14*EXP(17.269*(((273.16+A200)-273.16)/((273.16+A200)-35.86)))","v":98614.59910683721},2710.4008931627905,22583.028831267551,null,99,60466.641029437917,22.583028831267551,39.154513288494641,99]
[99.5,99.4,{"$f":"610.472*EXP(17.269*(((273.16+A201)-273.16)/((273.16+A201)-35.86)))","v":100305.00258029325},1019.9974197067495,61037.681332105356,null,99.5,163318.41964292966,61.037681332105358,104.17159583976873,99.5]
[100,99.9,101419.04,-94.039999999993597,null,null,100,null,null,null,100]
[100.5,100.4,{"$f":"((A203/100)^4)*100000","v":102015.05006249994},null,null,null,100.5,null,null,null,100.5]
[101,100.9,104060.401,null,null,null,101,null,null,null,101]
[101.5,101.4,106136.35506249995,null,null,null,101.5,null,null,null,101.5]
[102,101.9,108243.216,null,null,null,102,null,null,null,102]
[102.5,102.4,110381.28906249997,null,null,null,102.5,null,null,null,102.5]
[103,102.9,112550.88099999999,null,null,null,103,null,null,null,103]
[103.5,103.4,114752.30006249997,null,null,null,103.5,null,null,null,103.5]
[104,103.9,116985.85600000001,null,null,null,104,null,null,null,104]
[104.5,104.4,119251.86006249995,null,null,null,104.5,null,null,null,104.5]
[105,104.9,121550.625,null,{"$f":"I212*1000","v":75445.215517241377},null,105,null,{"$f":"(18/29)*(C212)/1000","v":75.44521551724138},{"$f":"((22.41/273)*(A212+273))*((1/29)+((1/18)*I212))","v":131.12591807029179},105]
[105.5,105.4,123882.46506249998,null,null,null,105.5,null,null,null,105.5]
[106,105.9,126247.69600000003,null,null,null,106,null,null,null,106]
[106.5,106.4,128646.63506249996,null,null,null,106.5,null,null,null,106.5]
[107,106.9,131079.601,null,null,null,107,null,null,null,107]
[107.5,107.4,133546.9140625,null,null,null,107.5,null,null,null,107.5]
[108,107.9,136048.89600000004,null,null,null,108,null,null,null,108]
[108.5,108.4,138585.87006249998,null,null,null,108.5,null,null,null,108.5]
[109,108.9,141158.16100000002,null,null,null,109,null,null,null,109]
[109.5,109.4,143766.09506250001,null,null,null,109.5,null,null,null,109.5]
[110,109.9,146410.00000000003,null,{"$f":"I222*1000","v":90875.172413793131},null,110,null,{"$f":"(18/29)*(C222)/1000","v":90.875172413793138},{"$f":"((22.41/273)*(A222+273))*((1/29)+((1/18)*I222))","v":159.81109666540362},110]
[110.5,110.4,149090.20506250003,null,null,null,110.5,null,null,null,110.5]
[111,110.9,151807.04100000006,null,null,null,111,null,null,null,111]
[111.5,111.4,154560.84006250001,null,null,null,111.5,null,null,null,111.5]
[112,111.9,157351.93600000005,null,null,null,112,null,null,null,112]
[112.5,112.4,160180.6640625,null,null,null,112.5,null,null,null,112.5]
[113,112.9,163047.36099999992,null,null,null,113,null,null,null,113]
[113.5,113.4,165952.3650625,null,null,null,113.5,null,null,null,113.5]
[114,113.9,168896.01599999997,null,null,null,114,null,null,null,114]
[114.5,114.4,171878.65506250001,null,null,null,114.5,null,null,null,114.5]
[115,114.9,174900.62499999994,null,{"$f":"I232*1000","v":108559.00862068962},null,115,null,{"$f":"(18/29)*(C232)/1000","v":108.55900862068962},{"$f":"((22.41/273)*(A232+273))*((1/29)+((1/18)*I232))","v":193.18807710306928},115]
[115.5,115.4,177962.2700625,null,null,null,115.5,null,null,null,115.5]
[116,115.9,181063.93599999996,null,null,null,116,null,null,null,116]
[116.5,116.4,184205.97006250004,null,null,null,116.5,null,null,null,116.5]
[117,116.9,187388.72099999996,null,null,null,117,null,null,null,117]
[117.5,117.4,190612.53906250006,null,null,null,117.5,null,null,null,117.5]
[118,117.9,193877.77599999995,null,null,null,118,null,null,null,118]
[118.5,118.4,197184.78506250001,null,null,null,118.5,null,null,null,118.5]
[119,118.9,200533.92099999997,null,null,null,119,null,null,null,119]
[119.5,119.4,203925.54006250002,null,null,null,119.5,null,null,null,119.5]
[120,119.9,207360,null,{"$f":"I242*1000","v":128706.20689655172},null,120,null,{"$f":"(18/29)*(C242)/1000","v":128.70620689655172},{"$f":"((22.41/273)*(A242+273))*((1/29)+((1/18)*I242))","v":231.78648563849944},120]
[120.5,120.4,210837.66006250001,null,null,null,120.5,null,null,null,120.5]
[121,120.9,214358.88099999996,null,null,null,121,null,null,null,121]
[121.5,121.4,217924.02506250003,null,null,null,121.5,null,null,null,121.5]
[122,121.9,221533.45599999998,null,null,null,122,null,null,null,122]
[122.5,122.4,225187.53906250009,null,null,null,122.5,null,null,null,122.5]
[123,122.9,228886.64099999997,null,null,null,123,null,null,null,123]
[123.5,123.4,232631.1300625001,null,null,null,123.5,null,null,null,123.5]
[124,123.9,236421.37600000002,null,null,null,124,null,null,null,124]
[124.5,124.4,240257.75006250004,null,null,null,124.5,null,null,null,124.5]
[125,124.9,244140.625,null,null,null,125,null,null,null,125]
[125.5,125.4,248070.37506249992,null,null,null,125.5,null,null,null,125.5]
[126,125.9,252047.37600000002,null,null,null,126,null,null,null,126]
[126.5,126.4,256072.00506249993,null,null,null,126.5,null,null,null,126.5]
[127,126.9,260144.64099999997,null,null,null,127,null,null,null,127]
[127.5,127.4,264265.66406249994,null,null,null,127.5,null,null,null,127.5]
[128,{"$f":"A258-0.1","v":127.9},268435.45600000001,null,null,null,128,null,null,null,128]
[128.5,128.4,272654.40006249992,null,null,null,128.5,null,null,null,128.5]
[129,128.9,276922.88100000005,null,null,null,129,null,null,null,129]
[129.5,129.4,281241.28506249993,null,null,null,129.5,null,null,null,129.5]
[130,129.9,285610.00000000006,null,{"$f":"I262*1000","v":177275.17241379313},null,130,null,{"$f":"(18/29)*(C262)/1000","v":177.27517241379314},{"$f":"((22.41/273)*(A262+273))*((1/29)+((1/18)*I262))","v":326.94718078817743},130]
[130.5,130.4,290029.41506249993,null,null,null,130.5,null,null,null,130.5]
[131,130.9,294499.92100000009,null,null,null,131,null,null,null,131]
[131.5,131.4,299021.91006249993,null,null,null,131.5,null,null,null,131.5]
[132,131.9,303595.77600000007,null,null,null,132,null,null,null,132]
[132.5,132.4,{"$f":"((A267/100)^4)*100000","v":308221.9140625},null,null,null,132.5,null,null,null,132.5]
[133,132.9,312900.72100000008,null,null,null,133,null,null,null,133]
[133.5,133.4,317632.59506249998,null,null,null,133.5,null,null,null,133.5]
[134,133.9,322417.9360000001,null,null,null,134,null,null,null,134]
[134.5,134.4,327257.14506249997,null,null,null,134.5,null,null,null,134.5]
[135,134.9,332150.62500000012,null,null,null,135,null,null,null,135]
[135.5,135.4,337098.78006249998,null,null,null,135.5,null,null,null,135.5]
[136,135.9,342102.01600000012,null,null,null,136,null,null,null,136]
[136.5,136.4,347160.74006249994,null,null,null,136.5,null,null,null,136.5]
[137,136.9,352275.36100000009,null,null,null,137,null,null,null,137]
[137.5,137.4,357446.2890625,null,null,null,137.5,null,null,null,137.5]
[138,137.9,362673.93599999987,null,null,null,138,null,null,null,138]
[138.5,138.4,367958.71506250004,null,null,null,138.5,null,null,null,138.5]
[139,138.9,373301.04099999991,null,null,null,139,null,null,null,139]
[139.5,139.4,378701.33006250003,null,null,null,139.5,null,null,null,139.5]
[140,139.9,384159.99999999988,null,{"$f":"I282*1000","v":238444.13793103441},null,140,null,{"$f":"(18/29)*(C282)/1000","v":238.44413793103442},{"$f":"((22.41/273)*(A282+273))*((1/29)+((1/18)*I282))","v":450.26940795755962},140]
[140.5,140.4,389677.47006250004,null,null,null,140.5,null,null,null,140.5]
[141,140.9,395254.16099999991,null,null,null,141,null,null,null,141]
[141.5,141.4,400890.49506250001,null,null,null,141.5,null,null,null,141.5]
[142,141.9,406586.89599999995,null,null,null,142,null,null,null,142]
[142.5,142.4,412343.78906250006,null,null,null,142.5,null,null,null,142.5]
[143,142.9,418161.60099999991,null,null,null,143,null,null,null,143]
[143.5,143.4,424040.76006250008,null,null,null,143.5,null,null,null,143.5]
[144,143.9,429981.69599999994,null,null,null,144,null,null,null,144]
[144.5,144.4,435984.84006250004,null,null,null,144.5,null,null,null,144.5]
[145,144.9,442050.625,null,null,null,145,null,null,null,145]
[145.5,145.4,448179.48506250011,null,null,null,145.5,null,null,null,145.5]
[146,145.9,454371.85599999985,null,null,null,146,null,null,null,146]
[146.5,146.4,460628.17506250012,null,null,null,146.5,null,null,null,146.5]
[147,146.9,466948.88099999988,null,null,null,147,null,null,null,147]
[147.5,147.4,473334.41406250006,null,null,null,147.5,null,null,null,147.5]
[148,147.9,479785.21599999996,null,null,null,148,null,null,null,148]
[148.5,148.4,486301.73006250017,null,null,null,148.5,null,null,null,148.5]
[149,148.9,492884.40099999995,null,null,null,149,null,null,null,149]
[149.5,149.4,499533.67506250012,null,null,null,149.5,null,null,null,149.5]
[150,149.9,506250,null,{"$f":"I302*1000","v":314224.13793103449},null,150,null,{"$f":"(18/29)*(C302)/1000","v":314.22413793103448},{"$f":"((22.41/273)*(A302+273))*((1/29)+((1/18)*I302))","v":607.35643141341416},150]
[150.5,150.4,513033.82506249979,null,null,null,150.5,null,null,null,150.5]
[151,150.9,519885.60100000002,null,null,null,151,null,null,null,151]
[151.5,151.4,526805.78006249992,null,null,null,151.5,null,null,null,151.5]
[152,151.9,533794.81599999999,null,null,null,152,null,null,null,152]
[152.5,152.4,540853.16406249988,null,null,null,152.5,null,null,null,152.5]
[153,152.9,547981.28100000008,null,null,null,153,null,null,null,153]
[153.5,153.4,555179.62506249989,null,null,null,153.5,null,null,null,153.5]
[154,153.9,562448.65599999996,null,null,null,154,null,null,null,154]
[154.5,154.4,569788.83506249997,null,null,null,154.5,null,null,null,154.5]
[155,154.9,577200.62500000012,null,null,null,155,null,null,null,155]
[155.5,155.4,584684.49006249988,null,null,null,155.5,null,null,null,155.5]
[156,155.9,592240.89600000007,null,null,null,156,null,null,null,156]
[156.5,156.4,599870.31006249983,null,null,null,156.5,null,null,null,156.5]
[157,156.9,607573.201,null,null,null,157,null,null,null,157]
[157.5,157.4,615350.03906249988,null,null,null,157.5,null,null,null,157.5]
[158,157.9,623201.29600000021,null,null,null,158,null,null,null,158]
[158.5,158.4,631127.44506249996,null,null,null,158.5,null,null,null,158.5]
[159,158.9,639128.96100000013,null,null,null,159,null,null,null,159]
[159.5,159.4,647206.32006249996,null,null,null,159.5,null,null,null,159.5]
[160,{"$f":"A322-0.1","v":159.9},655360.00000000035,null,{"$f":"I322*1000","v":406775.17241379333},null,160,null,{"$f":"(18/29)*(C322)/1000","v":406.77517241379331},{"$f":"((22.41/273)*(A322+273))*((1/29)+((1/18)*I322))","v":804.47252125805267},160]
[160.5,160.4,663590.48006249999,null,null,null,160.5,null,null,null,160.5]
[161,160.9,671898.24100000015,null,null,null,161,null,null,null,161]
[161.5,161.4,680283.76506250002,null,null,null,161.5,null,null,null,161.5]
[162,161.9,688747.5360000002,null,null,null,162,null,null,null,162]
[162.5,162.4,697290.0390625,null,null,null,162.5,null,null,null,162.5]
[163,162.9,705911.76099999982,null,null,null,163,null,null,null,163]
[163.5,163.4,714613.19006249995,null,null,null,163.5,null,null,null,163.5]
[164,163.9,723394.81599999976,null,null,null,164,null,null,null,164]
[164.5,164.4,{"$f":"((A331/100)^4)*100000","v":732257.1300624999},null,null,null,164.5,null,null,null,164.5]
[165,164.9,741200.62499999988,null,null,null,165,null,null,null,165]
[165.5,165.4,750225.79506250017,null,null,null,165.5,null,null,null,165.5]
[166,165.9,759333.13599999982,null,null,null,166,null,null,null,166]
[166.5,166.4,768523.14506250015,null,null,null,166.5,null,null,null,166.5]
[167,166.9,777796.32099999988,null,null,null,167,null,null,null,167]
[167.5,167.4,787153.1640625,null,null,null,167.5,null,null,null,167.5]
[168,167.9,796594.17599999974,null,null,null,168,null,null,null,168]
[168.5,168.4,806119.86006250011,null,null,null,168.5,null,null,null,168.5]
[169,168.9,815730.72099999967,null,null,null,169,null,null,null,169]
[169.5,169.4,825427.26506250014,null,null,null,169.5,null,null,null,169.5]
[170,169.9,835209.99999999988,null,null,null,170,null,{"$f":"(18/29)*(C342)/1000","v":518.40620689655168},{"$f":"((22.41/273)*(A342+273))*((1/29)+((1/18)*I342))","v":1048.5769208412278},170]
[170.5,170.4,845079.4350625003,null,null,null,170.5,null,null,null,170.5]
[171,170.9,855036.08099999989,null,null,null,171,null,null,null,171]
[171.5,171.4,865080.4500625002,null,null,null,171.5,null,null,null,171.5]
[172,171.9,875213.05599999975,null,null,null,172,null,null,null,172]
[172.5,172.4,885434.41406250023,null,null,null,172.5,null,null,null,172.5]
[173,172.9,895745.04099999997,null,null,null,173,null,null,null,173]
[173.5,173.4,906145.45506250008,null,null,null,173.5,null,null,null,173.5]
[174,173.9,916636.17600000009,null,null,null,174,null,null,null,174]
[174.5,174.4,927217.72506250022,null,null,null,174.5,null,null,null,174.5]
[175,174.9,937890.625,null,null,null,175,null,null,null,175]
[175.5,175.4,948655.40006249968,null,null,null,175.5,null,null,null,175.5]
[176,175.9,959512.576,null,null,null,176,null,null,null,176]
[176.5,176.4,970462.68006249983,null,null,null,176.5,null,null,null,176.5]
[177,176.9,981506.24100000015,null,null,null,177,null,null,null,177]
[177.5,177.4,992643.7890625,null,null,null,177.5,null,null,null,177.5]
[178,177.9,1003875.8560000001,null,null,null,178,null,null,null,178]
[178.5,178.4,1015202.9750624999,null,null,null,178.5,null,null,null,178.5]
[179,178.9,1026625.681,null,null,null,179,null,null,null,179]
[179.5,179.4,1038144.5100624999,null,null,null,179.5,null,null,null,179.5]
[180,179.9,1049760.0000000002,null,{"$f":"I362*1000","v":651575.17241379328},null,180,null,{"$f":"(18/29)*(C362)/1000","v":651.57517241379333},{"$f":"((22.41/273)*(A362+273))*((1/29)+((1/18)*I362))","v":1347.3578141720352},180]
[180.5,180.4,1061472.6900625001,null,null,null,180.5,null,null,null,180.5]
[181,180.9,1073283.121,null,null,null,181,null,null,null,181]
[181.5,181.4,1085191.8350625001,null,null,null,181.5,null,null,null,181.5]
[182,181.9,1097199.3760000002,null,null,null,182,null,null,null,182]
[182.5,182.4,1109306.2890625,null,null,null,182.5,null,null,null,182.5]
[183,182.9,1121513.1210000003,null,null,null,183,null,null,null,183]
[183.5,183.4,1133820.4200624998,null,null,null,183.5,null,null,null,183.5]
[184,183.9,1146228.736,null,null,null,184,null,null,null,184]
[184.5,184.4,1158738.6200625,null,null,null,184.5,null,null,null,184.5]
[185,184.9,1171350.6250000002,null,null,null,185,null,null,null,185]
[185.5,185.4,1184065.3050624998,null,null,null,185.5,null,null,null,185.5]
[186,185.9,1196883.2160000002,null,null,null,186,null,null,null,186]
[186.5,186.4,1209804.9150624999,null,null,null,186.5,null,null,null,186.5]
[187,186.9,1222830.9610000004,null,null,null,187,null,null,null,187]
[187.5,187.4,1235961.9140625,null,null,null,187.5,null,null,null,187.5]
[188,187.9,1249198.3359999999,null,null,null,188,null,null,null,188]
[188.5,188.4,1262540.7900624999,null,null,null,188.5,null,null,null,188.5]
[189,188.9,1275989.8409999998,null,null,null,189,null,null,null,189]
[189.5,189.4,1289546.0550625001,null,null,null,189.5,null,null,null,189.5]
[190,189.9,1303210,null,{"$f":"I382*1000","v":808888.96551724139},null,190,null,{"$f":"(18/29)*(C382)/1000","v":808.88896551724145},{"$f":"((22.41/273)*(A382+273))*((1/29)+((1/18)*I382))","v":1709.2662933308075},190]
[190.5,190.4,1316982.2450625,null,null,null,190.5,null,null,null,190.5]
[191,190.9,1330863.361,null,null,null,191,null,null,null,191]
[191.5,191.4,1344853.9200625001,null,null,null,191.5,null,null,null,191.5]
[192,{"$f":"A386-0.1","v":191.9},1358954.496,null,null,null,192,null,null,null,192]
[192.5,192.4,1373165.6640625002,null,null,null,192.5,null,null,null,192.5]
[193,192.9,1387488.0009999999,null,null,null,193,null,null,null,193]
[193.5,193.4,1401922.0850625001,null,null,null,193.5,null,null,null,193.5]
[194,193.9,1416468.4959999998,null,null,null,194,null,null,null,194]
[194.5,194.4,1431127.8150625003,null,null,null,194.5,null,null,null,194.5]
[195,194.9,1445900.6249999998,null,null,null,195,null,null,null,195]
[195.5,195.4,1460787.5100625004,null,null,null,195.5,null,null,null,195.5]
[196,195.9,1475789.0559999999,null,null,null,196,null,null,null,196]
[196.5,196.4,{"$f":"((A395/100)^4)*100000","v":1490905.8500625},null,null,null,196.5,null,null,null,196.5]
[197,196.9,1506138.4809999999,null,null,null,197,null,null,null,197]
[197.5,197.4,1521487.5390625002,null,null,null,197.5,null,null,null,197.5]
[198,197.9,1536953.6159999999,null,null,null,198,null,null,null,198]
[198.5,198.4,1552537.3050625003,null,null,null,198.5,null,null,null,198.5]
[199,198.9,1568239.2010000001,null,null,null,199,null,null,null,199]
[199.5,199.4,1584059.9000625003,null,null,null,199.5,null,null,null,199.5]
[200,199.9,1600000,null,{"$f":"I402*1000","v":993103.44827586215},null,200,null,{"$f":"(18/29)*(C402)/1000","v":993.10344827586209},{"$f":"((22.41/273)*(A402+273))*((1/29)+((1/18)*I402))","v":2143.5503258810154},200]
[200.5,200.4,null,null,null,null,200.5,null,null,null,200.5]
[201,200.9,null,null,null,null,201,null,null,null,201]
[201.5,201.4,null,null,null,null,201.5,null,null,null,201.5]
[202,201.9,null,null,null,null,202,null,null,null,202]
[202.5,202.4,null,null,null,null,202.5,null,null,null,202.5]
[203,202.9,null,null,null,null,203,null,null,null,203]
[203.5,203.4,null,null,null,null,203.5,null,null,null,203.5]
[204,203.9,null,null,null,null,204,null,null,null,204]
[204.5,204.4,null,null,null,null,204.5,null,null,null,204.5]
[205,204.9,null,null,null,null,205,null,null,null,205]
[205.5,205.4,null,null,null,null,205.5,null,null,null,205.5]
[206,205.9,null,null,null,null,206,null,null,null,206]
[206.5,206.4,null,null,null,null,206.5,null,null,null,206.5]
[207,206.9,null,null,null,null,207,null,null,null,207]
[207.5,207.4,null,null,null,null,207.5,null,null,null,207.5]
[208,207.9,null,null,null,null,208,null,null,null,208]
[208.5,208.4,null,null,null,null,208.5,null,null,null,208.5]
[209,208.9,null,null,null,null,209,null,null,null,209]
[209.5,209.4,null,null,null,null,209.5,null,null,null,209.5]
[210,209.9,null,null,null,null,210,null,null,null,210]
[210.5,210.4,null,null,null,null,210.5,null,null,null,210.5]
[211,210.9,null,null,null,null,211,null,null,null,211]
[211.5,211.4,null,null,null,null,211.5,null,null,null,211.5]
[212,211.9,null,null,null,null,212,null,null,null,212]
[212.5,212.4,null,null,null,null,212.5,null,null,null,212.5]
[213,212.9,null,null,null,null,213,null,null,null,213]
[213.5,213.4,null,null,null,null,213.5,null,null,null,213.5]
[214,213.9,null,null,null,null,214,null,null,null,214]
[214.5,214.4,null,null,null,null,214.5,null,null,null,214.5]
[215,214.9,null,null,null,null,215,null,null,null,215]
[215.5,215.4,null,null,null,null,215.5,null,null,null,215.5]
[216,215.9,null,null,null,null,216,null,null,null,216]
[216.5,216.4,null,null,null,null,216.5,null,null,null,216.5]
[217,216.9,null,null,null,null,217,null,null,null,217]
[217.5,217.4,null,null,null,null,217.5,null,null,null,217.5]
[218,217.9,null,null,null,null,218,null,null,null,218]
[218.5,218.4,null,null,null,null,218.5,null,null,null,218.5]
[219,218.9,null,null,null,null,219,null,null,null,219]
[219.5,219.4,null,null,null,null,219.5,null,null,null,219.5]
[220,219.9,2319190,null,{"$f":"I442*1000","v":1439497.2413793104},null,220,null,{"$f":"(18/29)*(C442)/1000","v":1439.4972413793105},{"$f":"((22.41/273)*(A442+273))*((1/29)+((1/18)*I442))","v":3237.8123967032961},220]
[220.5,220.4,null,null,null,null,220.5,null,null,null,220.5]
[221,220.9,null,null,null,null,221,null,null,null,221]
[221.5,221.4,null,null,null,null,221.5,null,null,null,221.5]
[222,221.9,null,null,null,null,222,null,null,null,222]
[222.5,222.4,null,null,null,null,222.5,null,null,null,222.5]
[223,222.9,null,null,null,null,223,null,null,null,223]
[223.5,223.4,null,null,null,null,223.5,null,null,null,223.5]
[224,{"$f":"A450-0.1","v":223.9},null,null,null,null,224,null,null,null,224]
[224.5,224.4,null,null,null,null,224.5,null,null,null,224.5]
[225,224.9,null,null,null,null,225,null,null,null,225]
[225.5,225.4,null,null,null,null,225.5,null,null,null,225.5]
[226,225.9,null,null,null,null,226,null,null,null,226]
[226.5,226.4,null,null,null,null,226.5,null,null,null,226.5]
[227,226.9,null,null,null,null,227,null,null,null,227]
[227.5,227.4,null,null,null,null,227.5,null,null,null,227.5]
[228,227.9,null,null,null,null,228,null,null,null,228]
[228.5,228.4,null,null,null,null,228.5,null,null,null,228.5]
[229,228.9,null,null,null,null,229,null,null,null,229]
[229.5,229.4,null,null,null,null,229.5,null,null,null,229.5]
[230,229.9,null,null,null,null,230,null,null,null,230]
[230.5,230.4,null,null,null,null,230.5,null,null,null,230.5]
[231,230.9,null,null,null,null,231,null,null,null,231]
[231.5,231.4,null,null,null,null,231.5,null,null,null,231.5]
[232,231.9,null,null,null,null,232,null,null,null,232]
[232.5,232.4,null,null,null,null,232.5,null,null,null,232.5]
[233,232.9,null,null,null,null,233,null,null,null,233]
[233.5,233.4,null,null,null,null,233.5,null,null,null,233.5]
[234,233.9,null,null,null,null,234,null,null,null,234]
[234.5,234.4,null,null,null,null,234.5,null,null,null,234.5]
[235,234.9,null,null,null,null,235,null,null,null,235]
[235.5,235.4,null,null,null,null,235.5,null,null,null,235.5]
[236,235.9,null,null,null,null,236,null,null,null,236]
[236.5,236.4,null,null,null,null,236.5,null,null,null,236.5]
[237,236.9,null,null,null,null,237,null,null,null,237]
[237.5,237.4,null,null,null,null,237.5,null,null,null,237.5]
[238,237.9,null,null,null,null,238,null,null,null,238]
[238.5,238.4,null,null,null,null,238.5,null,null,null,238.5]
[239,238.9,null,null,null,null,239,null,null,null,239]
[239.5,239.4,null,null,null,null,239.5,null,null,null,239.5]
[240,239.9,3346400,null,{"$f":"I482*1000","v":2077075.8620689658},null,240,null,{"$f":"(18/29)*(C482)/1000","v":2077.0758620689658},{"$f":"((22.41/273)*(A482+273))*((1/29)+((1/18)*I482))","v":4860.7824986737405},240]
[240.5,240.4,null,null,null,null,240.5,null,null,null,240.5]
[241,240.9,null,null,null,null,241,null,null,null,241]
[241.5,241.4,null,null,null,null,241.5,null,null,null,241.5]
[242,241.9,null,null,null,null,242,null,null,null,242]
[242.5,242.4,null,null,null,null,242.5,null,null,null,242.5]
[243,242.9,null,null,null,null,243,null,null,null,243]
[243.5,243.4,null,null,null,null,243.5,null,null,null,243.5]
[244,243.9,null,null,null,null,244,null,null,null,244]
[244.5,244.4,null,null,null,null,244.5,null,null,null,244.5]
[245,244.9,null,null,null,null,245,null,null,null,245]
[245.5,245.4,null,null,null,null,245.5,null,null,null,245.5]
[246,245.9,null,null,null,null,246,null,null,null,246]
[246.5,246.4,null,null,null,null,246.5,null,null,null,246.5]
[247,246.9,null,null,null,null,247,null,null,null,247]
[247.5,247.4,null,null,null,null,247.5,null,null,null,247.5]
[248,247.9,null,null,null,null,248,null,null,null,248]
[248.5,248.4,null,null,null,null,248.5,null,null,null,248.5]
[249,248.9,null,null,null,null,249,null,null,null,249]
[249.5,249.4,null,null,null,null,249.5,null,null,null,249.5]
[250,249.9,null,null,null,null,250,null,null,null,250]
[250.5,250.4,null,null,null,null,250.5,null,null,null,250.5]
[251,250.9,null,null,null,null,251,null,null,null,251]
[251.5,251.4,null,null,null,null,251.5,null,null,null,251.5]
[252,251.9,null,null,null,null,252,null,null,null,252]
[252.5,252.4,null,null,null,null,252.5,null,null,null,252.5]
[253,252.9,null,null,null,null,253,null,null,null,253]
[253.5,253.4,null,null,null,null,253.5,null,null,null,253.5]
[254,253.9,null,null,null,null,254,null,null,null,254]
[254.5,254.4,null,null,null,null,254.5,null,null,null,254.5]
[255,254.9,null,null,null,null,255,null,null,null,255]
[255.5,255.4,null,null,null,null,255.5,null,null,null,255.5]
[256,{"$f":"A514-0.1","v":255.9},null,null,null,null,256,null,null,null,256]
[256.5,256.39999999999998,null,null,null,null,256.5,null,null,null,256.5]
[257,256.89999999999998,null,null,null,null,257,null,null,null,257]
[257.5,257.39999999999998,null,null,null,null,257.5,null,null,null,257.5]
[258,257.89999999999998,null,null,null,null,258,null,null,null,258]
[258.5,258.39999999999998,null,null,null,null,258.5,null,null,null,258.5]
[259,258.89999999999998,null,null,null,null,259,null,null,null,259]
[259.5,259.39999999999998,null,null,null,null,259.5,null,null,null,259.5]
[260,259.89999999999998,4691260,null,{"$f":"I522*1000","v":2911816.5517241382},null,260,null,{"$f":"(18/29)*(C522)/1000","v":2911.8165517241382},{"$f":"((22.41/273)*(A522+273))*((1/29)+((1/18)*I522))","v":7079.3028088669962},260]
[260.5,260.39999999999998,null,null,null,null,260.5,null,null,null,260.5]
[261,260.89999999999998,null,null,null,null,261,null,null,null,261]
[261.5,261.39999999999998,null,null,null,null,261.5,null,null,null,261.5]
[262,261.89999999999998,null,null,null,null,262,null,null,null,262]
[262.5,262.39999999999998,null,null,null,null,262.5,null,null,null,262.5]
[263,262.89999999999998,null,null,null,null,263,null,null,null,263]
[263.5,263.39999999999998,null,null,null,null,263.5,null,null,null,263.5]
[264,263.89999999999998,null,null,null,null,264,null,null,null,264]
[264.5,264.39999999999998,null,null,null,null,264.5,null,null,null,264.5]
[265,264.89999999999998,null,null,null,null,265,null,null,null,265]
[265.5,265.39999999999998,null,null,null,null,265.5,null,null,null,265.5]
[266,265.89999999999998,null,null,null,null,266,null,null,null,266]
[266.5,266.39999999999998,null,null,null,null,266.5,null,null,null,266.5]
[267,266.89999999999998,null,null,null,null,267,null,null,null,267]
[267.5,267.39999999999998,null,null,null,null,267.5,null,null,null,267.5]
[268,267.89999999999998,null,null,null,null,268,null,null,null,268]
[268.5,268.39999999999998,null,null,null,null,268.5,null,null,null,268.5]
[269,268.89999999999998,null,null,null,null,269,null,null,null,269]
[269.5,269.39999999999998,null,null,null,null,269.5,null,null,null,269.5]
[270,269.89999999999998,null,null,null,null,270,null,null,null,270]
[270.5,270.39999999999998,null,null,null,null,270.5,null,null,null,270.5]
[271,270.89999999999998,null,null,null,null,271,null,null,null,271]
[271.5,271.39999999999998,null,null,null,null,271.5,null,null,null,271.5]
[272,271.89999999999998,null,null,null,null,272,null,null,null,272]
[272.5,272.39999999999998,null,null,null,null,272.5,null,null,null,272.5]
[273,272.89999999999998,null,null,null,null,273,null,null,null,273]
[273.5,273.39999999999998,null,null,null,null,273.5,null,null,null,273.5]
[274,273.89999999999998,null,null,null,null,274,null,null,null,274]
[274.5,274.39999999999998,null,null,null,null,274.5,null,null,null,274.5]
[275,274.89999999999998,null,null,null,null,275,null,null,null,275]
[275.5,275.39999999999998,null,null,null,null,275.5,null,null,null,275.5]
[276,275.89999999999998,null,null,null,null,276,null,null,null,276]
[276.5,276.39999999999998,null,null,null,null,276.5,null,null,null,276.5]
[277,276.89999999999998,null,null,null,null,277,null,null,null,277]
[277.5,277.39999999999998,null,null,null,null,277.5,null,null,null,277.5]
[278,277.89999999999998,null,null,null,null,278,null,null,null,278]
[278.5,278.39999999999998,null,null,null,null,278.5,null,null,null,278.5]
[279,278.89999999999998,null,null,null,null,279,null,null,null,279]
[279.5,279.39999999999998,null,null,null,null,279.5,null,null,null,279.5]
[280,279.89999999999998,6413250,null,{"$f":"I562*1000","v":3980637.931034483},null,280,null,{"$f":"(18/29)*(C562)/1000","v":3980.6379310344828},{"$f":"((22.41/273)*(A562+273))*((1/29)+((1/18)*I562))","v":10040.42799071618},280]
[280.5,280.39999999999998,null,null,null,null,280.5,null,null,null,280.5]
[281,280.89999999999998,null,null,null,null,281,null,null,null,281]
[281.5,281.39999999999998,null,null,null,null,281.5,null,null,null,281.5]
[282,281.89999999999998,null,null,null,null,282,null,null,null,282]
[282.5,282.39999999999998,null,null,null,null,282.5,null,null,null,282.5]
[283,282.89999999999998,null,null,null,null,283,null,null,null,283]
[283.5,283.39999999999998,null,null,null,null,283.5,null,null,null,283.5]
[284,283.89999999999998,null,null,null,null,284,null,null,null,284]
[284.5,284.39999999999998,null,null,null,null,284.5,null,null,null,284.5]
[285,284.89999999999998,null,null,null,null,285,null,null,null,285]
[285.5,285.39999999999998,null,null,null,null,285.5,null,null,null,285.5]
[286,285.89999999999998,null,null,null,null,286,null,null,null,286]
[286.5,286.39999999999998,null,null,null,null,286.5,null,null,null,286.5]
[287,286.89999999999998,null,null,null,null,287,null,null,null,287]
[287.5,287.39999999999998,null,null,null,null,287.5,null,null,null,287.5]
[288,{"$f":"A578-0.1","v":287.89999999999998},null,null,null,null,288,null,null,null,288]
[288.5,288.39999999999998,null,null,null,null,288.5,null,null,null,288.5]
[289,288.89999999999998,null,null,null,null,289,null,null,null,289]
[289.5,289.39999999999998,null,null,null,null,289.5,null,null,null,289.5]
[290,289.89999999999998,null,null,null,null,290,null,null,null,290]
[290.5,290.39999999999998,null,null,null,null,290.5,null,null,null,290.5]
[291,290.89999999999998,null,null,null,null,291,null,null,null,291]
[291.5,291.39999999999998,null,null,null,null,291.5,null,null,null,291.5]
[292,291.89999999999998,null,null,null,null,292,null,null,null,292]
[292.5,292.39999999999998,null,null,null,null,292.5,null,null,null,292.5]
[293,292.89999999999998,null,null,null,null,293,null,null,null,293]
[293.5,293.39999999999998,null,null,null,null,293.5,null,null,null,293.5]
[294,293.89999999999998,null,null,null,null,294,null,null,null,294]
[294.5,294.39999999999998,null,null,null,null,294.5,null,null,null,294.5]
[295,294.89999999999998,null,null,null,null,295,null,null,null,295]
[295.5,295.39999999999998,null,null,null,null,295.5,null,null,null,295.5]
[296,295.89999999999998,null,null,null,null,296,null,null,null,296]
[296.5,296.39999999999998,null,null,null,null,296.5,null,null,null,296.5]
[297,296.89999999999998,null,null,null,null,297,null,null,null,297]
[297.5,297.39999999999998,null,null,null,null,297.5,null,null,null,297.5]
[298,297.89999999999998,null,null,null,null,298,null,null,null,298]
[298.5,298.39999999999998,null,null,null,null,298.5,null,null,null,298.5]
[299,298.89999999999998,null,null,null,null,299,null,null,null,299]
[299.5,299.39999999999998,null,null,null,null,299.5,null,null,null,299.5]
[300,299.89999999999998,8590180,null,{"$f":"I602*1000","v":5331835.862068966},null,300,null,{"$f":"(18/29)*(C602)/1000","v":5331.835862068966},{"$f":"((22.41/273)*(A602+273))*((1/29)+((1/18)*I602))","v":13934.412150738919},300]
[300.5,300.39999999999998,null,null,null,null,300.5,null,null,null,300.5]
[301,300.89999999999998,null,null,null,null,301,null,null,null,301]
[301.5,301.39999999999998,null,null,null,null,301.5,null,null,null,301.5]
[302,301.89999999999998,null,null,null,null,302,null,null,null,302]
[302.5,302.39999999999998,null,null,null,null,302.5,null,null,null,302.5]
[303,302.89999999999998,null,null,null,null,303,null,null,null,303]
[303.5,303.39999999999998,null,null,null,null,303.5,null,null,null,303.5]
[304,303.89999999999998,null,null,null,null,304,null,null,null,304]
[304.5,304.39999999999998,null,null,null,null,304.5,null,null,null,304.5]
[305,304.89999999999998,null,null,null,null,305,null,null,null,305]
[305.5,305.39999999999998,null,null,null,null,305.5,null,null,null,305.5]
[306,305.89999999999998,null,null,null,null,306,null,null,null,306]
[306.5,306.39999999999998,null,null,null,null,306.5,null,null,null,306.5]
[307,306.89999999999998,null,null,null,null,307,null,null,null,307]
[307.5,307.39999999999998,null,null,null,null,307.5,null,null,null,307.5]
[308,307.89999999999998,null,null,null,null,308,null,null,null,308]
[308.5,308.39999999999998,null,null,null,null,308.5,null,null,null,308.5]
[309,308.89999999999998,null,null,null,null,309,null,null,null,309]
[309.5,309.39999999999998,null,null,null,null,309.5,null,null,null,309.5]
[310,309.89999999999998,null,null,null,null,310,null,null,null,310]
[310.5,310.39999999999998,null,null,null,null,310.5,null,null,null,310.5]
[311,310.89999999999998,null,null,null,null,311,null,null,null,311]
[311.5,311.39999999999998,null,null,null,null,311.5,null,null,null,311.5]
[312,311.89999999999998,null,null,null,null,312,null,null,null,312]
[312.5,312.39999999999998,null,null,null,null,312.5,null,null,null,312.5]
[313,312.89999999999998,null,null,null,null,313,null,null,null,313]
[313.5,313.39999999999998,null,null,null,null,313.5,null,null,null,313.5]
[314,313.89999999999998,null,null,null,null,314,null,null,null,314]
[314.5,314.39999999999998,null,null,null,null,314.5,null,null,null,314.5]
[315,314.89999999999998,null,null,null,null,315,null,null,null,315]
[315.5,315.39999999999998,null,null,null,null,315.5,null,null,null,315.5]
[316,315.89999999999998,null,null,null,null,316,null,null,null,316]
[316.5,316.39999999999998,null,null,null,null,316.5,null,null,null,316.5]
[317,316.89999999999998,null,null,null,null,317,null,null,null,317]
[317.5,317.39999999999998,null,null,null,null,317.5,null,null,null,317.5]
[318,317.89999999999998,null,null,null,null,318,null,null,null,318]
[318.5,318.39999999999998,null,null,null,null,318.5,null,null,null,318.5]
[319,318.89999999999998,null,null,null,null,319,null,null,null,319]
[319.5,319.39999999999998,null,null,null,null,319.5,null,null,null,319.5]
[320,{"$f":"A642-0.1","v":319.89999999999998},11290400,null,{"$f":"I642*1000","v":7007834.4827586208},null,320,null,{"$f":"(18/29)*(C642)/1000","v":7007.8344827586207},{"$f":"((22.41/273)*(A642+273))*((1/29)+((1/18)*I642))","v":18953.250281924971},320]
[320.5,320.39999999999998,null,null,null,null,320.5,null,null,null,320.5]
[321,320.89999999999998,null,null,null,null,321,null,null,null,321]
[321.5,321.39999999999998,null,null,null,null,321.5,null,null,null,321.5]
[322,321.89999999999998,null,null,null,null,322,null,null,null,322]
[322.5,322.39999999999998,null,null,null,null,322.5,null,null,null,322.5]
[323,322.89999999999998,null,null,null,null,323,null,null,null,323]
[323.5,323.39999999999998,null,null,null,null,323.5,null,null,null,323.5]
[324,323.89999999999998,null,null,null,null,324,null,null,null,324]
[324.5,324.39999999999998,null,null,null,null,324.5,null,null,null,324.5]
[325,324.89999999999998,null,null,null,null,325,null,null,null,325]
[325.5,325.39999999999998,null,null,null,null,325.5,null,null,null,325.5]
[326,325.89999999999998,null,null,null,null,326,null,null,null,326]
[326.5,326.39999999999998,null,null,null,null,326.5,null,null,null,326.5]
[327,326.89999999999998,null,null,null,null,327,null,null,null,327]
[327.5,327.39999999999998,null,null,null,null,327.5,null,null,null,327.5]
[328,327.9,null,null,null,null,328,null,null,null,328]
[328.5,328.4,null,null,null,null,328.5,null,null,null,328.5]
[329,328.9,null,null,null,null,329,null,null,null,329]
[329.5,329.4,null,null,null,null,329.5,null,null,null,329.5]
[330,329.9,null,null,null,null,330,null,null,null,330]
[330.5,330.4,null,null,null,null,330.5,null,null,null,330.5]
[331,330.9,null,null,null,null,331,null,null,null,331]
[331.5,331.4,null,null,null,null,331.5,null,null,null,331.5]
[332,331.9,null,null,null,null,332,null,null,null,332]
[332.5,332.4,null,null,null,null,332.5,null,null,null,332.5]
[333,332.9,null,null,null,null,333,null,null,null,333]
[333.5,333.4,null,null,null,null,333.5,null,null,null,333.5]
[334,333.9,null,null,null,null,334,null,null,null,334]
[334.5,334.4,null,null,null,null,334.5,null,null,null,334.5]
[335,334.9,null,null,null,null,335,null,null,null,335]
[335.5,335.4,null,null,null,null,335.5,null,null,null,335.5]
[336,335.9,null,null,null,null,336,null,null,null,336]
[336.5,336.4,null,null,null,null,336.5,null,null,null,336.5]
[337,336.9,null,null,null,null,337,null,null,null,337]
[337.5,337.4,null,null,null,null,337.5,null,null,null,337.5]
[338,337.9,null,null,null,null,338,null,null,null,338]
[338.5,338.4,null,null,null,null,338.5,null,null,null,338.5]
[339,338.9,null,null,null,null,339,null,null,null,339]
[339.5,339.4,null,null,null,null,339.5,null,null,null,339.5]
[340,339.9,14610800,null,{"$f":"I682*1000","v":9068772.4137931038},null,340,null,{"$f":"(18/29)*(C682)/1000","v":9068.7724137931036},{"$f":"((22.41/273)*(A682+273))*((1/29)+((1/18)*I682))","v":25353.936907161802},340]
[340.5,340.4,null,null,null,null,340.5,null,null,null,340.5]
[341,340.9,null,null,null,null,341,null,null,null,341]
[341.5,341.4,null,null,null,null,341.5,null,null,null,341.5]
[342,341.9,null,null,null,null,342,null,null,null,342]
[342.5,342.4,null,null,null,null,342.5,null,null,null,342.5]
[343,342.9,null,null,null,null,343,null,null,null,343]
[343.5,343.4,null,null,null,null,343.5,null,null,null,343.5]
[344,343.9,null,null,null,null,344,null,null,null,344]
[344.5,344.4,null,null,null,null,344.5,null,null,null,344.5]
[345,344.9,null,null,null,null,345,null,null,null,345]
[345.5,345.4,null,null,null,null,345.5,null,null,null,345.5]
[346,345.9,null,null,null,null,346,null,null,null,346]
[346.5,346.4,null,null,null,null,346.5,null,null,null,346.5]
[347,346.9,null,null,null,null,347,null,null,null,347]
[347.5,347.4,null,null,null,null,347.5,null,null,null,347.5]
[348,347.9,null,null,null,null,348,null,null,null,348]
[348.5,348.4,null,null,null,null,348.5,null,null,null,348.5]
[349,348.9,null,null,null,null,349,null,null,null,349]
[349.5,349.4,null,null,null,null,349.5,null,null,null,349.5]
[350,349.9,null,null,null,null,350,null,null,null,350]
[350.5,350.4,null,null,null,null,350.5,null,null,null,350.5]
[351,350.9,null,null,null,null,351,null,null,null,351]
[351.5,351.4,null,null,null,null,351.5,null,null,null,351.5]
[352,{"$f":"A706-0.1","v":351.9},null,null,null,null,352,null,null,null,352]
[352.5,352.4,null,null,null,null,352.5,null,null,null,352.5]
[353,352.9,null,null,null,null,353,null,null,null,353]
[353.5,353.4,null,null,null,null,353.5,null,null,null,353.5]
[354,353.9,null,null,null,null,354,null,null,null,354]
[354.5,354.4,null,null,null,null,354.5,null,null,null,354.5]
[355,354.9,null,null,null,null,355,null,null,null,355]
[355.5,355.4,null,null,null,null,355.5,null,null,null,355.5]
[356,355.9,null,null,null,null,356,null,null,null,356]
[356.5,356.4,null,null,null,null,356.5,null,null,null,356.5]
[357,356.9,null,null,null,null,357,null,null,null,357]
[357.5,357.4,null,null,null,null,357.5,null,null,null,357.5]
[358,357.9,null,null,null,null,358,null,null,null,358]
[358.5,358.4,null,null,null,null,358.5,null,null,null,358.5]
[359,358.9,null,null,null,null,359,null,null,null,359]
[359.5,359.4,null,null,null,null,359.5,null,null,null,359.5]
[360,359.9,18650500,null,{"$f":"I722*1000","v":11576172.413793104},null,360,null,{"$f":"(18/29)*(C722)/1000","v":11576.172413793103},{"$f":"((22.41/273)*(A722+273))*((1/29)+((1/18)*I722))","v":33419.402904509283},360]

{"sheet":"Démo1","index":4,"n_rows":0,"n_cols":0,"rows_kept":0,"cut":false,"hidden":true,"merged":[]}

{"sheet":"Démo2","index":5,"n_rows":0,"n_cols":0,"rows_kept":0,"cut":false,"hidden":true,"merged":[]}

{"sheet":"Densité","index":6,"n_rows":291,"n_cols":8,"rows_kept":291,"cut":false,"hidden":true,"merged":[]}
["Densité",null,null,"Corrections à soustraire pour température"]
[5,{"$f":"-((A2*A2)/2000)+((108/8000)*A2)+0.957","v":1.012},"A2 B286",20,0,null,null,"D2 E74"]
[5.2,1.0136799999999999,null,27,5.0000000000000001E-3]
[5.4,1.01532,null,28,5.0000000000000001E-3]
[5.6,1.01692,null,29,5.0000000000000001E-3]
[5.8,1.0184800000000001,null,30,5.0000000000000001E-3]
[6,1.02,null,31,5.0000000000000001E-3]
[6.2,1.0214799999999999,null,32,5.0000000000000001E-3]
[6.4,1.0229200000000001,null,33,5.0000000000000001E-3]
[6.6,1.0243199999999999,null,34,5.0000000000000001E-3]
[6.8,1.0256799999999999,null,35,5.0000000000000001E-3]
[7,1.0269999999999999,null,36,5.0000000000000001E-3]
[7.2,1.0282799999999999,null,37,5.0000000000000001E-3]
[7.4,1.02952,null,38,5.0000000000000001E-3]
[7.6,1.0307199999999999,null,39,5.0000000000000001E-3]
[7.8,1.0318799999999999,null,40,5.0000000000000001E-3]
[8,1.0329999999999999,null,41,5.0000000000000001E-3]
[8.1999999999999993,1.0340799999999999,null,42,5.0000000000000001E-3]
[8.4,1.03512,null,43,5.0000000000000001E-3]
[8.6,1.0361199999999999,null,44,0.01]
[8.8000000000000007,1.03708,null,45,0.01]
[9,1.038,null,46,0.01]
[9.1999999999999993,1.03888,null,47,0.01]
[9.4,1.03972,null,48,0.01]
[9.6,1.0405199999999999,null,49,0.01]
[9.8000000000000007,1.04128,null,50,0.01]
[10,1.042,null,51,0.01]
[10.199999999999999,{"$f":"(0.00415*A28)+1.001","v":1.0433299999999999},null,52,0.01]
[10.4,1.04416,null,53,0.01]
[10.6,1.0449899999999999,null,54,0.01]
[10.8,1.04582,null,55,1.4999999999999999E-2]
[11,1.0466499999999999,null,56,1.4999999999999999E-2]
[11.2,1.04748,null,57,1.4999999999999999E-2]
[11.4,1.0483099999999999,null,58,1.4999999999999999E-2]
[11.6,1.04914,null,59,1.4999999999999999E-2]
[11.8,1.0499699999999998,null,60,1.4999999999999999E-2]
[12,1.0508,null,61,1.4999999999999999E-2]
[12.2,1.0516299999999998,null,62,1.4999999999999999E-2]
[12.4,1.05246,null,63,1.4999999999999999E-2]
[12.6,1.0532899999999998,null,64,1.4999999999999999E-2]
[12.8,1.0541199999999999,null,65,1.4999999999999999E-2]
[13,1.0549499999999998,null,66,1.4999999999999999E-2]
[13.2,1.0557799999999999,null,67,0.02]
[13.4,1.0566099999999998,null,68,0.02]
[13.6,1.0574399999999999,null,69,0.02]
[13.8,1.0582699999999998,null,70,0.02]
[14,1.0590999999999999,null,71,0.02]
[14.2,1.0599299999999998,null,72,0.02]
[14.4,1.0607599999999999,null,73,0.02]
[14.6,1.0615899999999998,null,74,0.02]
[14.8,1.0624199999999999,null,75,2.5000000000000001E-2]
[15,1.0632499999999998,null,76,2.5000000000000001E-2]
[15.2,1.0640799999999999,null,77,2.5000000000000001E-2]
[15.4,1.0649099999999998,null,78,2.5000000000000001E-2]
[15.6,1.0657399999999999,null,79,2.5000000000000001E-2]
[15.8,1.0665699999999998,null,80,2.5000000000000001E-2]
[16,1.0673999999999999,null,81,2.5000000000000001E-2]
[16.2,1.0682299999999998,null,82,2.5000000000000001E-2]
[16.399999999999999,1.0690599999999999,null,83,0.03]
[16.600000000000001,1.06989,null,84,0.03]
[16.8,1.0707199999999999,null,85,0.03]
[17,1.0715499999999998,null,86,0.03]
[17.2,1.0723799999999999,null,87,0.03]
[17.399999999999999,1.07321,null,88,0.03]
[17.600000000000001,1.0740399999999999,null,89,0.04]
[17.8,1.07487,null,90,0.04]
[18,1.0756999999999999,null,91,0.04]
[18.2,1.07653,null,92,0.04]
[18.399999999999999,1.0773599999999999,null,93,0.04]
[18.600000000000001,1.07819,null,94,0.04]
[18.8,1.0790199999999999,null,95,0.04]
[19,1.07985,null,96,0.04]
[19.2,1.0806799999999999,null,97,0.04]
[19.399999999999999,1.08151,null,98,0.04]
[19.600000000000001,1.0823399999999999,null,99,0.04]
[19.8,1.08317]
[20,1.0839999999999999]
[20.2,1.08483]
[20.399999999999999,1.0856599999999998]
[20.6,1.08649]
[20.8,1.0873199999999998]
[21,1.08815]
[21.2,1.0889799999999998]
[21.4,1.0898099999999999]
[21.6,1.0906399999999998]
[21.8,1.0914699999999999]
[22,1.0922999999999998]
[22.2,1.0931299999999999]
[22.4,1.0939599999999998]
[22.6,1.0947899999999999]
[22.8,1.0956199999999998]
[23,{"$f":"(0.00415*A92)+1.001","v":1.0964499999999999}]
[23.2,{"$f":"(0.005*A93)+0.98+0.0006","v":1.0966}]
[23.4,{"$f":"(0.005*A94)+0.98","v":1.097}]
[23.6,1.0980000000000001]
[23.8,1.099]
[24,1.1000000000000001]
[24.2,1.101]
[24.4,1.1019999999999999]
[24.6,1.103]
[24.8,1.1040000000000001]
[25,1.105]
[25.2,1.1059999999999999]
[25.4,1.107]
[25.6,1.1080000000000001]
[25.8,1.109]
[26,1.1099999999999999]
[26.2,1.111]
[26.4,1.1120000000000001]
[26.6,1.113]
[26.8,1.1139999999999999]
[27,1.115]
[27.2,1.1160000000000001]
[27.4,1.117]
[27.6,1.1179999999999999]
[27.8,1.119]
[28,1.1200000000000001]
[28.2,1.121]
[28.4,1.1219999999999999]
[28.6,1.123]
[28.8,1.1240000000000001]
[29,1.125]
[29.2,1.1259999999999999]
[29.4,1.127]
[29.6,1.1280000000000001]
[29.8,1.129]
[30,1.1299999999999999]
[30.2,1.131]
[30.4,1.1319999999999999]
[30.6,1.133]
[30.8,1.1339999999999999]
[31,1.135]
[31.2,1.1359999999999999]
[31.4,1.137]
[31.6,1.1379999999999999]
[31.8,1.139]
[32,1.1399999999999999]
[32.200000000000003,1.141]
[32.4,1.1419999999999999]
[32.6,1.143]
[32.799999999999997,1.1439999999999999]
[33,1.145]
[33.200000000000003,1.1459999999999999]
[33.4,1.147]
[33.6,1.1479999999999999]
[33.799999999999997,1.149]
[34,1.1499999999999999]
[34.200000000000003,1.151]
[34.4,1.1519999999999999]
[34.6,1.153]
[34.799999999999997,1.1539999999999999]
[35,1.155]
[35.200000000000003,1.1559999999999999]
[35.4,1.157]
[35.6,1.1579999999999999]
[35.799999999999997,1.159]
[36,1.1599999999999999]
[36.200000000000003,{"$f":"(0.005*A158)+0.98","v":1.161}]
[36.4,{"$f":"(0.005*A159)+0.98","v":1.1619999999999999}]
[36.6,{"$f":"(0.005*A160)+0.98","v":1.163}]
[36.799999999999997,{"$f":"(0.005*A161)+0.98","v":1.1639999999999999}]
[37,{"$f":"(0.005*A162)+0.98","v":1.165}]
[37.200000000000003,{"$f":"(0.0056*A163)+0.96","v":1.16832}]
[37.4,1.16944]
[37.6,1.17056]
[37.799999999999997,1.1716799999999998]
[38,1.1728000000000001]
[38.200000000000003,1.1739200000000001]
[38.4,1.1750399999999999]
[38.6,1.1761599999999999]
[38.799999999999997,1.1772799999999999]
[39,1.1783999999999999]
[39.200000000000003,1.1795199999999999]
[39.4,1.1806399999999999]
[39.6,1.1817599999999999]
[39.799999999999997,1.1828799999999999]
[40,1.1839999999999999]
[40.200000000000003,1.18512]
[40.4,1.18624]
[40.6,1.18736]
[40.799999999999997,1.18848]
[41,1.1896]
[41.2,1.19072]
[41.4,1.19184]
[41.6,1.19296]
[41.8,1.19408]
[42,1.1952]
[42.2,1.1963200000000001]
[42.4,1.1974399999999998]
[42.6,1.1985600000000001]
[42.8,1.1996799999999999]
[43,1.2007999999999999]
[43.2,1.2019199999999999]
[43.4,1.2030399999999999]
[43.6,1.2041599999999999]
[43.8,1.2052799999999999]
[44,1.2063999999999999]
[44.2,1.2075199999999999]
[44.4,1.2086399999999999]
[44.6,1.2097599999999999]
[44.8,1.21088]
[45,1.212]
[45.2,1.21312]
[45.4,1.21424]
[45.6,1.21536]
[45.8,1.21648]
[46,1.2176]
[46.2,1.21872]
[46.4,1.21984]
[46.6,1.22096]
[46.8,1.2220800000000001]
[47,1.2231999999999998]
[47.2,1.2243200000000001]
[47.4,1.2254399999999999]
[47.6,1.2265600000000001]
[47.8,1.2276799999999999]
[48,1.2287999999999999]
[48.2,1.2299199999999999]
[48.4,1.2310399999999999]
[48.6,1.2321599999999999]
[48.8,1.2332799999999999]
[49,1.2343999999999999]
[49.2,1.23552]
[49.4,1.23664]
[49.6,1.23776]
[49.8,1.23888]
[50,{"$f":"(0.0056*A227)+0.96","v":1.24}]
[50.2,1.24112]
[50.4,1.24224]
[50.6,1.24336]
[50.8,1.2444799999999998]
[51,1.2456]
[51.2,1.2467200000000001]
[51.4,1.2478400000000001]
[51.6,1.2489599999999998]
[51.8,1.2500800000000001]
[52,1.2511999999999999]
[52.2,{"$f":"(0.00666*A238)+0.904","v":1.251652}]
[52.4,1.2529840000000001]
[52.6,1.254316]
[52.8,1.2556479999999999]
[53,1.25698]
[53.2,1.2583120000000001]
[53.4,1.259644]
[53.6,1.2609760000000001]
[53.8,1.262308]
[54,1.2636400000000001]
[54.2,1.264972]
[54.4,1.2663040000000001]
[54.6,1.267636]
[54.8,1.2689680000000001]
[55,1.2703]
[55.2,1.2716320000000001]
[55.4,1.272964]
[55.6,1.2742960000000001]
[55.8,1.275628]
[56,1.2769600000000001]
[56.2,1.278292]
[56.4,1.2796240000000001]
[56.6,{"$f":"(0.008*A260)+0.828","v":1.2807999999999999}]
[56.8,1.2824]
[57,1.284]
[57.2,1.2856000000000001]
[57.4,1.2871999999999999]
[57.6,1.2887999999999999]
[57.8,1.2904]
[58,1.292]
[58.2,1.2936000000000001]
[58.4,1.2951999999999999]
[58.6,1.2968]
[58.8,1.2984]
[59,1.3]
[59.2,1.3016000000000001]
[59.4,1.3031999999999999]
[59.6,1.3048]
[59.8,1.3064]
[60,1.3079999999999998]
[60.2,1.3096000000000001]
[60.4,1.3111999999999999]
[60.6,1.3128]
[60.8,1.3144]
[61,1.3159999999999998]
[61.2,1.3176000000000001]
[61.4,1.3191999999999999]
[61.6,1.3208]
[61.8,1.3224]
[4.5,{"$f":"-((A287*A287)/2000)+((108/8000)*A287)+0.957","v":1.007625}]
[4.67,{"$f":"-((A288*A288)/2000)+((108/8000)*A288)+0.957","v":1.0091405499999999}]
[4.7,{"$f":"-((A289*A289)/2000)+((108/8000)*A289)+0.957","v":1.0094049999999999}]
[4.8,{"$f":"-((A290*A290)/2000)+((108/8000)*A290)+0.957","v":1.0102799999999998}]
[4.9000000000000004,{"$f":"-((A291*A291)/2000)+((108/8000)*A291)+0.957","v":1.011145}]