Workbook
Name base: #REF!
Name f: #REF!
Name h: #REF!
Name t: #REF!
Name v: #REF!

Sheet Rem & biblio
B2: Séchage tour type Tall Form + post-cristallisation
B3: approche théorique des paramètres air et produit
B5: Remarques et données biblio :
B6: Le séchage couplé Tall Form, post-cristallisation sur bande et séchage final sur lit
B7: fluidisé, permet d'augmenter le taux de cristallisation du produit fini et de diminuer
B8: l'hygroscopicité de la poudre. Ce système est particulièrement adapté au séchage du
B9: lactosérum doux et du perméat de lactosérum ou de lait.
B10: Le principe est de sécher le produit dans une première étape, en gardant suffisament
B11: d'humidité et favorisant la mobilité de l'eau d'hydratation nécessaire à la cristallisation
B12: du béta-lactose et lu lactose alpha-anhydre en lactose alpha monohydraté.
B13: La 1ère phase du séchage se déroule au-delà de la température de transition vitreuse
B14: de la poudre sortie chambre de séchage.
... B103: Tg = température de transition vitreuse.
B105: Simul 1 | C105: Simul 3
B107: Cette simulation est une estimation des paramètres pour le séchage de SDCH
B108: pré-cristallisé à 72% avec post cristallisation et réglage aw finale sur lit fluidisé.
B109: Simul 1 = paramètres GEA-NIRO, Simul 3 = paramètres Relco.
B111: Simul 2
B113: Même simulation que simul 1, mais en position séchage classique type tour W, sans
B114: post-cristallisation. Il s'agit d'une position de secours.
B116: Seules les cellules jaunes sont modifiables, les autres cellules peuvent être ajustées
B117: soit en modifiant les cellules jaunes en manuel, soit en utilisant la fonction Excel
B118: Données > analyse et scénarios > valeur cible, en prenant comme "valeur à définir"
B119: une valeur contenant un calcul, saisir une "valeur cible", en visant une des cellules en
B120: jaune, liée à ce calcul, comme "cellule à modifier".
B122: Mollier S1 et Mollier S3 donnent la retranscription des paramètres simul 1 et simul 3
... B188: Isothermes de sorption du lactose et du lait :
I203: Simul 1
B268: L'humidité libre du lait entier en poudre est généralement de 3,5%, d'après le diagramme
B269: ci-dessus la poudre doit être stockée à une température < 45°C. Ce point correspond à une
B270: Aw de la poudre d'environ 0,2 - 0,25 à 25°C.
B280: Zone de collage en fonction de T-Tg :
I298: Simul 1
I299: Simul 3
B338: Tg du lactose amorphe en fonction de l'aw (< 0,575):

Sheet Simul 1
B1: Simulation 1 : Séchage tour type Tall Form
B2: Estimation du séchage avec post cristallisation sur bande et fin séchage sur VF d'après GEA-Niro.Voir schéma. | T2: Powder specific heat VF 3 in
B3: Produit fabriqué : | C3: SDCH Belt Process | G3: Poids du concentré traité : | H3: 7000 | I3: kg / h | J3: =H3/E5 -> 5384.6154 | K3: ltrs / h | N3: Composition du concentré :
B4: Extrait sec entrée cristallisoir : | C4: =O5 -> 58 | G4: Extrait sec entrée cristallisoir : | H4: =H3*C4% -> 4060 | I4: kg / h | T4: Product temperature( °C) | U4: =D155 -> 50.249997 | Y4: Specific heats at this temperature
B5: Extrait sec cristallisé entrée séchage : | C5: =$O$5+(($O$5*$O$6%)*$O$7%)*$O$9% -> 59.637827 | D5: Densité à 25°C : | E5: 1.3 | G5: Extrait sec cristallisé entrée séchage : | H5: =H3*C5% -> 4174.6479 | I5: kg / h | N5: ES sortie Evapo % : | O5: 58
B6: Extrait sec Poudre sortie BP : | C6: =100-C7 -> 92 | G6: Poudre sortie Tall Form : | H6: =H5/C6% -> 4537.6608 | I6: kg / h | L6: Gilles Valot | N6: Taux de lactose % : | O6: 74 | T6: Protein(%) | U6: 12.5 | Y6: Protein specific heat (J/(kg.K) | Z6: =2008.2+(1208.9/1000*U4)-(1312.9/1000000*U4*U4) -> 2065.6321
B7: Humidité d'hydratation poudre BP : | C7: 8 | D7: (8 à 10% > isotherme de sorption) | G7: Eau évaporée Tall Form : | H7: =H3-H6 -> 2462.3392 | I7: kg / h | L7: 45536 | N7: Taux de cristal. Avant séchage % : | O7: 72 | T7: Fat(%) | U7: 1 | Y7: Fat specific heat (J/(kg.K) | Z7: =1984.2+(1473.3/1000*U4)-(4800.8/1000000*U4*U4) -> 2046.111
B8: Extrait sec cristallisé entrée VF : | C8: =$O$5+(($O$5*$O$6%)*$O$8%)*$O$9% -> 60.047284 | G8: Extrait sec cristallisé entrée VF : | H8: =H3*C8% -> 4203.3099 | I8: kg / h | J8: =(H6-H8)/(H8+(H6-H8))% -> 7.3683535 | K8: w entrée VF après post-cristallisation | N8: Taux de cristallisation après BP % : | O8: 90 | T8: Carbonhydrate(%) | U8: 74 | Y8: Carbonhydrate specific heat (J/(kg.K) | Z8: =1548.8+(1962.5/1000*U4)-(5939.9/1000000*U4*U4) -> 1632.417
B9: Extrait sec poudre sortie VF : | C9: =100-C10 -> 98.7 | G9: Poudre produite sortie VF : | H9: =H8/C9% -> 4258.6726 | I9: kg / h à | J9: 28 | N9: Eau de cristallisation %/L : | O9: 5.3 | T9: Fiber(%) | U9: 0 | Y9: Fiber specific heat (J/(kg.K) | Z9: =1845.9+(1930.6/1000*U4)-(4650.9/1000000*U4*U4) -> 1931.1688
B10: Humidité d'hydratation poudre : | C10: 1.3 | D10: (environ 4,5% / non cristallisé) | G10: Eau évaporée VF : | H10: =H6-H9 -> 278.98814 | I10: Kg / h | K10: Patm : | L10: 101325 | N10: Vérif eau évaporée : | T10: Ash(%) | U10: 7.5 | Y10: Ash specific heat (J/(kg.K) | Z10: =1092.6+(1889.6/1000*U4)-(3681.7/1000000*U4*U4) -> 1178.2559
N11: Eau évaporée : | O11: =H3-H9 -> 2741.3274 | T11: Water(%) | U11: 1.5 | Y11: Water specific heat (J/(kg.K) | Z11: =4176.2-(9.0864/100000*U4)+(5473.1/1000000*U4*U4) -> 4190.0154
B12: Paramètres | C12: T°c | D12: Volume | F12: Poids | G12: W | I12: Enthalpie | N12: Calculée : | O12: =H24+H40 -> 2741.3274 | P12: =O11=O12 -> TRUE
G13: (humidité abs) | N13: Tall Form : | O13: =H3-H6 -> 2462.3392 | Y13: Note: Values for specific heat calculated
D14: m3/kgas | E14: total | F14: kg as | G14: kg/kgas | H14: total | I14: kj/kgas | J14: kcal/kgas | K14: total kj | L14: total kcal | Y14: using Choi and Okos correlations
D15: (kg / m3 as) | E15: m3 | H15: kg eau | T15: Specific heat at this temperature = | U15: =Z6*U6/100 +Z7*U7/100+Z8*U8/100+Z9*U9/100+Z10*U10/100+Z11*U11/100 -> 1637.8731 | V15: (J/(kg.K)
T16: Specific heat at this temperature = | U16: =U15/4.1855 -> 391.32078 | V16: (Kcal/(kg.K)
B17: Séchage Tall Form + BP : | N17: BP = belt process
N18: VF = vibro fluidiseur | T18: Powder specific heat VF 3 out
B19: Air ambiant | C19: 23.5 | D19: =((22.41/273)*(C19+273))*((1/29)+((1/18)*G19)) -> 0.85144767 | E19: 52215.583 | F19: =E19/D19 -> 61325.651 | G19: 0.009 | H19: =F19*G19 -> 551.93086 | I19: =(((1.005+(1.88*G19))*C19)+(2487*G19)) -> 46.39812 | J19: =I19/4.1855 -> 11.085443 | K19: =I19*F19 -> 2845394.9 | L19: =K19/4.1855 -> 679821.98 | N19: Extrait sec cristallisé = extraitsec entrée cristallisoir + eau de cristallisation
D20: =1/D19 -> 1.1744703 | N20: Humidité d'hydratation = eau +/- libre , extractible par disséccation | T20: Product temperature( °C) | U20: ='Simul 1'!J9 -> 28 | Y20: Specific heats at this temperature
B22: Air entrée tour | C22: 160 | D22: =((22.41/273)*(C22+273))*((1/29)+((1/18)*G22)) -> 1.2434295 | E22: =D22*F22 -> 76254.122 | F22: =F19 -> 61325.651 | G22: =H22/F22 -> 0.009 | H22: =H19 -> 551.93086 | I22: =(((1.005+(1.88*$G$22))*$C$22)+(2487*$G$22)) -> 185.8902 | J22: =I22/4.1855 -> 44.412902 | K22: =F22*I22 -> 11399838 | L22: =K22/4.1855 -> 2723650.1 | T22: Protein(%) | U22: =U6 -> 12.5 | Y22: Protein specific heat (J/(kg.K) | Z22: =2008.2+(1208.9/1000*U20)-(1312.9/1000000*U20*U20) -> 2041.0199
D23: =1/D22 -> 0.80422735 | T23: Fat(%) | U23: =U7 -> 1 | Y23: Fat specific heat (J/(kg.K) | Z23: =1984.2+(1473.3/1000*U20)-(4800.8/1000000*U20*U20) -> 2021.6886
B24: Evaporation | H24: =H3-H6 -> 2462.3392 | T24: Carbonhydrate(%) | U24: =U8 -> 74 | Y24: Carbonhydrate specific heat (J/(kg.K) | Z24: =1548.8+(1962.5/1000*U20)-(5939.9/1000000*U20*U20) -> 1599.0931
C25: 155 à 160°C | T25: Fiber(%) | U25: =U9 -> 0 | Y25: Fiber specific heat (J/(kg.K) | Z25: =1845.9+(1930.6/1000*U20)-(4650.9/1000000*U20*U20) -> 1896.3105
N26: Viser 37 à 45% HR sortie Tall Form | T26: Ash(%) | U26: =U10 -> 7.5 | Y26: Ash specific heat (J/(kg.K) | Z26: =1092.6+(1889.6/1000*U20)-(3681.7/1000000*U20*U20) -> 1142.6223
B27: Air sortie Chambre - Tall Form | C27: =(I27-(2487*G27))/((1.005+(1.88*G27))) -> 57.999994 | D27: =((22.41/273)*(C27+273))*((1/29)+((1/18)*G27)) -> 1.0111294 | E27: =D27*F27 -> 62008.171 | F27: =F22 -> 61325.651 | G27: =H27/F27 -> 0.049151865 | H27: =SUM(H22:H25) -> 3014.2701 | I27: =I22 -> 185.8902 | J27: =I27/4.1855 -> 44.412902 | K27: =F27*I27 -> 11399838 | L27: =K27/4.1855 -> 2723650.1 | N27: dépend des paramètres du produit, de l'air ambiant, | T27: Water(%) | U27: =U11 -> 1.5 | Y27: Water specific heat (J/(kg.K) | Z27: =4176.2-(9.0864/100000*U20)+(5473.1/1000000*U20*U20) -> 4180.4884
B28: (sortie air directe ou + air VF + bag filter) | C28: 55 à 60°C | D28: =1/D27 -> 0.98899306 | G28: =I85 -> 40.897234 | H28: voir T-Tg | I28: (isenthalpe) | N28: de la température d'entrée tour.
B29: Air rejeté sortie VF + sortie Tall Form : | N29: Modifier les cellules en jaune ou voir onglet Rem & biblio | Y29: Note: Values for specific heat calculated
Y30: using Choi and Okos correlations
B31: Air secondaire - Total VF | C31: =C54 -> 46.826728 | D31: =D54 -> 0.92248856 | E31: =E54 -> 46124.428 | F31: =F54 -> 50000 | G31: =G54 -> 0.011779763 | H31: =H54 -> 588.98814 | I31: =I54 -> 77.394154 | J31: =J54 -> 18.491018 | ... L31: =L54 -> 924550.88 | T31: Specific heat at this temperature = | U31: =Z22*U22/100 +Z23*U23/100+Z24*U24/100+Z25*U25/100+Z26*U26/100+Z27*U27/100 -> 1607.0773 | V31: (J/(kg.K)
D32: =1/D31 -> 1.0840243 | G32: =G55 -> 17.928416 | T32: Specific heat at this temperature = | U32: =U31/4.1855 -> 383.96303 | V32: (Kcal/(kg.K)
B34: Air sortie tour avant cyclones | C34: =(I34-(2487*G34))/((1.005+(1.88*G34))) -> 53.16394 | D34: =((22.41/273)*(C34+273))*((1/29)+((1/18)*G34)) -> 0.97138948 | E34: =D34*F34 -> 108140.57 | F34: =F27+F31 -> 111325.65 | G34: =H34/F34 -> 0.032366828 | H34: =H27+H31 -> 3603.2582 | I34: =K34/F34 -> 137.16107 | J34: =I34/4.1855 -> 32.770534 | K34: =K27+K31 -> 15269545 | L34: =J34*F34 -> 3648201
B35: (si mélange air VF avec Tall Form) | D35: =1/D34 -> 1.0294532 | G35: =I94 -> 34.814105 | T35: Ecart | U35: =U15-U31 -> 30.79584 | V35: (J/(kg.K)
B36: Vibro fluidiseur (VF) : | U36: =U16-U32 -> 7.3577446 | V36: (Kcal/(kg.K)
B38: Air entrée VF1 - VF2 | C38: 82 | D38: =((22.41/273)*(C38+273))*((1/29)+((1/18)*G38)) -> 1.0194399 | E38: =F38*D38 -> 30583.196 | F38: 30000 | G38: 0.009 | H38: =F38*G38 -> 270 | I38: =(((1.005+(1.88*$G$38))*$C$38)+(2487*$G$38)) -> 106.18044 | J38: =I38/4.1855 -> 25.368639 | K38: =F38*I38 -> 3185413.2 | L38: =K38/4.1855 -> 761059.18 | T38: Poudre entrée VF3 | U38: ='Simul 1'!H9*'Simul 1'!U16 -> 1666507.1 | V38: (Kcal/(kg.K)
D39: =1/D38 -> 0.98093083 | T39: Poudre sortie VF3 | U39: ='Simul 1'!H9*'Simul 1'!U32 -> 1635172.9 | V39: (Kcal/(kg.K)
B40: Evaporation | H40: =H6-H9 -> 278.98814 | T40: Ecart refroidissement VF 3 | U40: =U38-U39 -> 31334.226 | V40: (Kcal/(kg.K)
B43: Air sortie VF1 - VF2 | C43: =(I43-(2487*G43))/((1.005+(1.88*G43))) -> 58.369379 | D43: =((22.41/273)*(C43+273))*((1/29)+((1/18)*G43)) -> 0.9656342 | E43: =D43*F43 -> 28969.026 | F43: =F38 -> 30000 | G43: =H43/F43 -> 0.018299605 | H43: =SUM(H38:H41) -> 548.98814 | I43: =I38 -> 106.18044 | J43: =I43/4.1855 -> 25.368639 | K43: =F43*I43 -> 3185413.2 | L43: =K43/4.1855 -> 761059.18
D44: =1/D43 -> 1.0355888 | G44: =I104 -> 15.696502 | I44: (isenthalpe) | N44: Viser 20 - 25% HR > fonction de la T°C d'entrée VF 1 - 2
B46: Air entrée VF3 | C46: 22.486276 | D46: =((22.41/273)*(C46+273))*((1/29)+((1/18)*G46)) -> 0.83910376 | E46: =F46*D46 -> 16782.075 | F46: 20000 | G46: 0.002 | H46: =G46*F46 -> 40 | I46: =(((1.005+(1.88*$G$46))*$C$46)+(2487*$G$46)) -> 27.657255 | J46: =I46/4.1855 -> 6.6078737 | K46: =F46*I46 -> 553145.11 | L46: =K46/4.1855 -> 132157.47
...

Sheet Mollier S1
B127: Simul 1 | C127: X | D127: 9 g / kg as | K127: X | L127: 49,2 g /kg as
B128: GEA-Niro | C128: Ts | D128: 23,5°C | I128: T°C d'entrée à 160°C | K128: Ts | L128: 58°C
C129: Th | D129: 16,64°C | K129: Th | L129: 42,5°C
C130: Tr | D130: 12,45°C | K130: Tr | L130: 40
C131: HR | D131: 0.5 | K131: HR | L131: 0.41

Sheet Simul 2
B1: Simulation 2 : Séchage tour type Tall Form
B2: Estimation du séchage avec paramètres classiques idem tour W + VF à débit d'air égal. | T2: Powder specific heat VF 3 in
B3: Produit fabriqué : | C3: SDCH | G3: Poids du concentré traité : | H3: 6928.2545 | I3: kg / h | J3: =H3/E5 -> 5329.4266 | K3: ltrs / h | N3: Composition du concentré :
B4: Extrait sec entrée cristallisoir : | C4: =O5 -> 58 | G4: Extrait sec entrée cristallisoir : | H4: =H3*C4% -> 4018.3876 | I4: kg / h | T4: Product temperature( °C) | U4: =D155 -> 60.611412 | Y4: Specific heats at this temperature
B5: Extrait sec cristallisé entrée séchage : | C5: =$O$5+(($O$5*$O$6%)*$O$7%)*$O$9% -> 59.637827 | D5: Densité à 25°C : | E5: 1.3 | G5: Extrait sec cristallisé entrée séchage : | H5: =H3*C5% -> 4131.8605 | I5: kg / h | N5: ES sortie Evapo % : | O5: 58
B6: Extrait sec Poudre sortie BP : | C6: =100-C7 -> 95 | G6: Poudre sortie Tall Form : | H6: =H5/C6% -> 4349.3268 | I6: kg / h | L6: Gilles Valot | N6: Taux de lactose % : | O6: 74 | T6: Protein(%) | U6: 12.5 | Y6: Protein specific heat (J/(kg.K) | Z6: =2008.2+(1208.9/1000*U4)-(1312.9/1000000*U4*U4) -> 2076.6499
B7: Humidité d'hydratation poudre BP : | C7: 5 | D7: (3 à 6%) | G7: Eau évaporée Tall Form : | H7: =H3-H6 -> 2578.9277 | I7: kg / h | L7: 45536 | N7: Taux de cristal. Avant séchage % : | O7: 72 | T7: Fat(%) | U7: 1 | Y7: Fat specific heat (J/(kg.K) | Z7: =1984.2+(1473.3/1000*U4)-(4800.8/1000000*U4*U4) -> 2055.8619
B8: Extrait sec cristallisé entrée VF : | C8: =$O$5+(($O$5*$O$6%)*$O$8%)*$O$9% -> 59.637827 | G8: Extrait sec cristallisé entrée VF : | H8: =H3*C8% -> 4131.8605 | I8: kg / h | N8: Taux de cristallisation après BP % : | O8: 72 | T8: Carbonhydrate(%) | U8: 74 | Y8: Carbonhydrate specific heat (J/(kg.K) | Z8: =1548.8+(1962.5/1000*U4)-(5939.9/1000000*U4*U4) -> 1645.9282
B9: Extrait sec poudre sortie VF : | C9: =100-C10 -> 98.1 | G9: Poudre produite sortie VF : | H9: =H8/C9% -> 4211.8863 | I9: kg / h à | J9: 27 | N9: Eau de cristallisation %/L : | O9: 5.3 | T9: Fiber(%) | U9: 0 | Y9: Fiber specific heat (J/(kg.K) | Z9: =1845.9+(1930.6/1000*U4)-(4650.9/1000000*U4*U4) -> 1945.8302
B10: Humidité d'hydratation poudre : | C10: 1.9 | D10: (4,5% / non cristallisé) | G10: Eau évaporée VF : | H10: =H6-H9 -> 137.4405 | I10: Kg / h | K10: Patm : | L10: 101325 | N10: Vérif eau évaporée : | T10: Ash(%) | U10: 7.5 | Y10: Ash specific heat (J/(kg.K) | Z10: =1092.6+(1889.6/1000*U4)-(3681.7/1000000*U4*U4) -> 1193.6057
N11: Eau évaporée : | O11: =H3-H9 -> 2716.3682 | T11: Water(%) | U11: 1.5 | Y11: Water specific heat (J/(kg.K) | Z11: =4176.2-(9.0864/100000*U4)+(5473.1/1000000*U4*U4) -> 4196.3013
B12: Paramètres | C12: T°c | D12: Volume | F12: Poids | G12: W | I12: Enthalpie | N12: Calculée : | O12: =H24+H40 -> 2716.3682 | P12: =O11=O12 -> TRUE
G13: (humidité abs) | N13: Tall Form : | O13: =H3-H6 -> 2578.9277 | Y13: Note: Values for specific heat calculated
D14: m3/kgas | E14: total | F14: kg as | G14: kg/kgas | H14: total | I14: kj/kgas | J14: kcal/kgas | K14: total kj | L14: total kcal | Y14: using Choi and Okos correlations
D15: (kg / m3 as) | E15: m3 | H15: kg eau | T15: Specific heat at this temperature = | U15: =Z6*U6/100 +Z7*U7/100+Z8*U8/100+Z9*U9/100+Z10*U10/100+Z11*U11/100 -> 1650.5917 | V15: (J/(kg.K)
T16: Specific heat at this temperature = | U16: =U15/4.1855 -> 394.3595 | V16: (Kcal/(kg.K)
B17: Séchage Tall Form + BP : | N17: BP = belt process
N18: VF = vibro fluidiseur
B19: Air ambiant | C19: 23.5 | D19: =((22.41/273)*(C19+273))*((1/29)+((1/18)*G19)) -> 0.85144767 | E19: 52216 | F19: =E19/D19 -> 61326.141 | G19: 0.009 | H19: =F19*G19 -> 551.93527 | I19: =(((1.005+(1.88*G19))*C19)+(2487*G19)) -> 46.39812 | J19: =I19/4.1855 -> 11.085443 | K19: =I19*F19 -> 2845417.7 | L19: =K19/4.1855 -> 679827.42 | N19: Extrait sec cristallisé = extraitsec entrée cristallisoir + eau de cristallisation | T19: Powder specific heat VF 3 out
D20: =1/D19 -> 1.1744703 | N20: Humidité d'hydratation = eau +/- libre , extractible par disséccation
T21: Product temperature( °C) | U21: ='Simul 2'!J9 -> 27 | Y21: Specific heats at this temperature
B22: Air entrée tour | C22: 185 | D22: =((22.41/273)*(C22+273))*((1/29)+((1/18)*G22)) -> 1.315221 | E22: =D22*F22 -> 80657.43 | F22: =F19 -> 61326.141 | G22: =H22/F22 -> 0.009 | H22: =H19 -> 551.93527 | I22: =(((1.005+(1.88*$G$22))*$C$22)+(2487*$G$22)) -> 211.4382 | J22: =I22/4.1855 -> 50.516832 | K22: =F22*I22 -> 12966689 | L22: =K22/4.1855 -> 3098002.4
D23: =1/D22 -> 0.76032848 | T23: Protein(%) | U23: =U6 -> 12.5 | Y23: Protein specific heat (J/(kg.K) | Z23: =2008.2+(1208.9/1000*U21)-(1312.9/1000000*U21*U21) -> 2039.8832
B24: Evaporation | H24: =H3-H6 -> 2578.9277 | T24: Fat(%) | U24: =U7 -> 1 | Y24: Fat specific heat (J/(kg.K) | Z24: =1984.2+(1473.3/1000*U21)-(4800.8/1000000*U21*U21) -> 2020.4793
T25: Carbonhydrate(%) | U25: =U8 -> 74 | Y25: Carbonhydrate specific heat (J/(kg.K) | Z25: =1548.8+(1962.5/1000*U21)-(5939.9/1000000*U21*U21) -> 1597.4573
N26: Viser 15 à 20% HR sortie Tall Form | T26: Fiber(%) | U26: =U9 -> 0 | Y26: Fiber specific heat (J/(kg.K) | Z26: =1845.9+(1930.6/1000*U21)-(4650.9/1000000*U21*U21) -> 1894.6357
B27: Air sortie Chambre - Tall Form | C27: =(I27-(2487*G27))/((1.005+(1.88*G27))) -> 76.722825 | D27: =((22.41/273)*(C27+273))*((1/29)+((1/18)*G27)) -> 1.071355 | E27: =D27*F27 -> 65702.067 | F27: =F22 -> 61326.141 | G27: =H27/F27 -> 0.051052666 | H27: =SUM(H22:H25) -> 3130.863 | I27: =I22 -> 211.4382 | J27: =I27/4.1855 -> 50.516832 | K27: =F27*I27 -> 12966689 | L27: =K27/4.1855 -> 3098002.4 | N27: dépend des paramètres du produit, de l'air ambiant, | T27: Ash(%) | U27: =U10 -> 7.5 | Y27: Ash specific heat (J/(kg.K) | Z27: =1092.6+(1889.6/1000*U21)-(3681.7/1000000*U21*U21) -> 1140.9352
B28: (sortie air directe ou + air VF + bag filter) | C28: 75 à 85°C | D28: =1/D27 -> 0.93339744 | G28: =I85 -> 18.518014 | I28: (isenthalpe) | N28: de la température d'entrée tour. | T28: Water(%) | U28: =U11 -> 1.5 | Y28: Water specific heat (J/(kg.K) | Z28: =4176.2-(9.0864/100000*U21)+(5473.1/1000000*U21*U21) -> 4180.1874
B29: Air rejeté sortie VF + sortie Tall Form : | N29: Modifier les cellules en jaune ou voir onglet Rem & biblio
Y30: Note: Values for specific heat calculated
B31: Air secondaire - Total VF | C31: =C54 -> 46.921967 | D31: =D54 -> 0.91863295 | E31: =E54 -> 45931.647 | F31: =F54 -> 50000 | G31: =G54 -> 0.00894881 | H31: =H54 -> 447.4405 | I31: =I54 -> 70.201671 | J31: =J54 -> 16.772589 | ... L31: =L54 -> 838629.45 | Y31: using Choi and Okos correlations
D32: =1/D31 -> 1.0885741 | G32: =G55 -> 13.615873 | T32: Specific heat at this temperature = | U32: =Z23*U23/100 +Z24*U24/100+Z25*U25/100+Z26*U26/100+Z27*U27/100+Z28*U28/100 -> 1605.5816 | V32: (J/(kg.K)
T33: Specific heat at this temperature = | U33: =U32/4.1855 -> 383.60568 | V33: (Kcal/(kg.K)
B34: Air sortie tour avant cyclones | C34: =(I34-(2487*G34))/((1.005+(1.88*G34))) -> 63.886121 | D34: =((22.41/273)*(C34+273))*((1/29)+((1/18)*G34)) -> 1.0029779 | E34: =D34*F34 -> 111657.66 | F34: =F27+F31 -> 111326.14 | G34: =H34/F34 -> 0.032142527 | H34: =H27+H31 -> 3578.3035 | I34: =K34/F34 -> 148.00452 | J34: =I34/4.1855 -> 35.361253 | K34: =K27+K31 -> 16476772 | L34: =J34*F34 -> 3936631.8
B35: (si mélange air VF avec Tall Form) | D35: =1/D34 -> 0.99703091 | G35: =I94 -> 20.929618
B36: Vibro fluidiseur (VF) : | T36: Ecart | U36: =U15-U32 -> 45.010131 | V36: (J/(kg.K)
U37: =U16-U33 -> 10.753824 | V37: (Kcal/(kg.K)
B38: Air entrée VF1 - VF2 | C38: 70 | D38: =((22.41/273)*(C38+273))*((1/29)+((1/18)*G38)) -> 0.98497993 | E38: =F38*D38 -> 29549.398 | F38: 30000 | G38: 0.009 | H38: =F38*G38 -> 270 | I38: =(((1.005+(1.88*$G$38))*$C$38)+(2487*$G$38)) -> 93.9174 | J38: =I38/4.1855 -> 22.438753 | K38: =F38*I38 -> 2817522 | L38: =K38/4.1855 -> 673162.59
D39: =1/D38 -> 1.0152491 | T39: Poudre entrée VF3 | U39: ='Simul 2'!H9*'Simul 2'!U16 -> 1660997.4 | V39: (Kcal/(kg.K)
B40: Evaporation | H40: =H6-H9 -> 137.4405 | T40: Poudre sortie VF3 | U40: ='Simul 2'!H9*'Simul 2'!U33 -> 1615703.5 | V40: (Kcal/(kg.K)
...

Sheet Simul 3
B1: Simulation 3 : Séchage tour type Tall Form
B2: Estimation du séchage avec post cristallisation sur bande et fin séchage sur VF avec données Relco | T2: Powder specific heat VF 3 in
B3: Produit fabriqué : | C3: SDCH Belt Process | G3: Poids du concentré traité : | H3: 7000 | I3: kg / h | J3: =H3/E5 -> 5384.6154 | K3: ltrs / h | N3: Composition du concentré :
B4: Extrait sec entrée cristallisoir : | C4: =O5 -> 60 | G4: Extrait sec entrée cristallisoir : | H4: =H3*C4% -> 4200 | I4: kg / h | T4: Product temperature( °C) | U4: =D172 -> 58.020232 | Y4: Specific heats at this temperature
B5: Extrait sec cristallisé entrée séchage : | C5: =$O$5+(($O$5*$O$6%)*$O$7%)*$O$9% -> 61.694304 | D5: Densité à 25°C : | E5: 1.3 | G5: Extrait sec cristallisé entrée séchage : | H5: =H3*C5% -> 4318.6013 | I5: kg / h | N5: ES sortie Evapo % : | O5: 60
B6: Extrait sec Poudre sortie BP : | C6: =100-C7 -> 92 | G6: Poudre sortie Tall Form : | H6: =H5/C6% -> 4694.1318 | I6: kg / h | L6: Gilles Valot | N6: Taux de lactose % : | O6: 74 | T6: Protein(%) | U6: 12.5 | Y6: Protein specific heat (J/(kg.K) | Z6: =2008.2+(1208.9/1000*U4)-(1312.9/1000000*U4*U4) -> 2073.921
B7: Humidité d'hydratation poudre BP : | C7: 8 | D7: (8 à 10%) | G7: Eau évaporée Tall Form : | H7: =H3-H6 -> 2305.8682 | I7: kg / h | L7: 45536 | N7: Taux de cristal. Avant séchage % : | O7: 72 | T7: Fat(%) | U7: 1 | Y7: Fat specific heat (J/(kg.K) | Z7: =1984.2+(1473.3/1000*U4)-(4800.8/1000000*U4*U4) -> 2053.52
B8: Extrait sec cristallisé entrée VF : | C8: =$O$5+(($O$5*$O$6%)*$O$8%)*$O$9% -> 62.11788 | G8: Extrait sec cristallisé entrée VF : | H8: =H3*C8% -> 4348.2516 | I8: kg / h | J8: =(H6-H8)/(H8+(H6-H8))% -> 7.3683535 | K8: w entrée VF après post-cristallisation | N8: Taux de cristallisation après BP % : | O8: 90 | T8: Carbonhydrate(%) | U8: 74 | Y8: Carbonhydrate specific heat (J/(kg.K) | Z8: =1548.8+(1962.5/1000*U4)-(5939.9/1000000*U4*U4) -> 1642.6689
B9: Extrait sec poudre sortie VF : | C9: =100-C10 -> 98.7 | G9: Poudre produite sortie VF : | H9: =H8/C9% -> 4405.5234 | I9: kg / h à | J9: 28 | N9: Eau de cristallisation %/L : | O9: 5.3 | T9: Fiber(%) | U9: 0 | Y9: Fiber specific heat (J/(kg.K) | Z9: =1845.9+(1930.6/1000*U4)-(4650.9/1000000*U4*U4) -> 1942.2573
B10: Humidité d'hydratation poudre : | C10: 1.3 | D10: (4,5% / non cristallisé) | G10: Eau évaporée VF : | H10: =H6-H9 -> 288.60842 | I10: Kg / h | K10: Patm : | L10: 101325 | N10: Vérif eau évaporée : | T10: Ash(%) | U10: 7.5 | Y10: Ash specific heat (J/(kg.K) | Z10: =1092.6+(1889.6/1000*U4)-(3681.7/1000000*U4*U4) -> 1189.8411
N11: Eau évaporée : | O11: =H3-H9 -> 2594.4766 | T11: Water(%) | U11: 1.5 | Y11: Water specific heat (J/(kg.K) | Z11: =4176.2-(9.0864/100000*U4)+(5473.1/1000000*U4*U4) -> 4194.6191
B12: Paramètres | C12: T°c | D12: Volume | F12: Poids | G12: W | I12: Enthalpie | N12: Calculée : | O12: =H24+H40+H48 -> 2594.4766 | P12: =O11=O12 -> TRUE
G13: (humidité abs) | N13: Tall Form : | O13: =H3-H6 -> 2305.8682 | Y13: Note: Values for specific heat calculated
D14: m3/kgas | E14: total | F14: kg as | G14: kg/kgas | H14: total | I14: kj/kgas | J14: kcal/kgas | K14: total kj | L14: total kcal | Y14: using Choi and Okos correlations
D15: (kg / m3 as) | E15: m3 | H15: kg eau | T15: Specific heat at this temperature = | U15: =Z6*U6/100 +Z7*U7/100+Z8*U8/100+Z9*U9/100+Z10*U10/100+Z11*U11/100 -> 1647.5077 | V15: (J/(kg.K)
T16: Specific heat at this temperature = | U16: =U15/4.1855 -> 393.62268 | V16: (Kcal/(kg.K)
B17: Séchage Tall Form + BP : | N17: BP = belt process
N18: VF = vibro fluidiseur | T18: Powder specific heat VF 3 out
B19: Air ambiant | C19: 23.5 | D19: =((22.41/273)*(C19+273))*((1/29)+((1/18)*G19)) -> 0.85144767 | E19: 46436.236 | F19: =E19/D19 -> 54537.98 | G19: 0.009 | H19: =F19*G19 -> 490.84182 | I19: =(((1.005+(1.88*G19))*C19)+(2487*G19)) -> 46.39812 | J19: =I19/4.1855 -> 11.085443 | K19: =I19*F19 -> 2530459.7 | L19: =K19/4.1855 -> 604577.65 | N19: Extrait sec cristallisé = extraitsec entrée cristallisoir + eau de cristallisation
D20: =1/D19 -> 1.1744703 | N20: Humidité d'hydratation = eau +/- libre , extractible par disséccation | T20: Product temperature( °C) | U20: ='Simul 1'!J9 -> 28 | Y20: Specific heats at this temperature
B22: Air entrée tour | C22: 180 | D22: =((22.41/273)*(C22+273))*((1/29)+((1/18)*G22)) -> 1.3008627 | E22: =D22*F22 -> 70946.424 | F22: =F19 -> 54537.98 | G22: =H22/F22 -> 0.009 | H22: =H19 -> 490.84182 | I22: =(((1.005+(1.88*$G$22))*$C$22)+(2487*$G$22)) -> 206.3286 | J22: =I22/4.1855 -> 49.296046 | K22: =F22*I22 -> 11252745 | L22: =K22/4.1855 -> 2688506.8 | T22: Protein(%) | U22: =U6 -> 12.5 | Y22: Protein specific heat (J/(kg.K) | Z22: =2008.2+(1208.9/1000*U20)-(1312.9/1000000*U20*U20) -> 2041.0199
D23: =1/D22 -> 0.76872063 | T23: Fat(%) | U23: =U7 -> 1 | Y23: Fat specific heat (J/(kg.K) | Z23: =1984.2+(1473.3/1000*U20)-(4800.8/1000000*U20*U20) -> 2021.6886
B24: Evaporation | H24: =H3-H6 -> 2305.8682 | T24: Carbonhydrate(%) | U24: =U8 -> 74 | Y24: Carbonhydrate specific heat (J/(kg.K) | Z24: =1548.8+(1962.5/1000*U20)-(5939.9/1000000*U20*U20) -> 1599.0931
C25: 180 à 182°C ??? | T25: Fiber(%) | U25: =U9 -> 0 | Y25: Fiber specific heat (J/(kg.K) | Z25: =1845.9+(1930.6/1000*U20)-(4650.9/1000000*U20*U20) -> 1896.3105
N26: Viser 37 à 45% HR sortie Tall Form | T26: Ash(%) | U26: =U10 -> 7.5 | Y26: Ash specific heat (J/(kg.K) | Z26: =1092.6+(1889.6/1000*U20)-(3681.7/1000000*U20*U20) -> 1142.6223
B27: Air sortie Chambre - Tall Form | C27: =(I27-(2487*G27))/((1.005+(1.88*G27))) -> 71.540465 | D27: =((22.41/273)*(C27+273))*((1/29)+((1/18)*G27)) -> 1.0558364 | E27: =D27*F27 -> 57583.184 | F27: =F22 -> 54537.98 | G27: =H27/F27 -> 0.051280044 | H27: =SUM(H22:H25) -> 2796.71 | I27: =I22 -> 206.3286 | J27: =I27/4.1855 -> 49.296046 | K27: =F27*I27 -> 11252745 | L27: =K27/4.1855 -> 2688506.8 | N27: dépend des paramètres du produit, de l'air ambiant, | T27: Water(%) | U27: =U11 -> 1.5 | Y27: Water specific heat (J/(kg.K) | Z27: =4176.2-(9.0864/100000*U20)+(5473.1/1000000*U20*U20) -> 4180.4884
B28: (sortie air directe ou + air VF + bag filter) | C28: 70 à 75°C ??? | D28: =1/D27 -> 0.94711643 | G28: =I93 -> 23.145992 | H28: voir T-Tg | I28: (isenthalpe) | N28: de la température d'entrée tour.
B29: Air rejeté sortie VF + sortie Tall Form : | N29: Modifier les cellules en jaune ou voir onglet Rem & biblio | Y29: Note: Values for specific heat calculated
Y30: using Choi and Okos correlations
B31: Air secondaire - Total VF | C31: =C62 -> 42.167381 | D31: =D62 -> 0.90932597 | E31: =E62 -> 45466.299 | F31: =F62 -> 50000 | G31: =G62 -> 0.011972168 | H31: =H62 -> 598.60842 | I31: =I62 -> 73.10209 | J31: =J62 -> 17.465557 | ... L31: =L62 -> 873277.87 | T31: Specific heat at this temperature = | U31: =Z22*U22/100 +Z23*U23/100+Z24*U24/100+Z25*U25/100+Z26*U26/100+Z27*U27/100 -> 1607.0773 | V31: (J/(kg.K)
D32: =1/D31 -> 1.0997156 | G32: =G63 -> 23.167319 | T32: Specific heat at this temperature = | U32: =U31/4.1855 -> 383.96303 | V32: (Kcal/(kg.K)
B34: Air sortie tour avant cyclones | C34: =(I34-(2487*G34))/((1.005+(1.88*G34))) -> 57.999536 | D34: =((22.41/273)*(C34+273))*((1/29)+((1/18)*G34)) -> 0.98596072 | E34: =D34*F34 -> 103070.34 | F34: =F27+F31 -> 104537.98 | G34: =H34/F34 -> 0.032479281 | H34: =H27+H31 -> 3395.3184 | I34: =K34/F34 -> 142.60702 | J34: =I34/4.1855 -> 34.07168 | K34: =K27+K31 -> 14907850 | L34: =J34*F34 -> 3561784.6
B35: (si mélange air VF avec Tall Form) | D35: =1/D34 -> 1.0142392 | G35: =I102 -> 27.723794 | T35: Ecart | U35: =U15-U31 -> 40.43043 | V35: (J/(kg.K)
B36: Vibro fluidiseur (VF) : | U36: =U16-U32 -> 9.6596416 | V36: (Kcal/(kg.K)
B38: Air entrée VF1 | C38: 70 | D38: =((22.41/273)*(C38+273))*((1/29)+((1/18)*G38)) -> 0.98497993 | E38: =F38*D38 -> 14774.699 | F38: 15000 | G38: 0.009 | H38: =F38*G38 -> 135 | I38: =(((1.005+(1.88*$G$38))*$C$38)+(2487*$G$38)) -> 93.9174 | J38: =I38/4.1855 -> 22.438753 | K38: =F38*I38 -> 1408761 | L38: =K38/4.1855 -> 336581.29 | T38: Poudre entrée VF3 | U38: ='Simul 1'!H9*'Simul 1'!U16 -> 1666507.1 | V38: (Kcal/(kg.K)
D39: =1/D38 -> 1.0152491 | T39: Poudre sortie VF3 | U39: ='Simul 1'!H9*'Simul 1'!U32 -> 1635172.9 | V39: (Kcal/(kg.K)
B40: Evaporation | H40: =H6-H9-H48 -> 123.60842 | T40: Ecart refroidissement VF 3 | U40: =U38-U39 -> 31334.226 | V40: (Kcal/(kg.K)
B43: Air sortie VF1 | C43: =(I43-(2487*G43))/((1.005+(1.88*G43))) -> 49.199461 | D43: =((22.41/273)*(C43+273))*((1/29)+((1/18)*G43)) -> 0.93735627 | E43: =D43*F43 -> 14060.344 | F43: =F38 -> 15000 | G43: =H43/F43 -> 0.017240561 | H43: =SUM(H38:H41) -> 258.60842 | I43: =I38 -> 93.9174 | J43: =I43/4.1855 -> 22.438753 | K43: =F43*I43 -> 1408761 | L43: =K43/4.1855 -> 336581.29
D44: =1/D43 -> 1.0668302 | G44: =I112 -> 23.083368 | I44: (isenthalpe) | N44: Viser 20 - 25% HR > fonction de la T°C d'entrée VF 1 - 2
B46: Air entrée VF2 | C46: 80 | D46: =((22.41/273)*(C46+273))*((1/29)+((1/18)*G46)) -> 1.0136965 | E46: =F46*D46 -> 15205.448 | F46: 15000 | G46: 0.009 | H46: =F46*G46 -> 135 | I46: =(((1.005+(1.88*$G$46))*$C$46)+(2487*$G$46)) -> 104.1366 | J46: =I46/4.1855 -> 24.880325 | K46: =F46*I46 -> 1562049 | L46: =K46/4.1855 -> 373204.87
...

Sheet Mollier S3
B127: Simul 3 | C127: X | D127: 9 g /kg as | K127: X | L127: 51,3 g /kg as
B128: Relco | C128: Ts | D128: 23,5°C | I128: T°C d'entrée à 180°C | K128: Ts | L128: 71,5°C
C129: Th | D129: 16,64°C | K129: Th | L129: 44,5°C
C130: Tr | D130: 12,45°C | K130: Tr | L130: 41°C
C131: HR | D131: 0.5 | K131: HR | L131: 0.23

Sheet Schéma
B1: Spray dryer with post-crystallization belt

Sheet Air humide
A1: T°c humide | B1: T°c de rosée | C1: Pv sat.Pe en Pa | D1: P air sec Pa | E1: ws gr/ kg as | G1: T°c humide | H1: H kj / kg | I1: ws kg/ kg as | J1: v m3 / kg | K1: T°c humide | N1: P atm Pa
A2: -12 | B2: =A2-0.1 -> -12.1 | C2: =611.14*EXP(17.269*(((273.16+A2)-273.16)/((273.16+A2)-35.86))) -> 243.60282 | D2: =$N$2-C2 -> 101081.4 | E2: =I2*1000 -> 1.4958415 | G2: -12 | H2: =(((1.005+(1.88*(E2/1000)))*A2)+(2487*(E2/1000))) -> -8.3735883 | I2: =(18/29)*(C2/($N$2-C2)) -> 0.0014958415 | J2: =((22.41/273)*(A2+273))*((1/28.96)+((1/18.1)*I2)) -> 0.74158226 | K2: -12 | N2: 101325
A3: -11.5 | B3: =A3-0.1 -> -11.6 | C3: =611.14*EXP(17.269*(((273.16+A3)-273.16)/((273.16+A3)-35.86))) -> 253.61451 | D3: =$N$2-C3 -> 101071.39 | E3: =I3*1000 -> 1.5574725 | G3: -11.5 | H3: =(((1.005+(1.88*(E3/1000)))*A3)+(2487*(E3/1000))) -> -7.7177385 | I3: =(18/29)*(C3/($N$2-C3)) -> 0.0015574725 | J3: =((22.41/273)*(A3+273))*((1/28.96)+((1/18.1)*I3)) -> 0.74307601 | K3: -11.5
A4: -11 | B4: =A4-0.1 -> -11.1 | C4: =611.14*EXP(17.269*(((273.16+A4)-273.16)/((273.16+A4)-35.86))) -> 263.99068 | D4: =$N$2-C4 -> 101061.01 | E4: =I4*1000 -> 1.62136 | G4: -11 | H4: =(((1.005+(1.88*(E4/1000)))*A4)+(2487*(E4/1000))) -> -7.0562073 | I4: =(18/29)*(C4/($N$2-C4)) -> 0.00162136 | J4: =((22.41/273)*(A4+273))*((1/28.96)+((1/18.1)*I4)) -> 0.74457272 | K4: -11
A5: -10.5 | B5: =A5-0.1 -> -10.6 | C5: =611.14*EXP(17.269*(((273.16+A5)-273.16)/((273.16+A5)-35.86))) -> 274.74278 | D5: =$N$2-C5 -> 101050.26 | E5: =I5*1000 -> 1.6875761 | G5: -10.5 | H5: =(((1.005+(1.88*(E5/1000)))*A5)+(2487*(E5/1000))) -> -6.3888109 | I5: =(18/29)*(C5/($N$2-C5)) -> 0.0016875761 | J5: =((22.41/273)*(A5+273))*((1/28.96)+((1/18.1)*I5)) -> 0.74607249 | K5: -10.5
A6: -10 | B6: =A6-0.1 -> -10.1 | C6: =611.14*EXP(17.269*(((273.16+A6)-273.16)/((273.16+A6)-35.86))) -> 285.8826 | D6: =$N$2-C6 -> 101039.12 | E6: =I6*1000 -> 1.7561948 | G6: -10 | H6: =(((1.005+(1.88*(E6/1000)))*A6)+(2487*(E6/1000))) -> -5.71536 | I6: =(18/29)*(C6/($N$2-C6)) -> 0.0017561948 | J6: =((22.41/273)*(A6+273))*((1/28.96)+((1/18.1)*I6)) -> 0.74757543 | K6: -10
A7: -9.5 | B7: =A7-0.1 -> -9.6 | C7: =611.14*EXP(17.269*(((273.16+A7)-273.16)/((273.16+A7)-35.86))) -> 297.4222 | D7: =$N$2-C7 -> 101027.58 | E7: =I7*1000 -> 1.827292 | G7: -9.5 | H7: =(((1.005+(1.88*(E7/1000)))*A7)+(2487*(E7/1000))) -> -5.0356603 | I7: =(18/29)*(C7/($N$2-C7)) -> 0.001827292 | J7: =((22.41/273)*(A7+273))*((1/28.96)+((1/18.1)*I7)) -> 0.74908164 | K7: -9.5
A8: -9 | B8: =A8-0.1 -> -9.1 | C8: =611.14*EXP(17.269*(((273.16+A8)-273.16)/((273.16+A8)-35.86))) -> 309.37396 | D8: =$N$2-C8 -> 101015.63 | E8: =I8*1000 -> 1.9009457 | G8: -9 | H8: =(((1.005+(1.88*(E8/1000)))*A8)+(2487*(E8/1000))) -> -4.3495121 | I8: =(18/29)*(C8/($N$2-C8)) -> 0.0019009457 | J8: =((22.41/273)*(A8+273))*((1/28.96)+((1/18.1)*I8)) -> 0.75059123 | K8: -9
A9: -8.5 | B9: =A9-0.1 -> -8.6 | C9: =611.14*EXP(17.269*(((273.16+A9)-273.16)/((273.16+A9)-35.86))) -> 321.75059 | D9: =$N$2-C9 -> 101003.25 | E9: =I9*1000 -> 1.977236 | G9: -8.5 | H9: =(((1.005+(1.88*(E9/1000)))*A9)+(2487*(E9/1000))) -> -3.6567103 | I9: =(18/29)*(C9/($N$2-C9)) -> 0.001977236 | J9: =((22.41/273)*(A9+273))*((1/28.96)+((1/18.1)*I9)) -> 0.75210432 | K9: -8.5
A10: -8 | B10: =A10-0.1 -> -8.1 | C10: =611.14*EXP(17.269*(((273.16+A10)-273.16)/((273.16+A10)-35.86))) -> 334.56511 | D10: =$N$2-C10 -> 100990.43 | E10: =I10*1000 -> 2.0562453 | G10: -8 | H10: =(((1.005+(1.88*(E10/1000)))*A10)+(2487*(E10/1000))) -> -2.9570439 | I10: =(18/29)*(C10/($N$2-C10)) -> 0.0020562453 | J10: =((22.41/273)*(A10+273))*((1/28.96)+((1/18.1)*I10)) -> 0.75362103 | K10: -8
A11: -7.5 | B11: =A11-0.1 -> -7.6 | C11: =611.14*EXP(17.269*(((273.16+A11)-273.16)/((273.16+A11)-35.86))) -> 347.83089 | D11: =$N$2-C11 -> 100977.17 | E11: =I11*1000 -> 2.1380579 | G11: -7.5 | H11: =(((1.005+(1.88*(E11/1000)))*A11)+(2487*(E11/1000))) -> -2.2502966 | I11: =(18/29)*(C11/($N$2-C11)) -> 0.0021380579 | J11: =((22.41/273)*(A11+273))*((1/28.96)+((1/18.1)*I11)) -> 0.75514146 | K11: -7.5
A12: -7 | B12: =A12-0.1 -> -7.1 | C12: =611.14*EXP(17.269*(((273.16+A12)-273.16)/((273.16+A12)-35.86))) -> 361.56161 | D12: =$N$2-C12 -> 100963.44 | E12: =I12*1000 -> 2.2227606 | G12: -7 | H12: =(((1.005+(1.88*(E12/1000)))*A12)+(2487*(E12/1000))) -> -1.536246 | I12: =(18/29)*(C12/($N$2-C12)) -> 0.0022227606 | J12: =((22.41/273)*(A12+273))*((1/28.96)+((1/18.1)*I12)) -> 0.75666576 | K12: -7
A13: -6.5 | B13: =A13-0.1 -> -6.6 | C13: =611.14*EXP(17.269*(((273.16+A13)-273.16)/((273.16+A13)-35.86))) -> 375.77131 | D13: =$N$2-C13 -> 100949.23 | E13: =I13*1000 -> 2.3104423 | G13: -6.5 | H13: =(((1.005+(1.88*(E13/1000)))*A13)+(2487*(E13/1000))) -> -0.81466366 | I13: =(18/29)*(C13/($N$2-C13)) -> 0.0023104423 | J13: =((22.41/273)*(A13+273))*((1/28.96)+((1/18.1)*I13)) -> 0.75819404 | K13: -6.5
A14: -6 | B14: =A14-0.1 -> -6.1 | C14: =611.14*EXP(17.269*(((273.16+A14)-273.16)/((273.16+A14)-35.86))) -> 390.47439 | D14: =$N$2-C14 -> 100934.53 | E14: =I14*1000 -> 2.4011944 | G14: -6 | H14: =(((1.005+(1.88*(E14/1000)))*A14)+(2487*(E14/1000))) -> -0.085315093 | I14: =(18/29)*(C14/($N$2-C14)) -> 0.0024011944 | J14: =((22.41/273)*(A14+273))*((1/28.96)+((1/18.1)*I14)) -> 0.75972643 | K14: -6
... A224: 99 | B224: =A224-0.1 -> 98.9 | C224: =611.14*EXP(17.269*(((273.16+A224)-273.16)/((273.16+A224)-35.86))) -> 98614.599 | D224: =$N$2-C224 -> 2710.4009 | E224: =I224*1000 -> 22583.029 | G224: 99 | H224: =(((1.005+(1.88*(E224/1000)))*A224)+(2487*(E224/1000))) -> 60466.641 | I224: =(18/29)*(C224/($N$2-C224)) -> 22.583029 | J224: =((22.41/273)*(A224+273))*((1/28.96)+((1/18.1)*I224)) -> 39.154513 | K224: 99
A225: 99.5 | B225: =A225-0.1 -> 99.4 | C225: =610.472*EXP(17.269*(((273.16+A225)-273.16)/((273.16+A225)-35.86))) -> 100305 | D225: =$N$2-C225 -> 1019.9974 | E225: =I225*1000 -> 61037.681 | G225: 99.5 | H225: =(((1.005+(1.88*(E225/1000)))*A225)+(2487*(E225/1000))) -> 163318.42 | I225: =(18/29)*(C225/($N$2-C225)) -> 61.037681 | J225: =((22.41/273)*(A225+273))*((1/28.96)+((1/18.1)*I225)) -> 104.1716 | K225: 99.5
A226: 100 | B226: =A226-0.1 -> 99.9 | C226: 101419.04 | D226: =$N$2-C226 -> -94.04 | G226: 100 | K226: 100
A227: 100.5 | B227: =A227-0.1 -> 100.4 | C227: =((A227/100)^4)*100000 -> 102015.05 | G227: 100.5 | K227: 100.5
A228: 101 | B228: =A228-0.1 -> 100.9 | C228: =((A228/100)^4)*100000 -> 104060.4 | G228: 101 | K228: 101
A229: 101.5 | B229: =A229-0.1 -> 101.4 | C229: =((A229/100)^4)*100000 -> 106136.36 | G229: 101.5 | K229: 101.5
A230: 102 | B230: =A230-0.1 -> 101.9 | C230: =((A230/100)^4)*100000 -> 108243.22 | G230: 102 | K230: 102
A231: 102.5 | B231: =A231-0.1 -> 102.4 | C231: =((A231/100)^4)*100000 -> 110381.29 | G231: 102.5 | K231: 102.5
A232: 103 | B232: =A232-0.1 -> 102.9 | C232: =((A232/100)^4)*100000 -> 112550.88 | G232: 103 | K232: 103
A233: 103.5 | B233: =A233-0.1 -> 103.4 | C233: =((A233/100)^4)*100000 -> 114752.3 | G233: 103.5 | K233: 103.5
A234: 104 | B234: =A234-0.1 -> 103.9 | C234: =((A234/100)^4)*100000 -> 116985.86 | G234: 104 | K234: 104
A235: 104.5 | B235: =A235-0.1 -> 104.4 | C235: =((A235/100)^4)*100000 -> 119251.86 | G235: 104.5 | K235: 104.5
A236: 105 | B236: =A236-0.1 -> 104.9 | C236: =((A236/100)^4)*100000 -> 121550.62 | E236: =I236*1000 -> 75445.216 | G236: 105 | I236: =(18/29)*(C236)/1000 -> 75.445216 | J236: =((22.41/273)*(A236+273))*((1/29)+((1/18)*I236)) -> 131.12592 | K236: 105
A237: 105.5 | B237: =A237-0.1 -> 105.4 | C237: =((A237/100)^4)*100000 -> 123882.47 | G237: 105.5 | K237: 105.5
A238: 106 | B238: =A238-0.1 -> 105.9 | C238: =((A238/100)^4)*100000 -> 126247.7 | G238: 106 | K238: 106
A239: 106.5 | B239: =A239-0.1 -> 106.4 | C239: =((A239/100)^4)*100000 -> 128646.64 | G239: 106.5 | K239: 106.5
A240: 107 | B240: =A240-0.1 -> 106.9 | C240: =((A240/100)^4)*100000 -> 131079.6 | G240: 107 | K240: 107
A241: 107.5 | B241: =A241-0.1 -> 107.4 | C241: =((A241/100)^4)*100000 -> 133546.91 | G241: 107.5 | K241: 107.5
A242: 108 | B242: =A242-0.1 -> 107.9 | C242: =((A242/100)^4)*100000 -> 136048.9 | G242: 108 | K242: 108
A243: 108.5 | B243: =A243-0.1 -> 108.4 | C243: =((A243/100)^4)*100000 -> 138585.87 | G243: 108.5 | K243: 108.5
A244: 109 | B244: =A244-0.1 -> 108.9 | C244: =((A244/100)^4)*100000 -> 141158.16 | G244: 109 | K244: 109
A245: 109.5 | B245: =A245-0.1 -> 109.4 | C245: =((A245/100)^4)*100000 -> 143766.1 | G245: 109.5 | K245: 109.5
A246: 110 | B246: =A246-0.1 -> 109.9 | C246: =((A246/100)^4)*100000 -> 146410 | E246: =I246*1000 -> 90875.172 | G246: 110 | I246: =(18/29)*(C246)/1000 -> 90.875172 | J246: =((22.41/273)*(A246+273))*((1/29)+((1/18)*I246)) -> 159.8111 | K246: 110
A247: 110.5 | B247: =A247-0.1 -> 110.4 | C247: =((A247/100)^4)*100000 -> 149090.21 | G247: 110.5 | K247: 110.5
A248: 111 | B248: =A248-0.1 -> 110.9 | C248: =((A248/100)^4)*100000 -> 151807.04 | G248: 111 | K248: 111
A249: 111.5 | B249: =A249-0.1 -> 111.4 | C249: =((A249/100)^4)*100000 -> 154560.84 | G249: 111.5 | K249: 111.5
...
