Workbook
Name base: #REF!
Name f: #REF!
Name h: #REF!
Name t: #REF!
Name v: #REF!

Sheet Rem & biblio
B2: Séchage tour type Tall Form + post-cristallisation
B3: approche théorique des paramètres air et produit
B5: Remarques et données biblio :
B6: Le séchage couplé Tall Form, post-cristallisation sur bande et séchage final sur lit
B7: fluidisé, permet d'augmenter le taux de cristallisation du produit fini et de diminuer
B8: l'hygroscopicité de la poudre. Ce système est particulièrement adapté au séchage du
B9: lactosérum doux et du perméat de lactosérum ou de lait.
B10: Le principe est de sécher le produit dans une première étape, en gardant suffisament
B11: d'humidité et favorisant la mobilité de l'eau d'hydratation nécessaire à la cristallisation
B12: du béta-lactose et lu lactose alpha-anhydre en lactose alpha monohydraté.
B13: La 1ère phase du séchage se déroule au-delà de la température de transition vitreuse
B14: de la poudre sortie chambre de séchage.
... B103: Tg = température de transition vitreuse.
B105: Simul 1 | C105: Simul 3
B107: Cette simulation est une estimation des paramètres pour le séchage de SDCH
B108: pré-cristallisé à 72% avec post cristallisation et réglage aw finale sur lit fluidisé.
B109: Simul 1 = paramètres GEA-NIRO, Simul 3 = paramètres Relco.
B111: Simul 2
B113: Même simulation que simul 1, mais en position séchage classique type tour W, sans
B114: post-cristallisation. Il s'agit d'une position de secours.
B116: Seules les cellules jaunes sont modifiables, les autres cellules peuvent être ajustées
B117: soit en modifiant les cellules jaunes en manuel, soit en utilisant la fonction Excel
B118: Données > analyse et scénarios > valeur cible, en prenant comme "valeur à définir"
B119: une valeur contenant un calcul, saisir une "valeur cible", en visant une des cellules en
B120: jaune, liée à ce calcul, comme "cellule à modifier".
B122: Mollier S1 et Mollier S3 donnent la retranscription des paramètres simul 1 et simul 3
... B188: Isothermes de sorption du lactose et du lait :
I203: Simul 1
B268: L'humidité libre du lait entier en poudre est généralement de 3,5%, d'après le diagramme
B269: ci-dessus la poudre doit être stockée à une température < 45°C. Ce point correspond à une
B270: Aw de la poudre d'environ 0,2 - 0,25 à 25°C.
B280: Zone de collage en fonction de T-Tg :
I298: Simul 1
I299: Simul 3
B338: Tg du lactose amorphe en fonction de l'aw (< 0,575):

Sheet Simul 1
B1: Simulation 1 : Séchage tour type Tall Form
B2: Estimation du séchage avec post cristallisation sur bande et fin séchage sur VF d'après GEA-Niro.Voir schéma. | T2: Powder specific heat VF 3 in
B3: Produit fabriqué : | C3: SDCH Belt Process | G3: Poids du concentré traité : | H3: 7000 | I3: kg / h | J3: =H3/E5 -> 5384.6154 | K3: ltrs / h | N3: Composition du concentré :
B4: Extrait sec entrée cristallisoir : | C4: =O5 -> 58 | G4: Extrait sec entrée cristallisoir : | H4: =H3*C4% -> 4060 | I4: kg / h | T4: Product temperature( °C) | U4: =D155 -> 50.249997 | Y4: Specific heats at this temperature
B5: Extrait sec cristallisé entrée séchage : | C5: =$O$5+(($O$5*$O$6%)*$O$7%)*$O$9% -> 59.637827 | D5: Densité à 25°C : | E5: 1.3 | G5: Extrait sec cristallisé entrée séchage : | H5: =H3*C5% -> 4174.6479 | I5: kg / h | N5: ES sortie Evapo % : | O5: 58
B6: Extrait sec Poudre sortie BP : | C6: =100-C7 -> 92 | G6: Poudre sortie Tall Form : | H6: =H5/C6% -> 4537.6608 | I6: kg / h | L6: Gilles Valot | N6: Taux de lactose % : | O6: 74 | T6: Protein(%) | U6: 12.5 | Y6: Protein specific heat (J/(kg.K) | Z6: =2008.2+(1208.9/1000*U4)-(1312.9/1000000*U4*U4) -> 2065.6321
B7: Humidité d'hydratation poudre BP : | C7: 8 | D7: (8 à 10% > isotherme de sorption) | G7: Eau évaporée Tall Form : | H7: =H3-H6 -> 2462.3392 | I7: kg / h | L7: 45536 | N7: Taux de cristal. Avant séchage % : | O7: 72 | T7: Fat(%) | U7: 1 | Y7: Fat specific heat (J/(kg.K) | Z7: =1984.2+(1473.3/1000*U4)-(4800.8/1000000*U4*U4) -> 2046.111
B8: Extrait sec cristallisé entrée VF : | C8: =$O$5+(($O$5*$O$6%)*$O$8%)*$O$9% -> 60.047284 | G8: Extrait sec cristallisé entrée VF : | H8: =H3*C8% -> 4203.3099 | I8: kg / h | J8: =(H6-H8)/(H8+(H6-H8))% -> 7.3683535 | K8: w entrée VF après post-cristallisation | N8: Taux de cristallisation après BP % : | O8: 90 | T8: Carbonhydrate(%) | U8: 74 | Y8: Carbonhydrate specific heat (J/(kg.K) | Z8: =1548.8+(1962.5/1000*U4)-(5939.9/1000000*U4*U4) -> 1632.417
B9: Extrait sec poudre sortie VF : | C9: =100-C10 -> 98.7 | G9: Poudre produite sortie VF : | H9: =H8/C9% -> 4258.6726 | I9: kg / h à | J9: 28 | N9: Eau de cristallisation %/L : | O9: 5.3 | T9: Fiber(%) | U9: 0 | Y9: Fiber specific heat (J/(kg.K) | Z9: =1845.9+(1930.6/1000*U4)-(4650.9/1000000*U4*U4) -> 1931.1688
B10: Humidité d'hydratation poudre : | C10: 1.3 | D10: (environ 4,5% / non cristallisé) | G10: Eau évaporée VF : | H10: =H6-H9 -> 278.98814 | I10: Kg / h | K10: Patm : | L10: 101325 | N10: Vérif eau évaporée : | T10: Ash(%) | U10: 7.5 | Y10: Ash specific heat (J/(kg.K) | Z10: =1092.6+(1889.6/1000*U4)-(3681.7/1000000*U4*U4) -> 1178.2559
N11: Eau évaporée : | O11: =H3-H9 -> 2741.3274 | T11: Water(%) | U11: 1.5 | Y11: Water specific heat (J/(kg.K) | Z11: =4176.2-(9.0864/100000*U4)+(5473.1/1000000*U4*U4) -> 4190.0154
B12: Paramètres | C12: T°c | D12: Volume | F12: Poids | G12: W | I12: Enthalpie | N12: Calculée : | O12: =H24+H40 -> 2741.3274 | P12: =O11=O12 -> TRUE
G13: (humidité abs) | N13: Tall Form : | O13: =H3-H6 -> 2462.3392 | Y13: Note: Values for specific heat calculated
D14: m3/kgas | E14: total | F14: kg as | G14: kg/kgas | H14: total | I14: kj/kgas | J14: kcal/kgas | K14: total kj | L14: total kcal | Y14: using Choi and Okos correlations
D15: (kg / m3 as) | E15: m3 | H15: kg eau | T15: Specific heat at this temperature = | U15: =Z6*U6/100 +Z7*U7/100+Z8*U8/100+Z9*U9/100+Z10*U10/100+Z11*U11/100 -> 1637.8731 | V15: (J/(kg.K)
T16: Specific heat at this temperature = | U16: =U15/4.1855 -> 391.32078 | V16: (Kcal/(kg.K)
B17: Séchage Tall Form + BP : | N17: BP = belt process
N18: VF = vibro fluidiseur | T18: Powder specific heat VF 3 out
B19: Air ambiant | C19: 23.5 | D19: =((22.41/273)*(C19+273))*((1/29)+((1/18)*G19)) -> 0.85144767 | E19: 52215.583 | F19: =E19/D19 -> 61325.651 | G19: 0.009 | H19: =F19*G19 -> 551.93086 | I19: =(((1.005+(1.88*G19))*C19)+(2487*G19)) -> 46.39812 | J19: =I19/4.1855 -> 11.085443 | K19: =I19*F19 -> 2845394.9 | L19: =K19/4.1855 -> 679821.98 | N19: Extrait sec cristallisé = extraitsec entrée cristallisoir + eau de cristallisation
D20: =1/D19 -> 1.1744703 | N20: Humidité d'hydratation = eau +/- libre , extractible par disséccation | T20: Product temperature( °C) | U20: ='Simul 1'!J9 -> 28 | Y20: Specific heats at this temperature
B22: Air entrée tour | C22: 160 | D22: =((22.41/273)*(C22+273))*((1/29)+((1/18)*G22)) -> 1.2434295 | E22: =D22*F22 -> 76254.122 | F22: =F19 -> 61325.651 | G22: =H22/F22 -> 0.009 | H22: =H19 -> 551.93086 | I22: =(((1.005+(1.88*$G$22))*$C$22)+(2487*$G$22)) -> 185.8902 | J22: =I22/4.1855 -> 44.412902 | K22: =F22*I22 -> 11399838 | L22: =K22/4.1855 -> 2723650.1 | T22: Protein(%) | U22: =U6 -> 12.5 | Y22: Protein specific heat (J/(kg.K) | Z22: =2008.2+(1208.9/1000*U20)-(1312.9/1000000*U20*U20) -> 2041.0199
D23: =1/D22 -> 0.80422735 | T23: Fat(%) | U23: =U7 -> 1 | Y23: Fat specific heat (J/(kg.K) | Z23: =1984.2+(1473.3/1000*U20)-(4800.8/1000000*U20*U20) -> 2021.6886
B24: Evaporation | H24: =H3-H6 -> 2462.3392 | T24: Carbonhydrate(%) | U24: =U8 -> 74 | Y24: Carbonhydrate specific heat (J/(kg.K) | Z24: =1548.8+(1962.5/1000*U20)-(5939.9/1000000*U20*U20) -> 1599.0931
C25: 155 à 160°C | T25: Fiber(%) | U25: =U9 -> 0 | Y25: Fiber specific heat (J/(kg.K) | Z25: =1845.9+(1930.6/1000*U20)-(4650.9/1000000*U20*U20) -> 1896.3105
N26: Viser 37 à 45% HR sortie Tall Form | T26: Ash(%) | U26: =U10 -> 7.5 | Y26: Ash specific heat (J/(kg.K) | Z26: =1092.6+(1889.6/1000*U20)-(3681.7/1000000*U20*U20) -> 1142.6223
B27: Air sortie Chambre - Tall Form | C27: =(I27-(2487*G27))/((1.005+(1.88*G27))) -> 57.999994 | D27: =((22.41/273)*(C27+273))*((1/29)+((1/18)*G27)) -> 1.0111294 | E27: =D27*F27 -> 62008.171 | F27: =F22 -> 61325.651 | G27: =H27/F27 -> 0.049151865 | H27: =SUM(H22:H25) -> 3014.2701 | I27: =I22 -> 185.8902 | J27: =I27/4.1855 -> 44.412902 | K27: =F27*I27 -> 11399838 | L27: =K27/4.1855 -> 2723650.1 | N27: dépend des paramètres du produit, de l'air ambiant, | T27: Water(%) | U27: =U11 -> 1.5 | Y27: Water specific heat (J/(kg.K) | Z27: =4176.2-(9.0864/100000*U20)+(5473.1/1000000*U20*U20) -> 4180.4884
B28: (sortie air directe ou + air VF + bag filter) | C28: 55 à 60°C | D28: =1/D27 -> 0.98899306 | G28: =I85 -> 40.897234 | H28: voir T-Tg | I28: (isenthalpe) | N28: de la température d'entrée tour.
B29: Air rejeté sortie VF + sortie Tall Form : | N29: Modifier les cellules en jaune ou voir onglet Rem & biblio | Y29: Note: Values for specific heat calculated
Y30: using Choi and Okos correlations
B31: Air secondaire - Total VF | C31: =C54 -> 46.826728 | D31: =D54 -> 0.92248856 | E31: =E54 -> 46124.428 | F31: =F54 -> 50000 | G31: =G54 -> 0.011779763 | H31: =H54 -> 588.98814 | I31: =I54 -> 77.394154 | J31: =J54 -> 18.491018 | ... L31: =L54 -> 924550.88 | T31: Specific heat at this temperature = | U31: =Z22*U22/100 +Z23*U23/100+Z24*U24/100+Z25*U25/100+Z26*U26/100+Z27*U27/100 -> 1607.0773 | V31: (J/(kg.K)
D32: =1/D31 -> 1.0840243 | G32: =G55 -> 17.928416 | T32: Specific heat at this temperature = | U32: =U31/4.1855 -> 383.96303 | V32: (Kcal/(kg.K)
B34: Air sortie tour avant cyclones | C34: =(I34-(2487*G34))/((1.005+(1.88*G34))) -> 53.16394 | D34: =((22.41/273)*(C34+273))*((1/29)+((1/18)*G34)) -> 0.97138948 | E34: =D34*F34 -> 108140.57 | F34: =F27+F31 -> 111325.65 | G34: =H34/F34 -> 0.032366828 | H34: =H27+H31 -> 3603.2582 | I34: =K34/F34 -> 137.16107 | J34: =I34/4.1855 -> 32.770534 | K34: =K27+K31 -> 15269545 | L34: =J34*F34 -> 3648201
B35: (si mélange air VF avec Tall Form) | D35: =1/D34 -> 1.0294532 | G35: =I94 -> 34.814105 | T35: Ecart | U35: =U15-U31 -> 30.79584 | V35: (J/(kg.K)
B36: Vibro fluidiseur (VF) : | U36: =U16-U32 -> 7.3577446 | V36: (Kcal/(kg.K)
B38: Air entrée VF1 - VF2 | C38: 82 | D38: =((22.41/273)*(C38+273))*((1/29)+((1/18)*G38)) -> 1.0194399 | E38: =F38*D38 -> 30583.196 | F38: 30000 | G38: 0.009 | H38: =F38*G38 -> 270 | I38: =(((1.005+(1.88*$G$38))*$C$38)+(2487*$G$38)) -> 106.18044 | J38: =I38/4.1855 -> 25.368639 | K38: =F38*I38 -> 3185413.2 | L38: =K38/4.1855 -> 761059.18 | T38: Poudre entrée VF3 | U38: ='Simul 1'!H9*'Simul 1'!U16 -> 1666507.1 | V38: (Kcal/(kg.K)
D39: =1/D38 -> 0.98093083 | T39: Poudre sortie VF3 | U39: ='Simul 1'!H9*'Simul 1'!U32 -> 1635172.9 | V39: (Kcal/(kg.K)
B40: Evaporation | H40: =H6-H9 -> 278.98814 | T40: Ecart refroidissement VF 3 | U40: =U38-U39 -> 31334.226 | V40: (Kcal/(kg.K)
B43: Air sortie VF1 - VF2 | C43: =(I43-(2487*G43))/((1.005+(1.88*G43))) -> 58.369379 | D43: =((22.41/273)*(C43+273))*((1/29)+((1/18)*G43)) -> 0.9656342 | E43: =D43*F43 -> 28969.026 | F43: =F38 -> 30000 | G43: =H43/F43 -> 0.018299605 | H43: =SUM(H38:H41) -> 548.98814 | I43: =I38 -> 106.18044 | J43: =I43/4.1855 -> 25.368639 | K43: =F43*I43 -> 3185413.2 | L43: =K43/4.1855 -> 761059.18
D44: =1/D43 -> 1.0355888 | G44: =I104 -> 15.696502 | I44: (isenthalpe) | N44: Viser 20 - 25% HR > fonction de la T°C d'entrée VF 1 - 2
B46: Air entrée VF3 | C46: 22.486276 | D46: =((22.41/273)*(C46+273))*((1/29)+((1/18)*G46)) -> 0.83910376 | E46: =F46*D46 -> 16782.075 | F46: 20000 | G46: 0.002 | H46: =G46*F46 -> 40 | I46: =(((1.005+(1.88*$G$46))*$C$46)+(2487*$G$46)) -> 27.657255 | J46: =I46/4.1855 -> 6.6078737 | K46: =F46*I46 -> 553145.11 | L46: =K46/4.1855 -> 132157.47
D47: =1/D46 -> 1.1917477
B48: Refroidissement | K48: =L48*4.1855 -> 131149.4 | L48: ='Simul 1'!U40 -> 31334.226
B51: Air sortie VF3 | C51: =(I51-(2487*G51))/((1.005+(1.88*G51))) -> 28.986801 | D51: =((22.41/273)*(C51+273))*((1/29)+((1/18)*G51)) -> 0.85756356 | E51: =D51*F51 -> 17151.271 | F51: =F46 -> 20000 | G51: =H51/F51 -> 0.002 | H51: =SUM(H46:H49) -> 40 | I51: =K51/F51 -> 34.214725 | J51: =I51/4.1855 -> 8.174585 | K51: =K46+K48 -> 684294.51 | L51: =K51/4.1855 -> 163491.7 | N51: Viser 29°C T°C sortie air VF3 > fonction de la T°C de l'air entrant VF3 | T51: Besoin en NRJ | U51: Ref Tour W | W51: Tall Form + BP + VF
D52: =1/D51 -> 1.1660943 | G52: =I113 -> 8.1271037 | I52: (isenthalpe) | T52: Kcal | U52: 1319 | V52: /tee | W52: =L57/H57 -> 901.87113 | X52: /tee
T53: Vapeur - t | U53: =U54/950 -> 2.2547009 | V53: /tee | W53: =W54/950 -> 1.5416601 | X53: /tee
B54: Total VF vers bagfilter | C54: =(I54-(2487*G54))/((1.005+(1.88*G54))) -> 46.826728 | D54: =((22.41/273)*(C54+273))*((1/29)+((1/18)*G54)) -> 0.92248856 | E54: =D54*F54 -> 46124.428 | F54: =F51+F43 -> 50000 | G54: =H54/F54 -> 0.011779763 | H54: =H51+H43 -> 588.98814 | I54: =K54/F54 -> 77.394154 | J54: =I54/4.1855 -> 18.491018 | K54: =L54*4.1855 -> 3869707.7 | L54: =L51+L43 -> 924550.88 | T54: Gaz - kWh Pcs | U54: =U52/585*950 -> 2141.9658 | V54: /tee | W54: =W52/585*950 -> 1464.5771 | X54: /tee
D55: =1/D54 -> 1.0840243 | G55: =I122 -> 17.928416 | T55: Electricité - kWh | U55: 140 | V55: /tee | W55: 200 | X55: /tee
T56: NB : hors roue dissécatrice VF 3 - 4
B57: Besoin air + NRJ | D57: Air entrant | E57: =F57*D19 -> 94787.966 | F57: =F38+F46+F19 -> 111325.65 | G57: Eau évaporée | H57: =H24+H40 -> 2741.3274 | J57: NRJ chauffage | K57: =(K22+K38)-((F57-F46)*I19) -> 10347912 | L57: =K57/4.1855 -> 2472324
B59: Vérification des caractéristiques des flux d'air sur le diagramme de Mollier
B60: Caractéristiques de l'air ambiant | D60: {=CELL("adresse",C19)} -> $C$19
B61: Pression partielle de vapeur dans l'air ambiant Pw | G61: =G19 -> 0.009 | I61: =100000*(G61/(G61+$B$129)) -> 1448 | J61: Pa | K61: Pression de vapeur de l'air
B62: Pression partielle de vapeur saturante Pws à | G62: =C19 -> 23.5 | I62: =611.14*EXP(17.269*(((273.16+G62)-273.16)/((273.16+G62)-35.86))) -> 2896.8815 | J62: Pa | K62: Pression de vapeur saturante
B63: Th - température humide - pression de vapeur | G63: =IF(G62>50,VLOOKUP(I19,'Air humide'!$H$26:$K$246,4),G62*ATAN(0.151977*SQRT(I67+8.313659))+(0.00391838*(SQRT(I67^3))*ATAN(0.023101*I67))-ATAN(I67-1.676331)+ATAN(G62+I67)-4.686035) -> 16.706256 | H63: +/- 0,5 | I63: =611.14*EXP(17.269*(((273.16+G63)-273.16)/((273.16+G63)-35.86))) -> 1902.8845 | J63: Pa | K63: T°C bulbe humide
B64: Tr - température de rosée - pression de vapeur | G64: =(31.685*(LOG(I61/613.34))/(1-0.1311*(LOG(I61/613.34)))) -> 12.428504 | I64: =611.14*EXP(17.269*(((273.16+G64)-273.16)/((273.16+G64)-35.86))) -> 1443.4202 | J64: Pa | K64: Point de rosée
B65: Ws Ts - humidité abs à la température sèche | G65: =(18/29)*(I62/($L$10-I62)) -> 0.018267792 | K65: isotherme 100%
B66: Ws Th - humidité abs à la température humide | G66: =(18/29)*(I63/($L$10-I63)) -> 0.011879658 | K66: isenthalpe 100%
B67: Humidité relative HR% | F67: φ | I67: =I61/I62% -> 49.984785 | J67: % | K67: Humidité relative de l'air (HR)
B69: Caractéristiques de l'air entrée tour | D69: {=CELL("adresse",C22)} -> $C$22
B70: Pression partielle de vapeur dans l'air entrant Pw | G70: =G22 -> 0.009 | I70: =100000*(G70/(G70+B129)) -> 1448 | J70: Pa | K70: Pression de vapeur de l'air
B71: Pression partielle de vapeur saturante Pws à | G71: =C22 -> 160 | I71: =((G71/100)^4)*L10 -> 664043.52 | J71: Pa | K71: Pression de vapeur saturante
B72: Th - température humide - pression de vapeur | G72: =VLOOKUP(ROUND(I22,-1),'Air humide'!$H$26:$K$246,4) -> 42.5 | H72: +/- 0,5 | I72: =611.14*EXP(17.269*(((273.16+G72)-273.16)/((273.16+G72)-35.86))) -> 8420.1859 | J72: Pa | K72: T°C bulbe humide
B73: Tr - température de rosée - pression de vapeur | G73: =(31.685*(LOG(I70/613.34))/(1-0.1311*(LOG(I70/613.34)))) -> 12.428504 | I73: =611.14*EXP(17.269*(((273.16+G73)-273.16)/((273.16+G73)-35.86))) -> 1443.4202 | J73: Pa | K73: Point de rosée
B75: Ws Th - humidité abs à la température humide | G75: =(18/29)*(I72/($L$10-I72)) -> 0.05625459 | K75: isenthalpe 100%
B76: Humidité relative HR% | F76: φ | I76: =I70/I71% -> 0.218058 | J76: % | K76: Humidité relative de l'air (HR)
B78: Caractéristiques de l'air sortie Tall Form | D78: {=CELL("adresse",C27)} -> $C$27
B79: Pression partielle de vapeur dans l'air sortant Pw | G79: =G27 -> 0.049151865 | I79: =100000*(G79/(G79+B129)) -> 7428.1323 | J79: Pa | K79: Pression de vapeur de l'air
B80: Pression partielle de vapeur saturante Pws à | G80: =C27 -> 57.999994 | I80: =611.14*EXP(17.269*(((273.16+G80)-273.16)/((273.16+G80)-35.86))) -> 18162.921 | J80: Pa | K80: Pression de vapeur saturante
B81: Th - température humide - pression de vapeur | G81: =VLOOKUP(ROUND(I27,-1),'Air humide'!$H$26:$K$246,4) -> 42.5 | H81: +/- 0,5 | I81: =611.14*EXP(17.269*(((273.16+G81)-273.16)/((273.16+G81)-35.86))) -> 8420.1859 | J81: Pa | K81: T°C bulbe humide
B82: Tr - température de rosée - pression de vapeur | G82: =(31.685*(LOG(I79/613.34))/(1-0.1311*(LOG(I79/613.34)))) -> 40.000808 | I82: =611.14*EXP(17.269*(((273.16+G82)-273.16)/((273.16+G82)-35.86))) -> 7378.9724 | J82: Pa | K82: Point de rosée
B84: Ws Th - humidité abs à la température humide | G84: =(18/29)*(I81/($L$10-I81)) -> 0.05625459 | K84: isenthalpe 100%
B85: Humidité relative HR% | F85: φ | I85: =I79/I80% -> 40.897234 | J85: % | K85: Humidité relative de l'air (HR)
B87: Caractéristiques de l'air sortie sécheur Tall Form + VF vers cyclone et (ou) bag filter | F87: {=CELL("adresse",C34)} -> $C$34
B88: Pression partielle de vapeur dans l'air sortant Pw | G88: =G34 -> 0.032366828 | I88: =100000*(G88/(G88+B129)) -> 5018.7837 | J88: Pa | K88: Pression de vapeur de l'air
B89: Pression partielle de vapeur saturante Pws à | G89: =C34 -> 53.16394 | I89: =611.14*EXP(17.269*(((273.16+G89)-273.16)/((273.16+G89)-35.86))) -> 14415.949 | J89: Pa | K89: Pression de vapeur saturante
B90: Th - température humide - pression de vapeur | G90: =VLOOKUP(I34,'Air humide'!$H$26:$K$246,4) -> 36 | H90: +/- 0,5 | I90: =611.14*EXP(17.269*(((273.16+G90)-273.16)/((273.16+G90)-35.86))) -> 5943.5218 | J90: Pa | K90: T°C bulbe humide
B91: Tr - température de rosée - pression de vapeur | G91: =(31.685*(LOG(I88/613.34))/(1-0.1311*(LOG(I88/613.34)))) -> 32.857568 | I91: =611.14*EXP(17.269*(((273.16+G91)-273.16)/((273.16+G91)-35.86))) -> 4992.2704 | J91: Pa | K91: Point de rosée
B93: Ws Th - humidité abs à la température humide | G93: =(18/29)*(I90/($L$10-I90)) -> 0.038677137 | K93: isenthalpe 100%
B94: Humidité relative HR% | F94: φ | I94: =I88/I89% -> 34.814105 | J94: % | K94: Humidité relative de l'air (HR)
B96: Vérification des caractéristiques des flux d'air sur le diagramme de Mollier
B97: Caractéristiques de l'air sortie VF 1-2 | D97: {=CELL("adresse",C43)} -> $C$43
B98: Pression partielle de vapeur dans l'air sortant Pw | G98: =G43 -> 0.018299605 | I98: =100000*(G98/(G98+B129)) -> 2900.8012 | J98: Pa | K98: Pression de vapeur de l'air
B99: Pression partielle de vapeur saturante Pws à | G99: =C43 -> 58.369379 | I99: =611.14*EXP(17.269*(((273.16+G99)-273.16)/((273.16+G99)-35.86))) -> 18480.558 | J99: Pa | K99: Pression de vapeur saturante
B100: Th - température humide - pression de vapeur | G100: =VLOOKUP(I43,'Air humide'!$H$26:$K$246,4) -> 31 | H100: +/- 0,5 | I100: =611.14*EXP(17.269*(((273.16+G100)-273.16)/((273.16+G100)-35.86))) -> 4494.5737 | J100: Pa | K100: T°C bulbe humide
B101: Tr - température de rosée - pression de vapeur | G101: =(31.685*(LOG(I98/613.34))/(1-0.1311*(LOG(I98/613.34)))) -> 23.456749 | I101: =611.14*EXP(17.269*(((273.16+G101)-273.16)/((273.16+G101)-35.86))) -> 2889.3413 | J101: Pa | K101: Point de rosée
B103: Ws Th - humidité abs à la température humide | G103: =(18/29)*(I100/($L$10-I100)) -> 0.028810525 | K103: isenthalpe 100%
B104: Humidité relative HR% | F104: φ | I104: =I98/I99% -> 15.696502 | J104: % | K104: Humidité relative de l'air (HR)
B106: Caractéristiques de l'air sortie VF 3 | D106: {=CELL("adresse",C51)} -> $C$51
B107: Pression partielle de vapeur dans l'air sortant Pw | G107: =G51 -> 0.002 | I107: =100000*(G107/(G107+B129)) -> 325.44299 | J107: Pa | K107: Pression de vapeur de l'air
B108: Pression partielle de vapeur saturante Pws à | G108: =C51 -> 28.986801 | I108: =611.14*EXP(17.269*(((273.16+G108)-273.16)/((273.16+G108)-35.86))) -> 4004.4154 | J108: Pa | K108: Pression de vapeur saturante
B109: Th - température humide - pression de vapeur | G109: =IF(G108>50,VLOOKUP(I65,'Air humide'!$H$26:$K$246,4),G108*ATAN(0.151977*SQRT(I113+8.313659))+(0.00391838*(SQRT(I113^3))*ATAN(0.023101*I113))-ATAN(I113-1.676331)+ATAN(G108+I113)-4.686035) -> 11.466033 | H109: +/- 1 | I109: =611.14*EXP(17.269*(((273.16+G109)-273.16)/((273.16+G109)-35.86))) -> 1354.6285 | J109: Pa | K109: T°C bulbe humide
B110: Tr - température de rosée - pression de vapeur | G110: =(31.685*(LOG(I107/613.34))/(1-0.1311*(LOG(I107/613.34))))+1 -> -7.4168493 | I110: =611.14*EXP(17.269*(((273.16+G110)-273.16)/((273.16+G110)-35.86))) -> 350.08172 | J110: Pa | K110: Point de rosée
B112: Ws Th - humidité abs à la température humide | G112: =(18/29)*(I109/($L$10-I109)) -> 0.0084105307 | K112: isenthalpe 100%
B113: Humidité relative HR% | F113: φ | I113: =I107/I108% -> 8.1271037 | J113: % | K113: Humidité relative de l'air (HR)
B115: Caractéristiques de l'air sortie VF 1-2-3 | D115: {=CELL("adresse",C54)} -> $C$54
B116: Pression partielle de vapeur dans l'air sortant Pw | G116: =G54 -> 0.011779763 | I116: =100000*(G116/(G116+B129)) -> 1886.7946 | J116: Pa | K116: Pression de vapeur de l'air
B117: Pression partielle de vapeur saturante Pws à | G117: =C54 -> 46.826728 | I117: =611.14*EXP(17.269*(((273.16+G117)-273.16)/((273.16+G117)-35.86))) -> 10524.045 | J117: Pa | K117: Pression de vapeur saturante
B118: Th - température humide - pression de vapeur | G118: =IF(G117>50,VLOOKUP(I74,'Air humide'!$H$26:$K$246,4),G117*ATAN(0.151977*SQRT(I122+8.313659))+(0.00391838*(SQRT(I122^3))*ATAN(0.023101*I122))-ATAN(I122-1.676331)+ATAN(G117+I122)-4.686035) -> 26.453285 | H118: +/- 0,5 | I118: =611.14*EXP(17.269*(((273.16+G118)-273.16)/((273.16+G118)-35.86))) -> 3454.145 | J118: Pa | K118: T°C bulbe humide
B119: Tr - température de rosée - pression de vapeur | G119: =(31.685*(LOG(I116/613.34))/(1-0.1311*(LOG(I116/613.34)))) -> 16.519964 | I119: =611.14*EXP(17.269*(((273.16+G119)-273.16)/((273.16+G119)-35.86))) -> 1880.4853 | J119: Pa | K119: Point de rosée
B121: Ws Th - humidité abs à la température humide | G121: =(18/29)*(I118/($L$10-I118)) -> 0.021905929 | K121: isenthalpe 100%
...

Sheet Mollier S1
B127: Simul 1 | C127: X | D127: 9 g / kg as | K127: X | L127: 49,2 g /kg as
B128: GEA-Niro | C128: Ts | D128: 23,5°C | I128: T°C d'entrée à 160°C | K128: Ts | L128: 58°C
C129: Th | D129: 16,64°C | K129: Th | L129: 42,5°C
C130: Tr | D130: 12,45°C | K130: Tr | L130: 40
C131: HR | D131: 0.5 | K131: HR | L131: 0.41

Sheet Simul 2
B1: Simulation 2 : Séchage tour type Tall Form
B2: Estimation du séchage avec paramètres classiques idem tour W + VF à débit d'air égal. | T2: Powder specific heat VF 3 in
B3: Produit fabriqué : | C3: SDCH | G3: Poids du concentré traité : | H3: 6928.2545 | I3: kg / h | J3: =H3/E5 -> 5329.4266 | K3: ltrs / h | N3: Composition du concentré :
B4: Extrait sec entrée cristallisoir : | C4: =O5 -> 58 | G4: Extrait sec entrée cristallisoir : | H4: =H3*C4% -> 4018.3876 | I4: kg / h | T4: Product temperature( °C) | U4: =D155 -> 60.611412 | Y4: Specific heats at this temperature
B5: Extrait sec cristallisé entrée séchage : | C5: =$O$5+(($O$5*$O$6%)*$O$7%)*$O$9% -> 59.637827 | D5: Densité à 25°C : | E5: 1.3 | G5: Extrait sec cristallisé entrée séchage : | H5: =H3*C5% -> 4131.8605 | I5: kg / h | N5: ES sortie Evapo % : | O5: 58
B6: Extrait sec Poudre sortie BP : | C6: =100-C7 -> 95 | G6: Poudre sortie Tall Form : | H6: =H5/C6% -> 4349.3268 | I6: kg / h | L6: Gilles Valot | N6: Taux de lactose % : | O6: 74 | T6: Protein(%) | U6: 12.5 | Y6: Protein specific heat (J/(kg.K) | Z6: =2008.2+(1208.9/1000*U4)-(1312.9/1000000*U4*U4) -> 2076.6499
B7: Humidité d'hydratation poudre BP : | C7: 5 | D7: (3 à 6%) | G7: Eau évaporée Tall Form : | H7: =H3-H6 -> 2578.9277 | I7: kg / h | L7: 45536 | N7: Taux de cristal. Avant séchage % : | O7: 72 | T7: Fat(%) | U7: 1 | Y7: Fat specific heat (J/(kg.K) | Z7: =1984.2+(1473.3/1000*U4)-(4800.8/1000000*U4*U4) -> 2055.8619
B8: Extrait sec cristallisé entrée VF : | C8: =$O$5+(($O$5*$O$6%)*$O$8%)*$O$9% -> 59.637827 | G8: Extrait sec cristallisé entrée VF : | H8: =H3*C8% -> 4131.8605 | I8: kg / h | N8: Taux de cristallisation après BP % : | O8: 72 | T8: Carbonhydrate(%) | U8: 74 | Y8: Carbonhydrate specific heat (J/(kg.K) | Z8: =1548.8+(1962.5/1000*U4)-(5939.9/1000000*U4*U4) -> 1645.9282
B9: Extrait sec poudre sortie VF : | C9: =100-C10 -> 98.1 | G9: Poudre produite sortie VF : | H9: =H8/C9% -> 4211.8863 | I9: kg / h à | J9: 27 | N9: Eau de cristallisation %/L : | O9: 5.3 | T9: Fiber(%) | U9: 0 | Y9: Fiber specific heat (J/(kg.K) | Z9: =1845.9+(1930.6/1000*U4)-(4650.9/1000000*U4*U4) -> 1945.8302
B10: Humidité d'hydratation poudre : | C10: 1.9 | D10: (4,5% / non cristallisé) | G10: Eau évaporée VF : | H10: =H6-H9 -> 137.4405 | I10: Kg / h | K10: Patm : | L10: 101325 | N10: Vérif eau évaporée : | T10: Ash(%) | U10: 7.5 | Y10: Ash specific heat (J/(kg.K) | Z10: =1092.6+(1889.6/1000*U4)-(3681.7/1000000*U4*U4) -> 1193.6057
N11: Eau évaporée : | O11: =H3-H9 -> 2716.3682 | T11: Water(%) | U11: 1.5 | Y11: Water specific heat (J/(kg.K) | Z11: =4176.2-(9.0864/100000*U4)+(5473.1/1000000*U4*U4) -> 4196.3013
B12: Paramètres | C12: T°c | D12: Volume | F12: Poids | G12: W | I12: Enthalpie | N12: Calculée : | O12: =H24+H40 -> 2716.3682 | P12: =O11=O12 -> TRUE
G13: (humidité abs) | N13: Tall Form : | O13: =H3-H6 -> 2578.9277 | Y13: Note: Values for specific heat calculated
D14: m3/kgas | E14: total | F14: kg as | G14: kg/kgas | H14: total | I14: kj/kgas | J14: kcal/kgas | K14: total kj | L14: total kcal | Y14: using Choi and Okos correlations
D15: (kg / m3 as) | E15: m3 | H15: kg eau | T15: Specific heat at this temperature = | U15: =Z6*U6/100 +Z7*U7/100+Z8*U8/100+Z9*U9/100+Z10*U10/100+Z11*U11/100 -> 1650.5917 | V15: (J/(kg.K)
T16: Specific heat at this temperature = | U16: =U15/4.1855 -> 394.3595 | V16: (Kcal/(kg.K)
B17: Séchage Tall Form + BP : | N17: BP = belt process
N18: VF = vibro fluidiseur
B19: Air ambiant | C19: 23.5 | D19: =((22.41/273)*(C19+273))*((1/29)+((1/18)*G19)) -> 0.85144767 | E19: 52216 | F19: =E19/D19 -> 61326.141 | G19: 0.009 | H19: =F19*G19 -> 551.93527 | I19: =(((1.005+(1.88*G19))*C19)+(2487*G19)) -> 46.39812 | J19: =I19/4.1855 -> 11.085443 | K19: =I19*F19 -> 2845417.7 | L19: =K19/4.1855 -> 679827.42 | N19: Extrait sec cristallisé = extraitsec entrée cristallisoir + eau de cristallisation | T19: Powder specific heat VF 3 out
D20: =1/D19 -> 1.1744703 | N20: Humidité d'hydratation = eau +/- libre , extractible par disséccation
T21: Product temperature( °C) | U21: ='Simul 2'!J9 -> 27 | Y21: Specific heats at this temperature
B22: Air entrée tour | C22: 185 | D22: =((22.41/273)*(C22+273))*((1/29)+((1/18)*G22)) -> 1.315221 | E22: =D22*F22 -> 80657.43 | F22: =F19 -> 61326.141 | G22: =H22/F22 -> 0.009 | H22: =H19 -> 551.93527 | I22: =(((1.005+(1.88*$G$22))*$C$22)+(2487*$G$22)) -> 211.4382 | J22: =I22/4.1855 -> 50.516832 | K22: =F22*I22 -> 12966689 | L22: =K22/4.1855 -> 3098002.4
D23: =1/D22 -> 0.76032848 | T23: Protein(%) | U23: =U6 -> 12.5 | Y23: Protein specific heat (J/(kg.K) | Z23: =2008.2+(1208.9/1000*U21)-(1312.9/1000000*U21*U21) -> 2039.8832
B24: Evaporation | H24: =H3-H6 -> 2578.9277 | T24: Fat(%) | U24: =U7 -> 1 | Y24: Fat specific heat (J/(kg.K) | Z24: =1984.2+(1473.3/1000*U21)-(4800.8/1000000*U21*U21) -> 2020.4793
T25: Carbonhydrate(%) | U25: =U8 -> 74 | Y25: Carbonhydrate specific heat (J/(kg.K) | Z25: =1548.8+(1962.5/1000*U21)-(5939.9/1000000*U21*U21) -> 1597.4573
N26: Viser 15 à 20% HR sortie Tall Form | T26: Fiber(%) | U26: =U9 -> 0 | Y26: Fiber specific heat (J/(kg.K) | Z26: =1845.9+(1930.6/1000*U21)-(4650.9/1000000*U21*U21) -> 1894.6357
B27: Air sortie Chambre - Tall Form | C27: =(I27-(2487*G27))/((1.005+(1.88*G27))) -> 76.722825 | D27: =((22.41/273)*(C27+273))*((1/29)+((1/18)*G27)) -> 1.071355 | E27: =D27*F27 -> 65702.067 | F27: =F22 -> 61326.141 | G27: =H27/F27 -> 0.051052666 | H27: =SUM(H22:H25) -> 3130.863 | I27: =I22 -> 211.4382 | J27: =I27/4.1855 -> 50.516832 | K27: =F27*I27 -> 12966689 | L27: =K27/4.1855 -> 3098002.4 | N27: dépend des paramètres du produit, de l'air ambiant, | T27: Ash(%) | U27: =U10 -> 7.5 | Y27: Ash specific heat (J/(kg.K) | Z27: =1092.6+(1889.6/1000*U21)-(3681.7/1000000*U21*U21) -> 1140.9352
B28: (sortie air directe ou + air VF + bag filter) | C28: 75 à 85°C | D28: =1/D27 -> 0.93339744 | G28: =I85 -> 18.518014 | I28: (isenthalpe) | N28: de la température d'entrée tour. | T28: Water(%) | U28: =U11 -> 1.5 | Y28: Water specific heat (J/(kg.K) | Z28: =4176.2-(9.0864/100000*U21)+(5473.1/1000000*U21*U21) -> 4180.1874
B29: Air rejeté sortie VF + sortie Tall Form : | N29: Modifier les cellules en jaune ou voir onglet Rem & biblio
Y30: Note: Values for specific heat calculated
B31: Air secondaire - Total VF | C31: =C54 -> 46.921967 | D31: =D54 -> 0.91863295 | E31: =E54 -> 45931.647 | F31: =F54 -> 50000 | G31: =G54 -> 0.00894881 | H31: =H54 -> 447.4405 | I31: =I54 -> 70.201671 | J31: =J54 -> 16.772589 | ... L31: =L54 -> 838629.45 | Y31: using Choi and Okos correlations
D32: =1/D31 -> 1.0885741 | G32: =G55 -> 13.615873 | T32: Specific heat at this temperature = | U32: =Z23*U23/100 +Z24*U24/100+Z25*U25/100+Z26*U26/100+Z27*U27/100+Z28*U28/100 -> 1605.5816 | V32: (J/(kg.K)
T33: Specific heat at this temperature = | U33: =U32/4.1855 -> 383.60568 | V33: (Kcal/(kg.K)
B34: Air sortie tour avant cyclones | C34: =(I34-(2487*G34))/((1.005+(1.88*G34))) -> 63.886121 | D34: =((22.41/273)*(C34+273))*((1/29)+((1/18)*G34)) -> 1.0029779 | E34: =D34*F34 -> 111657.66 | F34: =F27+F31 -> 111326.14 | G34: =H34/F34 -> 0.032142527 | H34: =H27+H31 -> 3578.3035 | I34: =K34/F34 -> 148.00452 | J34: =I34/4.1855 -> 35.361253 | K34: =K27+K31 -> 16476772 | L34: =J34*F34 -> 3936631.8
B35: (si mélange air VF avec Tall Form) | D35: =1/D34 -> 0.99703091 | G35: =I94 -> 20.929618
B36: Vibro fluidiseur (VF) : | T36: Ecart | U36: =U15-U32 -> 45.010131 | V36: (J/(kg.K)
U37: =U16-U33 -> 10.753824 | V37: (Kcal/(kg.K)
B38: Air entrée VF1 - VF2 | C38: 70 | D38: =((22.41/273)*(C38+273))*((1/29)+((1/18)*G38)) -> 0.98497993 | E38: =F38*D38 -> 29549.398 | F38: 30000 | G38: 0.009 | H38: =F38*G38 -> 270 | I38: =(((1.005+(1.88*$G$38))*$C$38)+(2487*$G$38)) -> 93.9174 | J38: =I38/4.1855 -> 22.438753 | K38: =F38*I38 -> 2817522 | L38: =K38/4.1855 -> 673162.59
D39: =1/D38 -> 1.0152491 | T39: Poudre entrée VF3 | U39: ='Simul 2'!H9*'Simul 2'!U16 -> 1660997.4 | V39: (Kcal/(kg.K)
B40: Evaporation | H40: =H6-H9 -> 137.4405 | T40: Poudre sortie VF3 | U40: ='Simul 2'!H9*'Simul 2'!U33 -> 1615703.5 | V40: (Kcal/(kg.K)
T41: Ecart refroidissement VF 3 | U41: =U39-U40 -> 45293.885 | V41: (Kcal/(kg.K)
B43: Air sortie VF1 - VF2 | C43: =(I43-(2487*G43))/((1.005+(1.88*G43))) -> 58.358719 | D43: =((22.41/273)*(C43+273))*((1/29)+((1/18)*G43)) -> 0.95847318 | E43: =D43*F43 -> 28754.195 | F43: =F38 -> 30000 | G43: =H43/F43 -> 0.01358135 | H43: =SUM(H38:H41) -> 407.4405 | I43: =I38 -> 93.9174 | J43: =I43/4.1855 -> 22.438753 | K43: =F43*I43 -> 2817522 | L43: =K43/4.1855 -> 673162.59
D44: =1/D43 -> 1.043326 | G44: =I103 -> 11.743067 | I44: (isenthalpe) | N44: Viser < 20% HR > fonction de la température d'entrée VF 1 - 2
B46: Air entrée VF3 | C46: 20 | D46: =((22.41/273)*(C46+273))*((1/29)+((1/18)*G46)) -> 0.83204339 | E46: =F46*D46 -> 16640.868 | F46: 20000 | G46: 0.002 | H46: =G46*F46 -> 40 | I46: =(((1.005+(1.88*$G$46))*$C$46)+(2487*$G$46)) -> 25.1492 | J46: =I46/4.1855 -> 6.0086489 | K46: =F46*I46 -> 502984 | L46: =K46/4.1855 -> 120172.98
D47: =1/D46 -> 1.2018604
B48: Refroidissement | K48: =L48*4.1855 -> 189577.55 | L48: ='Simul 2'!U41 -> 45293.885
B51: Air sortie VF3 | C51: =(I51-(2487*G51))/((1.005+(1.88*G51))) -> 29.396564 | D51: =((22.41/273)*(C51+273))*((1/29)+((1/18)*G51)) -> 0.85872718 | E51: =D51*F51 -> 17174.544 | F51: =F46 -> 20000 | G51: =H51/F51 -> 0.002 | H51: =SUM(H46:H49) -> 40 | I51: =K51/F51 -> 34.628078 | J51: =I51/4.1855 -> 8.2733431 | K51: =K46+K48 -> 692561.55 | L51: =K51/4.1855 -> 165466.86 | N51: Viser 29°C T°C sortie air VF3 > fonction de la T°C de l'air entrant VF3
D52: =1/D51 -> 1.1645142 | G52: =I112 -> 7.9371962 | I52: (isenthalpe) | T52: Besoin en NRJ | U52: Ref Tour W | W52: Tall Form + BP + VF
T53: Kcal | U53: 1319 | V53: /tee | W53: =L57/H57 -> 1015.6113 | X53: /tee
B54: Total Vibro fluidiseur vers bagfilter | C54: =(I54-(2487*G54))/((1.005+(1.88*G54))) -> 46.921967 | D54: =((22.41/273)*(C54+273))*((1/29)+((1/18)*G54)) -> 0.91863295 | E54: =D54*F54 -> 45931.647 | F54: =F51+F43 -> 50000 | G54: =H54/F54 -> 0.00894881 | H54: =H51+H43 -> 447.4405 | I54: =K54/F54 -> 70.201671 | J54: =I54/4.1855 -> 16.772589 | K54: =L54*4.1855 -> 3510083.6 | L54: =L51+L43 -> 838629.45 | T54: Vapeur - t | U54: =U55/950 -> 2.2547009 | V54: /tee | W54: =W55/950 -> 1.7360877 | X54: /tee
D55: =1/D54 -> 1.0885741 | G55: =I121 -> 13.615873 | T55: Gaz - kWh Pcs | U55: =U53/585*950 -> 2141.9658 | V55: /tee | W55: =W53/585*950 -> 1649.2833 | X55: /tee
T56: Electricité - kWh | U56: 140 | V56: /tee | W56: 200 | X56: /tee
B57: Besoin air + NRJ | D57: Air entrant | E57: =F57*D19 -> 94788.383 | F57: =F38+F46+F19 -> 111326.14 | G57: Eau évaporée | H57: =H24+H40 -> 2716.3682 | J57: NRJ chauffage | K57: =(K22+K38)-((F57-F46)*I19) -> 11546850 | L57: =K57/4.1855 -> 2758774.3 | T57: NB : hors roue dissécatrice VF 3 - 4
B59: Vérification des caractéristiques des flux d'air sur le diagramme de Mollier
B60: Caractéristiques de l'air ambiant | D60: {=CELL("adresse",C19)} -> $C$19
B61: Pression partielle de vapeur dans l'air ambiant Pw | G61: =G19 -> 0.009 | I61: =100000*(G61/(G61+$B$128)) -> 1448 | J61: Pa | K61: Pression de vapeur de l'air
B62: Pression partielle de vapeur saturante Pws à | G62: =C19 -> 23.5 | I62: =611.14*EXP(17.269*(((273.16+G62)-273.16)/((273.16+G62)-35.86))) -> 2896.8815 | J62: Pa | K62: Pression de vapeur saturante
B63: Th - température humide - pression de vapeur | G63: =IF(G62>50,VLOOKUP(I19,'Air humide'!$H$26:$K$246,4),G62*ATAN(0.151977*SQRT(I67+8.313659))+(0.00391838*(SQRT(I67^3))*ATAN(0.023101*I67))-ATAN(I67-1.676331)+ATAN(G62+I67)-4.686035) -> 16.706256 | H63: +/- 0,5 | I63: =611.14*EXP(17.269*(((273.16+G63)-273.16)/((273.16+G63)-35.86))) -> 1902.8845 | J63: Pa | K63: T°C bulbe humide
B64: Tr - température de rosée - pression de vapeur | G64: =(31.685*(LOG(I61/613.34))/(1-0.1311*(LOG(I61/613.34)))) -> 12.428504 | I64: =611.14*EXP(17.269*(((273.16+G64)-273.16)/((273.16+G64)-35.86))) -> 1443.4202 | J64: Pa | K64: Point de rosée
B65: Ws Ts - humidité abs à la température sèche | G65: =(18/29)*(I62/($L$10-I62)) -> 0.018267792 | K65: isotherme 100%
B66: Ws Th - humidité abs à la température humide | G66: =(18/29)*(I63/($L$10-I63)) -> 0.011879658 | K66: isenthalpe 100%
B67: Humidité relative HR% | F67: φ | I67: =I61/I62% -> 49.984785 | J67: % | K67: Humidité relative de l'air (HR)
B69: Caractéristiques de l'air entrée tour | D69: {=CELL("adresse",C22)} -> $C$22
B70: Pression partielle de vapeur dans l'air entrant Pw | G70: =G22 -> 0.009 | I70: =100000*(G70/(G70+B128)) -> 1448 | J70: Pa | K70: Pression de vapeur de l'air
B71: Pression partielle de vapeur saturante Pws à | G71: =C22 -> 185 | I71: =((G71/100)^4)*L10 -> 1186871 | J71: Pa | K71: Pression de vapeur saturante
B72: Th - température humide - pression de vapeur | G72: =VLOOKUP(ROUND(I22,-1),'Air humide'!$H$26:$K$246,4) -> 44.5 | H72: +/- 0,5 | I72: =611.14*EXP(17.269*(((273.16+G72)-273.16)/((273.16+G72)-35.86))) -> 9342.5341 | J72: Pa | K72: T°C bulbe humide
B73: Tr - température de rosée - pression de vapeur | G73: =(31.685*(LOG(I70/613.34))/(1-0.1311*(LOG(I70/613.34)))) -> 12.428504 | I73: =611.14*EXP(17.269*(((273.16+G73)-273.16)/((273.16+G73)-35.86))) -> 1443.4202 | J73: Pa | K73: Point de rosée
B75: Ws Th - humidité abs à la température humide | G75: =(18/29)*(I72/($L$10-I72)) -> 0.063042605 | K75: isenthalpe 100%
B76: Humidité relative HR% | F76: φ | I76: =I70/I71% -> 0.12200146 | J76: % | K76: Humidité relative de l'air (HR)
B78: Caractéristiques de l'air sortie Tall Form | D78: {=CELL("adresse",C27)} -> $C$27
B79: Pression partielle de vapeur dans l'air sortant Pw | G79: =G27 -> 0.051052666 | I79: =100000*(G79/(G79+B128)) -> 7693.2933 | J79: Pa | K79: Pression de vapeur de l'air
B80: Pression partielle de vapeur saturante Pws à | G80: =C27 -> 76.722825 | I80: =611.14*EXP(17.269*(((273.16+G80)-273.16)/((273.16+G80)-35.86))) -> 41544.915 | J80: Pa | K80: Pression de vapeur saturante
B81: Th - température humide - pression de vapeur | G81: =VLOOKUP(ROUND(I27,-1),'Air humide'!$H$26:$K$246,4) -> 44.5 | H81: +/- 0,5 | I81: =611.14*EXP(17.269*(((273.16+G81)-273.16)/((273.16+G81)-35.86))) -> 9342.5341 | J81: Pa | K81: T°C bulbe humide
B82: Tr - température de rosée - pression de vapeur | G82: =(31.685*(LOG(I79/613.34))/(1-0.1311*(LOG(I79/613.34)))) -> 40.657968 | I82: =611.14*EXP(17.269*(((273.16+G82)-273.16)/((273.16+G82)-35.86))) -> 7641.3405 | J82: Pa | K82: Point de rosée
B84: Ws Th - humidité abs à la température humide | G84: =(18/29)*(I81/($L$10-I81)) -> 0.063042605 | K84: isenthalpe 100%
B85: Humidité relative HR% | F85: φ | I85: =I79/I80% -> 18.518014 | J85: % | K85: Humidité relative de l'air (HR)
B87: Caractéristiques de l'air sortie sécheur Tall Form + VF vers cyclone et (ou) bag filter | F87: {=CELL("adresse",C34)} -> $C$34
B88: Pression partielle de vapeur dans l'air sortant Pw | G88: =G34 -> 0.032142527 | I88: =100000*(G88/(G88+B128)) -> 4985.7377 | J88: Pa | K88: Pression de vapeur de l'air
B89: Pression partielle de vapeur saturante Pws à | G89: =C34 -> 63.886121 | I89: =611.14*EXP(17.269*(((273.16+G89)-273.16)/((273.16+G89)-35.86))) -> 23821.446 | J89: Pa | K89: Pression de vapeur saturante
B90: Th - température humide - pression de vapeur | G90: =VLOOKUP(I34,'Air humide'!$H$26:$K$246,4) -> 37.5 | H90: +/- 0,5 | I90: =611.14*EXP(17.269*(((273.16+G90)-273.16)/((273.16+G90)-35.86))) -> 6450.4397 | J90: Pa | K90: T°C bulbe humide
B91: Tr - température de rosée - pression de vapeur | G91: =(31.685*(LOG(I88/613.34))/(1-0.1311*(LOG(I88/613.34)))) -> 32.740315 | I91: =611.14*EXP(17.269*(((273.16+G91)-273.16)/((273.16+G91)-35.86))) -> 4959.4975 | J91: Pa | K91: Point de rosée
B93: Ws Th - humidité abs à la température humide | G93: =(18/29)*(I90/($L$10-I90)) -> 0.042200155 | K93: isenthalpe 100%
B94: Humidité relative HR% | F94: φ | I94: =I88/I89% -> 20.929618 | J94: % | K94: Humidité relative de l'air (HR)
B95: Vérification des caractéristiques des flux d'air sur le diagramme de Mollier
B96: Caractéristiques de l'air sortie VF 1-2 | D96: {=CELL("adresse",C43)} -> $C$43
B97: Pression partielle de vapeur dans l'air sortant Pw | G97: =G43 -> 0.01358135 | I97: =100000*(G97/(G97+B128)) -> 2169.1001 | J97: Pa | K97: Pression de vapeur de l'air
B98: Pression partielle de vapeur saturante Pws à | G98: =C43 -> 58.358719 | I98: =611.14*EXP(17.269*(((273.16+G98)-273.16)/((273.16+G98)-35.86))) -> 18471.325 | J98: Pa | K98: Pression de vapeur saturante
B99: Th - température humide - pression de vapeur | G99: =VLOOKUP(I43,'Air humide'!$H$26:$K$246,4) -> 28.5 | H99: +/- 0,5 | I99: =611.14*EXP(17.269*(((273.16+G99)-273.16)/((273.16+G99)-35.86))) -> 3893.1282 | J99: Pa | K99: T°C bulbe humide
B100: Tr - température de rosée - pression de vapeur | G100: =(31.685*(LOG(I97/613.34))/(1-0.1311*(LOG(I97/613.34)))) -> 18.728642 | I100: =611.14*EXP(17.269*(((273.16+G100)-273.16)/((273.16+G100)-35.86))) -> 2161.5121 | J100: Pa | K100: Point de rosée
B102: Ws Th - humidité abs à la température humide | G102: =(18/29)*(I99/($L$10-I99)) -> 0.02480117 | K102: isenthalpe 100%
B103: Humidité relative HR% | F103: φ | I103: =I97/I98% -> 11.743067 | J103: % | K103: Humidité relative de l'air (HR)
B105: Caractéristiques de l'air sortie VF 3 | D105: {=CELL("adresse",C51)} -> $C$51
B106: Pression partielle de vapeur dans l'air sortant Pw | G106: =G51 -> 0.002 | I106: =100000*(G106/(G106+B128)) -> 325.44299 | J106: Pa | K106: Pression de vapeur de l'air
B107: Pression partielle de vapeur saturante Pws à | G107: =C51 -> 29.396564 | I107: =611.14*EXP(17.269*(((273.16+G107)-273.16)/((273.16+G107)-35.86))) -> 4100.2261 | J107: Pa | K107: Pression de vapeur saturante
B108: Th - température humide - pression de vapeur | G108: =IF(G107>50,VLOOKUP(I64,'Air humide'!$H$26:$K$246,4),G107*ATAN(0.151977*SQRT(I112+8.313659))+(0.00391838*(SQRT(I112^3))*ATAN(0.023101*I112))-ATAN(I112-1.676331)+ATAN(G107+I112)-4.686035) -> 11.619949 | H108: +/- 1 | I108: =611.14*EXP(17.269*(((273.16+G108)-273.16)/((273.16+G108)-35.86))) -> 1368.497 | J108: Pa | K108: T°C bulbe humide
B109: Tr - température de rosée - pression de vapeur | G109: =(31.685*(LOG(I106/613.34))/(1-0.1311*(LOG(I106/613.34))))+1 -> -7.4168493 | I109: =611.14*EXP(17.269*(((273.16+G109)-273.16)/((273.16+G109)-35.86))) -> 350.08172 | J109: Pa | K109: Point de rosée
B111: Ws Th - humidité abs à la température humide | G111: =(18/29)*(I108/($L$10-I108)) -> 0.0084978158 | K111: isenthalpe 100%
B112: Humidité relative HR% | F112: φ | I112: =I106/I107% -> 7.9371962 | J112: % | K112: Humidité relative de l'air (HR)
B114: Caractéristiques de l'air sortie VF 1-2-3 | D114: {=CELL("adresse",C54)} -> $C$54
B115: Pression partielle de vapeur dans l'air sortant Pw | G115: =G54 -> 0.00894881 | I115: =100000*(G115/(G115+B128)) -> 1439.8827 | J115: Pa | K115: Pression de vapeur de l'air
...

Sheet Simul 3
B1: Simulation 3 : Séchage tour type Tall Form
B2: Estimation du séchage avec post cristallisation sur bande et fin séchage sur VF avec données Relco | T2: Powder specific heat VF 3 in
B3: Produit fabriqué : | C3: SDCH Belt Process | G3: Poids du concentré traité : | H3: 7000 | I3: kg / h | J3: =H3/E5 -> 5384.6154 | K3: ltrs / h | N3: Composition du concentré :
B4: Extrait sec entrée cristallisoir : | C4: =O5 -> 60 | G4: Extrait sec entrée cristallisoir : | H4: =H3*C4% -> 4200 | I4: kg / h | T4: Product temperature( °C) | U4: =D172 -> 58.020232 | Y4: Specific heats at this temperature
B5: Extrait sec cristallisé entrée séchage : | C5: =$O$5+(($O$5*$O$6%)*$O$7%)*$O$9% -> 61.694304 | D5: Densité à 25°C : | E5: 1.3 | G5: Extrait sec cristallisé entrée séchage : | H5: =H3*C5% -> 4318.6013 | I5: kg / h | N5: ES sortie Evapo % : | O5: 60
B6: Extrait sec Poudre sortie BP : | C6: =100-C7 -> 92 | G6: Poudre sortie Tall Form : | H6: =H5/C6% -> 4694.1318 | I6: kg / h | L6: Gilles Valot | N6: Taux de lactose % : | O6: 74 | T6: Protein(%) | U6: 12.5 | Y6: Protein specific heat (J/(kg.K) | Z6: =2008.2+(1208.9/1000*U4)-(1312.9/1000000*U4*U4) -> 2073.921
B7: Humidité d'hydratation poudre BP : | C7: 8 | D7: (8 à 10%) | G7: Eau évaporée Tall Form : | H7: =H3-H6 -> 2305.8682 | I7: kg / h | L7: 45536 | N7: Taux de cristal. Avant séchage % : | O7: 72 | T7: Fat(%) | U7: 1 | Y7: Fat specific heat (J/(kg.K) | Z7: =1984.2+(1473.3/1000*U4)-(4800.8/1000000*U4*U4) -> 2053.52
B8: Extrait sec cristallisé entrée VF : | C8: =$O$5+(($O$5*$O$6%)*$O$8%)*$O$9% -> 62.11788 | G8: Extrait sec cristallisé entrée VF : | H8: =H3*C8% -> 4348.2516 | I8: kg / h | J8: =(H6-H8)/(H8+(H6-H8))% -> 7.3683535 | K8: w entrée VF après post-cristallisation | N8: Taux de cristallisation après BP % : | O8: 90 | T8: Carbonhydrate(%) | U8: 74 | Y8: Carbonhydrate specific heat (J/(kg.K) | Z8: =1548.8+(1962.5/1000*U4)-(5939.9/1000000*U4*U4) -> 1642.6689
B9: Extrait sec poudre sortie VF : | C9: =100-C10 -> 98.7 | G9: Poudre produite sortie VF : | H9: =H8/C9% -> 4405.5234 | I9: kg / h à | J9: 28 | N9: Eau de cristallisation %/L : | O9: 5.3 | T9: Fiber(%) | U9: 0 | Y9: Fiber specific heat (J/(kg.K) | Z9: =1845.9+(1930.6/1000*U4)-(4650.9/1000000*U4*U4) -> 1942.2573
B10: Humidité d'hydratation poudre : | C10: 1.3 | D10: (4,5% / non cristallisé) | G10: Eau évaporée VF : | H10: =H6-H9 -> 288.60842 | I10: Kg / h | K10: Patm : | L10: 101325 | N10: Vérif eau évaporée : | T10: Ash(%) | U10: 7.5 | Y10: Ash specific heat (J/(kg.K) | Z10: =1092.6+(1889.6/1000*U4)-(3681.7/1000000*U4*U4) -> 1189.8411
N11: Eau évaporée : | O11: =H3-H9 -> 2594.4766 | T11: Water(%) | U11: 1.5 | Y11: Water specific heat (J/(kg.K) | Z11: =4176.2-(9.0864/100000*U4)+(5473.1/1000000*U4*U4) -> 4194.6191
B12: Paramètres | C12: T°c | D12: Volume | F12: Poids | G12: W | I12: Enthalpie | N12: Calculée : | O12: =H24+H40+H48 -> 2594.4766 | P12: =O11=O12 -> TRUE
G13: (humidité abs) | N13: Tall Form : | O13: =H3-H6 -> 2305.8682 | Y13: Note: Values for specific heat calculated
D14: m3/kgas | E14: total | F14: kg as | G14: kg/kgas | H14: total | I14: kj/kgas | J14: kcal/kgas | K14: total kj | L14: total kcal | Y14: using Choi and Okos correlations
D15: (kg / m3 as) | E15: m3 | H15: kg eau | T15: Specific heat at this temperature = | U15: =Z6*U6/100 +Z7*U7/100+Z8*U8/100+Z9*U9/100+Z10*U10/100+Z11*U11/100 -> 1647.5077 | V15: (J/(kg.K)
T16: Specific heat at this temperature = | U16: =U15/4.1855 -> 393.62268 | V16: (Kcal/(kg.K)
B17: Séchage Tall Form + BP : | N17: BP = belt process
N18: VF = vibro fluidiseur | T18: Powder specific heat VF 3 out
B19: Air ambiant | C19: 23.5 | D19: =((22.41/273)*(C19+273))*((1/29)+((1/18)*G19)) -> 0.85144767 | E19: 46436.236 | F19: =E19/D19 -> 54537.98 | G19: 0.009 | H19: =F19*G19 -> 490.84182 | I19: =(((1.005+(1.88*G19))*C19)+(2487*G19)) -> 46.39812 | J19: =I19/4.1855 -> 11.085443 | K19: =I19*F19 -> 2530459.7 | L19: =K19/4.1855 -> 604577.65 | N19: Extrait sec cristallisé = extraitsec entrée cristallisoir + eau de cristallisation
D20: =1/D19 -> 1.1744703 | N20: Humidité d'hydratation = eau +/- libre , extractible par disséccation | T20: Product temperature( °C) | U20: ='Simul 1'!J9 -> 28 | Y20: Specific heats at this temperature
B22: Air entrée tour | C22: 180 | D22: =((22.41/273)*(C22+273))*((1/29)+((1/18)*G22)) -> 1.3008627 | E22: =D22*F22 -> 70946.424 | F22: =F19 -> 54537.98 | G22: =H22/F22 -> 0.009 | H22: =H19 -> 490.84182 | I22: =(((1.005+(1.88*$G$22))*$C$22)+(2487*$G$22)) -> 206.3286 | J22: =I22/4.1855 -> 49.296046 | K22: =F22*I22 -> 11252745 | L22: =K22/4.1855 -> 2688506.8 | T22: Protein(%) | U22: =U6 -> 12.5 | Y22: Protein specific heat (J/(kg.K) | Z22: =2008.2+(1208.9/1000*U20)-(1312.9/1000000*U20*U20) -> 2041.0199
D23: =1/D22 -> 0.76872063 | T23: Fat(%) | U23: =U7 -> 1 | Y23: Fat specific heat (J/(kg.K) | Z23: =1984.2+(1473.3/1000*U20)-(4800.8/1000000*U20*U20) -> 2021.6886
B24: Evaporation | H24: =H3-H6 -> 2305.8682 | T24: Carbonhydrate(%) | U24: =U8 -> 74 | Y24: Carbonhydrate specific heat (J/(kg.K) | Z24: =1548.8+(1962.5/1000*U20)-(5939.9/1000000*U20*U20) -> 1599.0931
C25: 180 à 182°C ??? | T25: Fiber(%) | U25: =U9 -> 0 | Y25: Fiber specific heat (J/(kg.K) | Z25: =1845.9+(1930.6/1000*U20)-(4650.9/1000000*U20*U20) -> 1896.3105
N26: Viser 37 à 45% HR sortie Tall Form | T26: Ash(%) | U26: =U10 -> 7.5 | Y26: Ash specific heat (J/(kg.K) | Z26: =1092.6+(1889.6/1000*U20)-(3681.7/1000000*U20*U20) -> 1142.6223
B27: Air sortie Chambre - Tall Form | C27: =(I27-(2487*G27))/((1.005+(1.88*G27))) -> 71.540465 | D27: =((22.41/273)*(C27+273))*((1/29)+((1/18)*G27)) -> 1.0558364 | E27: =D27*F27 -> 57583.184 | F27: =F22 -> 54537.98 | G27: =H27/F27 -> 0.051280044 | H27: =SUM(H22:H25) -> 2796.71 | I27: =I22 -> 206.3286 | J27: =I27/4.1855 -> 49.296046 | K27: =F27*I27 -> 11252745 | L27: =K27/4.1855 -> 2688506.8 | N27: dépend des paramètres du produit, de l'air ambiant, | T27: Water(%) | U27: =U11 -> 1.5 | Y27: Water specific heat (J/(kg.K) | Z27: =4176.2-(9.0864/100000*U20)+(5473.1/1000000*U20*U20) -> 4180.4884
B28: (sortie air directe ou + air VF + bag filter) | C28: 70 à 75°C ??? | D28: =1/D27 -> 0.94711643 | G28: =I93 -> 23.145992 | H28: voir T-Tg | I28: (isenthalpe) | N28: de la température d'entrée tour.
B29: Air rejeté sortie VF + sortie Tall Form : | N29: Modifier les cellules en jaune ou voir onglet Rem & biblio | Y29: Note: Values for specific heat calculated
Y30: using Choi and Okos correlations
B31: Air secondaire - Total VF | C31: =C62 -> 42.167381 | D31: =D62 -> 0.90932597 | E31: =E62 -> 45466.299 | F31: =F62 -> 50000 | G31: =G62 -> 0.011972168 | H31: =H62 -> 598.60842 | I31: =I62 -> 73.10209 | J31: =J62 -> 17.465557 | ... L31: =L62 -> 873277.87 | T31: Specific heat at this temperature = | U31: =Z22*U22/100 +Z23*U23/100+Z24*U24/100+Z25*U25/100+Z26*U26/100+Z27*U27/100 -> 1607.0773 | V31: (J/(kg.K)
D32: =1/D31 -> 1.0997156 | G32: =G63 -> 23.167319 | T32: Specific heat at this temperature = | U32: =U31/4.1855 -> 383.96303 | V32: (Kcal/(kg.K)
B34: Air sortie tour avant cyclones | C34: =(I34-(2487*G34))/((1.005+(1.88*G34))) -> 57.999536 | D34: =((22.41/273)*(C34+273))*((1/29)+((1/18)*G34)) -> 0.98596072 | E34: =D34*F34 -> 103070.34 | F34: =F27+F31 -> 104537.98 | G34: =H34/F34 -> 0.032479281 | H34: =H27+H31 -> 3395.3184 | I34: =K34/F34 -> 142.60702 | J34: =I34/4.1855 -> 34.07168 | K34: =K27+K31 -> 14907850 | L34: =J34*F34 -> 3561784.6
B35: (si mélange air VF avec Tall Form) | D35: =1/D34 -> 1.0142392 | G35: =I102 -> 27.723794 | T35: Ecart | U35: =U15-U31 -> 40.43043 | V35: (J/(kg.K)
B36: Vibro fluidiseur (VF) : | U36: =U16-U32 -> 9.6596416 | V36: (Kcal/(kg.K)
B38: Air entrée VF1 | C38: 70 | D38: =((22.41/273)*(C38+273))*((1/29)+((1/18)*G38)) -> 0.98497993 | E38: =F38*D38 -> 14774.699 | F38: 15000 | G38: 0.009 | H38: =F38*G38 -> 135 | I38: =(((1.005+(1.88*$G$38))*$C$38)+(2487*$G$38)) -> 93.9174 | J38: =I38/4.1855 -> 22.438753 | K38: =F38*I38 -> 1408761 | L38: =K38/4.1855 -> 336581.29 | T38: Poudre entrée VF3 | U38: ='Simul 1'!H9*'Simul 1'!U16 -> 1666507.1 | V38: (Kcal/(kg.K)
D39: =1/D38 -> 1.0152491 | T39: Poudre sortie VF3 | U39: ='Simul 1'!H9*'Simul 1'!U32 -> 1635172.9 | V39: (Kcal/(kg.K)
B40: Evaporation | H40: =H6-H9-H48 -> 123.60842 | T40: Ecart refroidissement VF 3 | U40: =U38-U39 -> 31334.226 | V40: (Kcal/(kg.K)
B43: Air sortie VF1 | C43: =(I43-(2487*G43))/((1.005+(1.88*G43))) -> 49.199461 | D43: =((22.41/273)*(C43+273))*((1/29)+((1/18)*G43)) -> 0.93735627 | E43: =D43*F43 -> 14060.344 | F43: =F38 -> 15000 | G43: =H43/F43 -> 0.017240561 | H43: =SUM(H38:H41) -> 258.60842 | I43: =I38 -> 93.9174 | J43: =I43/4.1855 -> 22.438753 | K43: =F43*I43 -> 1408761 | L43: =K43/4.1855 -> 336581.29
D44: =1/D43 -> 1.0668302 | G44: =I112 -> 23.083368 | I44: (isenthalpe) | N44: Viser 20 - 25% HR > fonction de la T°C d'entrée VF 1 - 2
B46: Air entrée VF2 | C46: 80 | D46: =((22.41/273)*(C46+273))*((1/29)+((1/18)*G46)) -> 1.0136965 | E46: =F46*D46 -> 15205.448 | F46: 15000 | G46: 0.009 | H46: =F46*G46 -> 135 | I46: =(((1.005+(1.88*$G$46))*$C$46)+(2487*$G$46)) -> 104.1366 | J46: =I46/4.1855 -> 24.880325 | K46: =F46*I46 -> 1562049 | L46: =K46/4.1855 -> 373204.87
D47: =1/D46 -> 0.98648851
B48: Evaporation | H48: 165
B51: Air sortie VF2 | C51: =(I51-(2487*G51))/((1.005+(1.88*G51))) -> 52.173988 | D51: =((22.41/273)*(C51+273))*((1/29)+((1/18)*G51)) -> 0.95010196 | E51: =D51*F51 -> 14251.529 | F51: =F46 -> 15000 | G51: =H51/F51 -> 0.02 | H51: =SUM(H46:H49) -> 300 | I51: =I46 -> 104.1366 | J51: =I51/4.1855 -> 24.880325 | K51: =F51*I51 -> 1562049 | L51: =K51/4.1855 -> 373204.87
D52: =1/D51 -> 1.0525186 | G52: =I121 -> 23.016947 | I52: (isenthalpe)
B54: Air entrée VF3 | C54: 22.486276 | D54: =((22.41/273)*(C54+273))*((1/29)+((1/18)*G54)) -> 0.83910376 | E54: =F54*D54 -> 16782.075 | F54: 20000 | G54: 0.002 | H54: =G54*F54 -> 40 | I54: =(((1.005+(1.88*$G$54))*$C$54)+(2487*$G$54)) -> 27.657255 | J54: =I54/4.1855 -> 6.6078737 | K54: =F54*I54 -> 553145.11 | L54: =K54/4.1855 -> 132157.47
D55: =1/D54 -> 1.1917477
B56: Refroidissement | K56: =L56*4.1855 -> 131149.4 | L56: ='Simul 1'!U40 -> 31334.226
B59: Air sortie VF3 | C59: =(I59-(2487*G59))/((1.005+(1.88*G59))) -> 28.986801 | D59: =((22.41/273)*(C59+273))*((1/29)+((1/18)*G59)) -> 0.85756356 | E59: =D59*F59 -> 17151.271 | F59: =F54 -> 20000 | G59: =H59/F59 -> 0.002 | H59: =SUM(H54:H57) -> 40 | I59: =K59/F59 -> 34.214725 | J59: =I59/4.1855 -> 8.174585 | K59: =K54+K56 -> 684294.51 | L59: =K59/4.1855 -> 163491.7 | N59: Viser 29°C T°C sortie air VF3 > fonction de la T°C de l'air entrant VF3 | T59: Besoin en NRJ | U59: Ref Tour W | W59: Tall Form + BP + VF
D60: =1/D59 -> 1.1660943 | G60: =I130 -> 8.1271037 | I60: (isenthalpe) | T60: Kcal | U60: 1319 | V60: /tee | W60: =L65/H65 -> 948.61214 | X60: /tee
T61: Vapeur - t | U61: =U62/950 -> 2.2547009 | V61: /tee | W61: =W62/950 -> 1.6215592 | X61: /tee
B62: Total VF vers bagfilter | C62: =(I62-(2487*G62))/((1.005+(1.88*G62))) -> 42.167381 | D62: =((22.41/273)*(C62+273))*((1/29)+((1/18)*G62)) -> 0.90932597 | E62: =D62*F62 -> 45466.299 | F62: =F59+F43+F51 -> 50000 | G62: =H62/F62 -> 0.011972168 | H62: =H59+H43+H51 -> 598.60842 | I62: =K62/F62 -> 73.10209 | J62: =I62/4.1855 -> 17.465557 | K62: =L62*4.1855 -> 3655104.5 | L62: =L59+L43+L51 -> 873277.87 | T62: Gaz - kWh Pcs | U62: =U60/585*950 -> 2141.9658 | V62: /tee | W62: =W60/585*950 -> 1540.4813 | X62: /tee
D63: =1/D62 -> 1.0997156 | G63: =I139 -> 23.167319 | T63: Electricité - kWh | U63: 140 | V63: /tee | W63: 200 | X63: /tee
T64: NB : hors roue dissécatrice VF 3 - 4
B65: Besoin air + NRJ | D65: Air entrant | E65: =F65*D19 -> 89008.619 | F65: =F38+F46+F54+F19 -> 104537.98 | G65: Eau évaporée | H65: =H24+H40+H48 -> 2594.4766 | J65: NRJ chauffage | K65: =(K22+K38+K46)-((F65-F54)*I19) -> 10301152 | L65: =K65/4.1855 -> 2461152
B67: Vérification des caractéristiques des flux d'air sur le diagramme de Mollier
B68: Caractéristiques de l'air ambiant | D68: {=CELL("adresse",C19)} -> $C$19
B69: Pression partielle de vapeur dans l'air ambiant Pw | G69: =G19 -> 0.009 | I69: =100000*(G69/(G69+$B$146)) -> 1448 | J69: Pa | K69: Pression de vapeur de l'air
B70: Pression partielle de vapeur saturante Pws à | G70: =C19 -> 23.5 | I70: =611.14*EXP(17.269*(((273.16+G70)-273.16)/((273.16+G70)-35.86))) -> 2896.8815 | J70: Pa | K70: Pression de vapeur saturante
B71: Th - température humide - pression de vapeur | G71: =IF(G70>50,VLOOKUP(I27,'Air humide'!$H$26:$K$246,4),G70*ATAN(0.151977*SQRT(I75+8.313659))+(0.00391838*(SQRT(I75^3))*ATAN(0.023101*I75))-ATAN(I75-1.676331)+ATAN(G70+I75)-4.686035) -> 16.706256 | H71: +/- 0,5 | I71: =611.14*EXP(17.269*(((273.16+G71)-273.16)/((273.16+G71)-35.86))) -> 1902.8845 | J71: Pa | K71: T°C bulbe humide
B72: Tr - température de rosée - pression de vapeur | G72: =(31.685*(LOG(I69/613.34))/(1-0.1311*(LOG(I69/613.34)))) -> 12.428504 | I72: =611.14*EXP(17.269*(((273.16+G72)-273.16)/((273.16+G72)-35.86))) -> 1443.4202 | J72: Pa | K72: Point de rosée
B73: Ws Ts - humidité abs à la température sèche | G73: =(18/29)*(I70/($L$10-I70)) -> 0.018267792 | K73: isotherme 100%
B74: Ws Th - humidité abs à la température humide | G74: =(18/29)*(I71/($L$10-I71)) -> 0.011879658 | K74: isenthalpe 100%
B75: Humidité relative HR% | F75: φ | I75: =I69/I70% -> 49.984785 | J75: % | K75: Humidité relative de l'air (HR)
B77: Caractéristiques de l'air entrée tour | D77: {=CELL("adresse",C22)} -> $C$22
B78: Pression partielle de vapeur dans l'air entrant Pw | G78: =G22 -> 0.009 | I78: =100000*(G78/(G78+B146)) -> 1448 | J78: Pa | K78: Pression de vapeur de l'air
B79: Pression partielle de vapeur saturante Pws à | G79: =C22 -> 180 | I79: =((G79/100)^4)*L10 -> 1063669.3 | J79: Pa | K79: Pression de vapeur saturante
B80: Th - température humide - pression de vapeur | G80: =VLOOKUP(ROUND(I22,-1),'Air humide'!$H$26:$K$246,4) -> 44.5 | H80: +/- 0,5 | I80: =611.14*EXP(17.269*(((273.16+G80)-273.16)/((273.16+G80)-35.86))) -> 9342.5341 | J80: Pa | K80: T°C bulbe humide
B81: Tr - température de rosée - pression de vapeur | G81: =(31.685*(LOG(I78/613.34))/(1-0.1311*(LOG(I78/613.34)))) -> 12.428504 | I81: =611.14*EXP(17.269*(((273.16+G81)-273.16)/((273.16+G81)-35.86))) -> 1443.4202 | J81: Pa | K81: Point de rosée
B83: Ws Th - humidité abs à la température humide | G83: =(18/29)*(I80/($L$10-I80)) -> 0.063042605 | K83: isenthalpe 100%
B84: Humidité relative HR% | F84: φ | I84: =I78/I79% -> 0.13613253 | J84: % | K84: Humidité relative de l'air (HR)
B86: Caractéristiques de l'air sortie Tall Form | D86: {=CELL("adresse",C27)} -> $C$27
B87: Pression partielle de vapeur dans l'air sortant Pw | G87: =G27 -> 0.051280044 | I87: =100000*(G87/(G87+B146)) -> 7724.9107 | J87: Pa | K87: Pression de vapeur de l'air
B88: Pression partielle de vapeur saturante Pws à | G88: =C27 -> 71.540465 | I88: =611.14*EXP(17.269*(((273.16+G88)-273.16)/((273.16+G88)-35.86))) -> 33374.723 | J88: Pa | K88: Pression de vapeur saturante
B89: Th - température humide - pression de vapeur | G89: =VLOOKUP(ROUND(I27,-1),'Air humide'!$H$26:$K$246,4) -> 44.5 | H89: +/- 0,5 | I89: =611.14*EXP(17.269*(((273.16+G89)-273.16)/((273.16+G89)-35.86))) -> 9342.5341 | J89: Pa | K89: T°C bulbe humide
B90: Tr - température de rosée - pression de vapeur | G90: =(31.685*(LOG(I87/613.34))/(1-0.1311*(LOG(I87/613.34)))) -> 40.735012 | I90: =611.14*EXP(17.269*(((273.16+G90)-273.16)/((273.16+G90)-35.86))) -> 7672.6213 | J90: Pa | K90: Point de rosée
B92: Ws Th - humidité abs à la température humide | G92: =(18/29)*(I89/($L$10-I89)) -> 0.063042605 | K92: isenthalpe 100%
B93: Humidité relative HR% | F93: φ | I93: =I87/I88% -> 23.145992 | J93: % | K93: Humidité relative de l'air (HR)
B95: Caractéristiques de l'air sortie sécheur Tall Form + VF vers cyclone et (ou) bag filter | F95: {=CELL("adresse",C34)} -> $C$34
B96: Pression partielle de vapeur dans l'air sortant Pw | G96: =G34 -> 0.032479281 | I96: =100000*(G96/(G96+B146)) -> 5035.3425 | J96: Pa | K96: Pression de vapeur de l'air
B97: Pression partielle de vapeur saturante Pws à | G97: =C34 -> 57.999536 | I97: =611.14*EXP(17.269*(((273.16+G97)-273.16)/((273.16+G97)-35.86))) -> 18162.53 | J97: Pa | K97: Pression de vapeur saturante
B98: Th - température humide - pression de vapeur | G98: =VLOOKUP(I34,'Air humide'!$H$26:$K$246,4) -> 37 | H98: +/- 0,5 | I98: =611.14*EXP(17.269*(((273.16+G98)-273.16)/((273.16+G98)-35.86))) -> 6277.4611 | J98: Pa | K98: T°C bulbe humide
B99: Tr - température de rosée - pression de vapeur | G99: =(31.685*(LOG(I96/613.34))/(1-0.1311*(LOG(I96/613.34)))) -> 32.91607 | I99: =611.14*EXP(17.269*(((273.16+G99)-273.16)/((273.16+G99)-35.86))) -> 5008.6919 | J99: Pa | K99: Point de rosée
B101: Ws Th - humidité abs à la température humide | G101: =(18/29)*(I98/($L$10-I98)) -> 0.040993751 | K101: isenthalpe 100%
B102: Humidité relative HR% | F102: φ | I102: =I96/I97% -> 27.723794 | J102: % | K102: Humidité relative de l'air (HR)
B104: Vérification des caractéristiques des flux d'air sur le diagramme de Mollier
B105: Caractéristiques de l'air sortie VF 1 | D105: {=CELL("adresse",C43)} -> $C$43
B106: Pression partielle de vapeur dans l'air sortant Pw | G106: =G43 -> 0.017240561 | I106: =100000*(G106/(G106+B146)) -> 2737.5203 | J106: Pa | K106: Pression de vapeur de l'air
B107: Pression partielle de vapeur saturante Pws à | G107: =C43 -> 49.199461 | I107: =611.14*EXP(17.269*(((273.16+G107)-273.16)/((273.16+G107)-35.86))) -> 11859.276 | J107: Pa | K107: Pression de vapeur saturante
B108: Th - température humide - pression de vapeur | G108: =VLOOKUP(I43,'Air humide'!$H$26:$K$246,4) -> 28.5 | H108: +/- 0,5 | I108: =611.14*EXP(17.269*(((273.16+G108)-273.16)/((273.16+G108)-35.86))) -> 3893.1282 | J108: Pa | K108: T°C bulbe humide
B109: Tr - température de rosée - pression de vapeur | G109: =(31.685*(LOG(I106/613.34))/(1-0.1311*(LOG(I106/613.34)))) -> 22.500738 | I109: =611.14*EXP(17.269*(((273.16+G109)-273.16)/((273.16+G109)-35.86))) -> 2726.9908 | J109: Pa | K109: Point de rosée
B111: Ws Th - humidité abs à la température humide | G111: =(18/29)*(I108/($L$10-I108)) -> 0.02480117 | K111: isenthalpe 100%
B112: Humidité relative HR% | F112: φ | I112: =I106/I107% -> 23.083368 | J112: % | K112: Humidité relative de l'air (HR)
B114: Caractéristiques de l'air sortie VF 2 | D114: {=CELL("adresse",C51)} -> $C$51
B115: Pression partielle de vapeur dans l'air sortant Pw | G115: =G51 -> 0.02 | I115: =100000*(G115/(G115+B146)) -> 3161.8206 | J115: Pa | K115: Pression de vapeur de l'air
B116: Pression partielle de vapeur saturante Pws à | G116: =C51 -> 52.173988 | I116: =611.14*EXP(17.269*(((273.16+G116)-273.16)/((273.16+G116)-35.86))) -> 13736.924 | J116: Pa | K116: Pression de vapeur saturante
B117: Th - température humide - pression de vapeur | G117: =VLOOKUP(I51,'Air humide'!$H$26:$K$246,4) -> 30.5 | H117: +/- 0,5 | I117: =611.14*EXP(17.269*(((273.16+G117)-273.16)/((273.16+G117)-35.86))) -> 4368.2123 | J117: Pa | K117: T°C bulbe humide
B118: Tr - température de rosée - pression de vapeur | G118: =(31.685*(LOG(I115/613.34))/(1-0.1311*(LOG(I115/613.34)))) -> 24.891409 | I118: =611.14*EXP(17.269*(((273.16+G118)-273.16)/((273.16+G118)-35.86))) -> 3148.7985 | J118: Pa | K118: Point de rosée
B120: Ws Th - humidité abs à la température humide | G120: =(18/29)*(I117/($L$10-I117)) -> 0.027964047 | K120: isenthalpe 100%
B121: Humidité relative HR% | F121: φ | I121: =I115/I116% -> 23.016947 | J121: % | K121: Humidité relative de l'air (HR)
B123: Caractéristiques de l'air sortie VF 3 | D123: {=CELL("adresse",C59)} -> $C$59
...

Sheet Mollier S3
B127: Simul 3 | C127: X | D127: 9 g /kg as | K127: X | L127: 51,3 g /kg as
B128: Relco | C128: Ts | D128: 23,5°C | I128: T°C d'entrée à 180°C | K128: Ts | L128: 71,5°C
C129: Th | D129: 16,64°C | K129: Th | L129: 44,5°C
C130: Tr | D130: 12,45°C | K130: Tr | L130: 41°C
C131: HR | D131: 0.5 | K131: HR | L131: 0.23

Sheet Schéma
B1: Spray dryer with post-crystallization belt

Sheet Air humide
A1: T°c humide | B1: T°c de rosée | C1: Pv sat.Pe en Pa | D1: P air sec Pa | E1: ws gr/ kg as | G1: T°c humide | H1: H kj / kg | I1: ws kg/ kg as | J1: v m3 / kg | K1: T°c humide | N1: P atm Pa
A2: -12 | B2: =A2-0.1 -> -12.1 | C2: =611.14*EXP(17.269*(((273.16+A2)-273.16)/((273.16+A2)-35.86))) -> 243.60282 | D2: =$N$2-C2 -> 101081.4 | E2: =I2*1000 -> 1.4958415 | G2: -12 | H2: =(((1.005+(1.88*(E2/1000)))*A2)+(2487*(E2/1000))) -> -8.3735883 | I2: =(18/29)*(C2/($N$2-C2)) -> 0.0014958415 | J2: =((22.41/273)*(A2+273))*((1/28.96)+((1/18.1)*I2)) -> 0.74158226 | K2: -12 | N2: 101325
A3: -11.5 | B3: =A3-0.1 -> -11.6 | C3: =611.14*EXP(17.269*(((273.16+A3)-273.16)/((273.16+A3)-35.86))) -> 253.61451 | D3: =$N$2-C3 -> 101071.39 | E3: =I3*1000 -> 1.5574725 | G3: -11.5 | H3: =(((1.005+(1.88*(E3/1000)))*A3)+(2487*(E3/1000))) -> -7.7177385 | I3: =(18/29)*(C3/($N$2-C3)) -> 0.0015574725 | J3: =((22.41/273)*(A3+273))*((1/28.96)+((1/18.1)*I3)) -> 0.74307601 | K3: -11.5
A4: -11 | B4: =A4-0.1 -> -11.1 | C4: =611.14*EXP(17.269*(((273.16+A4)-273.16)/((273.16+A4)-35.86))) -> 263.99068 | D4: =$N$2-C4 -> 101061.01 | E4: =I4*1000 -> 1.62136 | G4: -11 | H4: =(((1.005+(1.88*(E4/1000)))*A4)+(2487*(E4/1000))) -> -7.0562073 | I4: =(18/29)*(C4/($N$2-C4)) -> 0.00162136 | J4: =((22.41/273)*(A4+273))*((1/28.96)+((1/18.1)*I4)) -> 0.74457272 | K4: -11
A5: -10.5 | B5: =A5-0.1 -> -10.6 | C5: =611.14*EXP(17.269*(((273.16+A5)-273.16)/((273.16+A5)-35.86))) -> 274.74278 | D5: =$N$2-C5 -> 101050.26 | E5: =I5*1000 -> 1.6875761 | G5: -10.5 | H5: =(((1.005+(1.88*(E5/1000)))*A5)+(2487*(E5/1000))) -> -6.3888109 | I5: =(18/29)*(C5/($N$2-C5)) -> 0.0016875761 | J5: =((22.41/273)*(A5+273))*((1/28.96)+((1/18.1)*I5)) -> 0.74607249 | K5: -10.5
A6: -10 | B6: =A6-0.1 -> -10.1 | C6: =611.14*EXP(17.269*(((273.16+A6)-273.16)/((273.16+A6)-35.86))) -> 285.8826 | D6: =$N$2-C6 -> 101039.12 | E6: =I6*1000 -> 1.7561948 | G6: -10 | H6: =(((1.005+(1.88*(E6/1000)))*A6)+(2487*(E6/1000))) -> -5.71536 | I6: =(18/29)*(C6/($N$2-C6)) -> 0.0017561948 | J6: =((22.41/273)*(A6+273))*((1/28.96)+((1/18.1)*I6)) -> 0.74757543 | K6: -10
A7: -9.5 | B7: =A7-0.1 -> -9.6 | C7: =611.14*EXP(17.269*(((273.16+A7)-273.16)/((273.16+A7)-35.86))) -> 297.4222 | D7: =$N$2-C7 -> 101027.58 | E7: =I7*1000 -> 1.827292 | G7: -9.5 | H7: =(((1.005+(1.88*(E7/1000)))*A7)+(2487*(E7/1000))) -> -5.0356603 | I7: =(18/29)*(C7/($N$2-C7)) -> 0.001827292 | J7: =((22.41/273)*(A7+273))*((1/28.96)+((1/18.1)*I7)) -> 0.74908164 | K7: -9.5
A8: -9 | B8: =A8-0.1 -> -9.1 | C8: =611.14*EXP(17.269*(((273.16+A8)-273.16)/((273.16+A8)-35.86))) -> 309.37396 | D8: =$N$2-C8 -> 101015.63 | E8: =I8*1000 -> 1.9009457 | G8: -9 | H8: =(((1.005+(1.88*(E8/1000)))*A8)+(2487*(E8/1000))) -> -4.3495121 | I8: =(18/29)*(C8/($N$2-C8)) -> 0.0019009457 | J8: =((22.41/273)*(A8+273))*((1/28.96)+((1/18.1)*I8)) -> 0.75059123 | K8: -9
A9: -8.5 | B9: =A9-0.1 -> -8.6 | C9: =611.14*EXP(17.269*(((273.16+A9)-273.16)/((273.16+A9)-35.86))) -> 321.75059 | D9: =$N$2-C9 -> 101003.25 | E9: =I9*1000 -> 1.977236 | G9: -8.5 | H9: =(((1.005+(1.88*(E9/1000)))*A9)+(2487*(E9/1000))) -> -3.6567103 | I9: =(18/29)*(C9/($N$2-C9)) -> 0.001977236 | J9: =((22.41/273)*(A9+273))*((1/28.96)+((1/18.1)*I9)) -> 0.75210432 | K9: -8.5
A10: -8 | B10: =A10-0.1 -> -8.1 | C10: =611.14*EXP(17.269*(((273.16+A10)-273.16)/((273.16+A10)-35.86))) -> 334.56511 | D10: =$N$2-C10 -> 100990.43 | E10: =I10*1000 -> 2.0562453 | G10: -8 | H10: =(((1.005+(1.88*(E10/1000)))*A10)+(2487*(E10/1000))) -> -2.9570439 | I10: =(18/29)*(C10/($N$2-C10)) -> 0.0020562453 | J10: =((22.41/273)*(A10+273))*((1/28.96)+((1/18.1)*I10)) -> 0.75362103 | K10: -8
A11: -7.5 | B11: =A11-0.1 -> -7.6 | C11: =611.14*EXP(17.269*(((273.16+A11)-273.16)/((273.16+A11)-35.86))) -> 347.83089 | D11: =$N$2-C11 -> 100977.17 | E11: =I11*1000 -> 2.1380579 | G11: -7.5 | H11: =(((1.005+(1.88*(E11/1000)))*A11)+(2487*(E11/1000))) -> -2.2502966 | I11: =(18/29)*(C11/($N$2-C11)) -> 0.0021380579 | J11: =((22.41/273)*(A11+273))*((1/28.96)+((1/18.1)*I11)) -> 0.75514146 | K11: -7.5
A12: -7 | B12: =A12-0.1 -> -7.1 | C12: =611.14*EXP(17.269*(((273.16+A12)-273.16)/((273.16+A12)-35.86))) -> 361.56161 | D12: =$N$2-C12 -> 100963.44 | E12: =I12*1000 -> 2.2227606 | G12: -7 | H12: =(((1.005+(1.88*(E12/1000)))*A12)+(2487*(E12/1000))) -> -1.536246 | I12: =(18/29)*(C12/($N$2-C12)) -> 0.0022227606 | J12: =((22.41/273)*(A12+273))*((1/28.96)+((1/18.1)*I12)) -> 0.75666576 | K12: -7
A13: -6.5 | B13: =A13-0.1 -> -6.6 | C13: =611.14*EXP(17.269*(((273.16+A13)-273.16)/((273.16+A13)-35.86))) -> 375.77131 | D13: =$N$2-C13 -> 100949.23 | E13: =I13*1000 -> 2.3104423 | G13: -6.5 | H13: =(((1.005+(1.88*(E13/1000)))*A13)+(2487*(E13/1000))) -> -0.81466366 | I13: =(18/29)*(C13/($N$2-C13)) -> 0.0023104423 | J13: =((22.41/273)*(A13+273))*((1/28.96)+((1/18.1)*I13)) -> 0.75819404 | K13: -6.5
A14: -6 | B14: =A14-0.1 -> -6.1 | C14: =611.14*EXP(17.269*(((273.16+A14)-273.16)/((273.16+A14)-35.86))) -> 390.47439 | D14: =$N$2-C14 -> 100934.53 | E14: =I14*1000 -> 2.4011944 | G14: -6 | H14: =(((1.005+(1.88*(E14/1000)))*A14)+(2487*(E14/1000))) -> -0.085315093 | I14: =(18/29)*(C14/($N$2-C14)) -> 0.0024011944 | J14: =((22.41/273)*(A14+273))*((1/28.96)+((1/18.1)*I14)) -> 0.75972643 | K14: -6
... A224: 99 | B224: =A224-0.1 -> 98.9 | C224: =611.14*EXP(17.269*(((273.16+A224)-273.16)/((273.16+A224)-35.86))) -> 98614.599 | D224: =$N$2-C224 -> 2710.4009 | E224: =I224*1000 -> 22583.029 | G224: 99 | H224: =(((1.005+(1.88*(E224/1000)))*A224)+(2487*(E224/1000))) -> 60466.641 | I224: =(18/29)*(C224/($N$2-C224)) -> 22.583029 | J224: =((22.41/273)*(A224+273))*((1/28.96)+((1/18.1)*I224)) -> 39.154513 | K224: 99
A225: 99.5 | B225: =A225-0.1 -> 99.4 | C225: =610.472*EXP(17.269*(((273.16+A225)-273.16)/((273.16+A225)-35.86))) -> 100305 | D225: =$N$2-C225 -> 1019.9974 | E225: =I225*1000 -> 61037.681 | G225: 99.5 | H225: =(((1.005+(1.88*(E225/1000)))*A225)+(2487*(E225/1000))) -> 163318.42 | I225: =(18/29)*(C225/($N$2-C225)) -> 61.037681 | J225: =((22.41/273)*(A225+273))*((1/28.96)+((1/18.1)*I225)) -> 104.1716 | K225: 99.5
A226: 100 | B226: =A226-0.1 -> 99.9 | C226: 101419.04 | D226: =$N$2-C226 -> -94.04 | G226: 100 | K226: 100
A227: 100.5 | B227: =A227-0.1 -> 100.4 | C227: =((A227/100)^4)*100000 -> 102015.05 | G227: 100.5 | K227: 100.5
A228: 101 | B228: =A228-0.1 -> 100.9 | C228: =((A228/100)^4)*100000 -> 104060.4 | G228: 101 | K228: 101
A229: 101.5 | B229: =A229-0.1 -> 101.4 | C229: =((A229/100)^4)*100000 -> 106136.36 | G229: 101.5 | K229: 101.5
A230: 102 | B230: =A230-0.1 -> 101.9 | C230: =((A230/100)^4)*100000 -> 108243.22 | G230: 102 | K230: 102
A231: 102.5 | B231: =A231-0.1 -> 102.4 | C231: =((A231/100)^4)*100000 -> 110381.29 | G231: 102.5 | K231: 102.5
A232: 103 | B232: =A232-0.1 -> 102.9 | C232: =((A232/100)^4)*100000 -> 112550.88 | G232: 103 | K232: 103
A233: 103.5 | B233: =A233-0.1 -> 103.4 | C233: =((A233/100)^4)*100000 -> 114752.3 | G233: 103.5 | K233: 103.5
A234: 104 | B234: =A234-0.1 -> 103.9 | C234: =((A234/100)^4)*100000 -> 116985.86 | G234: 104 | K234: 104
A235: 104.5 | B235: =A235-0.1 -> 104.4 | C235: =((A235/100)^4)*100000 -> 119251.86 | G235: 104.5 | K235: 104.5
A236: 105 | B236: =A236-0.1 -> 104.9 | C236: =((A236/100)^4)*100000 -> 121550.62 | E236: =I236*1000 -> 75445.216 | G236: 105 | I236: =(18/29)*(C236)/1000 -> 75.445216 | J236: =((22.41/273)*(A236+273))*((1/29)+((1/18)*I236)) -> 131.12592 | K236: 105
A237: 105.5 | B237: =A237-0.1 -> 105.4 | C237: =((A237/100)^4)*100000 -> 123882.47 | G237: 105.5 | K237: 105.5
A238: 106 | B238: =A238-0.1 -> 105.9 | C238: =((A238/100)^4)*100000 -> 126247.7 | G238: 106 | K238: 106
A239: 106.5 | B239: =A239-0.1 -> 106.4 | C239: =((A239/100)^4)*100000 -> 128646.64 | G239: 106.5 | K239: 106.5
A240: 107 | B240: =A240-0.1 -> 106.9 | C240: =((A240/100)^4)*100000 -> 131079.6 | G240: 107 | K240: 107
A241: 107.5 | B241: =A241-0.1 -> 107.4 | C241: =((A241/100)^4)*100000 -> 133546.91 | G241: 107.5 | K241: 107.5
A242: 108 | B242: =A242-0.1 -> 107.9 | C242: =((A242/100)^4)*100000 -> 136048.9 | G242: 108 | K242: 108
A243: 108.5 | B243: =A243-0.1 -> 108.4 | C243: =((A243/100)^4)*100000 -> 138585.87 | G243: 108.5 | K243: 108.5
A244: 109 | B244: =A244-0.1 -> 108.9 | C244: =((A244/100)^4)*100000 -> 141158.16 | G244: 109 | K244: 109
A245: 109.5 | B245: =A245-0.1 -> 109.4 | C245: =((A245/100)^4)*100000 -> 143766.1 | G245: 109.5 | K245: 109.5
A246: 110 | B246: =A246-0.1 -> 109.9 | C246: =((A246/100)^4)*100000 -> 146410 | E246: =I246*1000 -> 90875.172 | G246: 110 | I246: =(18/29)*(C246)/1000 -> 90.875172 | J246: =((22.41/273)*(A246+273))*((1/29)+((1/18)*I246)) -> 159.8111 | K246: 110
A247: 110.5 | B247: =A247-0.1 -> 110.4 | C247: =((A247/100)^4)*100000 -> 149090.21 | G247: 110.5 | K247: 110.5
A248: 111 | B248: =A248-0.1 -> 110.9 | C248: =((A248/100)^4)*100000 -> 151807.04 | G248: 111 | K248: 111
A249: 111.5 | B249: =A249-0.1 -> 111.4 | C249: =((A249/100)^4)*100000 -> 154560.84 | G249: 111.5 | K249: 111.5
A250: 112 | B250: =A250-0.1 -> 111.9 | C250: =((A250/100)^4)*100000 -> 157351.94 | G250: 112 | K250: 112
A251: 112.5 | B251: =A251-0.1 -> 112.4 | C251: =((A251/100)^4)*100000 -> 160180.66 | G251: 112.5 | K251: 112.5
A252: 113 | B252: =A252-0.1 -> 112.9 | C252: =((A252/100)^4)*100000 -> 163047.36 | G252: 113 | K252: 113
A253: 113.5 | B253: =A253-0.1 -> 113.4 | C253: =((A253/100)^4)*100000 -> 165952.37 | G253: 113.5 | K253: 113.5
A254: 114 | B254: =A254-0.1 -> 113.9 | C254: =((A254/100)^4)*100000 -> 168896.02 | G254: 114 | K254: 114
A255: 114.5 | B255: =A255-0.1 -> 114.4 | C255: =((A255/100)^4)*100000 -> 171878.66 | G255: 114.5 | K255: 114.5
A256: 115 | B256: =A256-0.1 -> 114.9 | C256: =((A256/100)^4)*100000 -> 174900.62 | E256: =I256*1000 -> 108559.01 | G256: 115 | I256: =(18/29)*(C256)/1000 -> 108.55901 | J256: =((22.41/273)*(A256+273))*((1/29)+((1/18)*I256)) -> 193.18808 | K256: 115
A257: 115.5 | B257: =A257-0.1 -> 115.4 | C257: =((A257/100)^4)*100000 -> 177962.27 | G257: 115.5 | K257: 115.5
A258: 116 | B258: =A258-0.1 -> 115.9 | C258: =((A258/100)^4)*100000 -> 181063.94 | G258: 116 | K258: 116
A259: 116.5 | B259: =A259-0.1 -> 116.4 | C259: =((A259/100)^4)*100000 -> 184205.97 | G259: 116.5 | K259: 116.5
A260: 117 | B260: =A260-0.1 -> 116.9 | C260: =((A260/100)^4)*100000 -> 187388.72 | G260: 117 | K260: 117
A261: 117.5 | B261: =A261-0.1 -> 117.4 | C261: =((A261/100)^4)*100000 -> 190612.54 | G261: 117.5 | K261: 117.5
A262: 118 | B262: =A262-0.1 -> 117.9 | C262: =((A262/100)^4)*100000 -> 193877.78 | G262: 118 | K262: 118
A263: 118.5 | B263: =A263-0.1 -> 118.4 | C263: =((A263/100)^4)*100000 -> 197184.79 | G263: 118.5 | K263: 118.5
A264: 119 | B264: =A264-0.1 -> 118.9 | C264: =((A264/100)^4)*100000 -> 200533.92 | G264: 119 | K264: 119
A265: 119.5 | B265: =A265-0.1 -> 119.4 | C265: =((A265/100)^4)*100000 -> 203925.54 | G265: 119.5 | K265: 119.5
A266: 120 | B266: =A266-0.1 -> 119.9 | C266: =((A266/100)^4)*100000 -> 207360 | E266: =I266*1000 -> 128706.21 | G266: 120 | I266: =(18/29)*(C266)/1000 -> 128.70621 | J266: =((22.41/273)*(A266+273))*((1/29)+((1/18)*I266)) -> 231.78649 | K266: 120
A267: 120.5 | B267: =A267-0.1 -> 120.4 | C267: =((A267/100)^4)*100000 -> 210837.66 | G267: 120.5 | K267: 120.5
A268: 121 | B268: =A268-0.1 -> 120.9 | C268: =((A268/100)^4)*100000 -> 214358.88 | G268: 121 | K268: 121
A269: 121.5 | B269: =A269-0.1 -> 121.4 | C269: =((A269/100)^4)*100000 -> 217924.03 | G269: 121.5 | K269: 121.5
A270: 122 | B270: =A270-0.1 -> 121.9 | C270: =((A270/100)^4)*100000 -> 221533.46 | G270: 122 | K270: 122
A271: 122.5 | B271: =A271-0.1 -> 122.4 | C271: =((A271/100)^4)*100000 -> 225187.54 | G271: 122.5 | K271: 122.5
A272: 123 | B272: =A272-0.1 -> 122.9 | C272: =((A272/100)^4)*100000 -> 228886.64 | G272: 123 | K272: 123
A273: 123.5 | B273: =A273-0.1 -> 123.4 | C273: =((A273/100)^4)*100000 -> 232631.13 | G273: 123.5 | K273: 123.5
A274: 124 | B274: =A274-0.1 -> 123.9 | C274: =((A274/100)^4)*100000 -> 236421.38 | G274: 124 | K274: 124
A275: 124.5 | B275: =A275-0.1 -> 124.4 | C275: =((A275/100)^4)*100000 -> 240257.75 | G275: 124.5 | K275: 124.5
A276: 125 | B276: =A276-0.1 -> 124.9 | C276: =((A276/100)^4)*100000 -> 244140.62 | G276: 125 | K276: 125
A277: 125.5 | B277: =A277-0.1 -> 125.4 | C277: =((A277/100)^4)*100000 -> 248070.38 | G277: 125.5 | K277: 125.5
A278: 126 | B278: =A278-0.1 -> 125.9 | C278: =((A278/100)^4)*100000 -> 252047.38 | G278: 126 | K278: 126
... A285: 129.5 | B285: =A285-0.1 -> 129.4 | C285: =((A285/100)^4)*100000 -> 281241.29 | G285: 129.5 | K285: 129.5
A286: 130 | B286: =A286-0.1 -> 129.9 | C286: =((A286/100)^4)*100000 -> 285610 | E286: =I286*1000 -> 177275.17 | G286: 130 | I286: =(18/29)*(C286)/1000 -> 177.27517 | J286: =((22.41/273)*(A286+273))*((1/29)+((1/18)*I286)) -> 326.94718 | K286: 130
A287: 130.5 | B287: =A287-0.1 -> 130.4 | C287: =((A287/100)^4)*100000 -> 290029.42 | G287: 130.5 | K287: 130.5
A288: 131 | B288: =A288-0.1 -> 130.9 | C288: =((A288/100)^4)*100000 -> 294499.92 | G288: 131 | K288: 131
A289: 131.5 | B289: =A289-0.1 -> 131.4 | C289: =((A289/100)^4)*100000 -> 299021.91 | G289: 131.5 | K289: 131.5
A290: 132 | B290: =A290-0.1 -> 131.9 | C290: =((A290/100)^4)*100000 -> 303595.78 | G290: 132 | K290: 132
A291: 132.5 | B291: =A291-0.1 -> 132.4 | C291: =((A291/100)^4)*100000 -> 308221.91 | G291: 132.5 | K291: 132.5
A292: 133 | B292: =A292-0.1 -> 132.9 | C292: =((A292/100)^4)*100000 -> 312900.72 | G292: 133 | K292: 133
A293: 133.5 | B293: =A293-0.1 -> 133.4 | C293: =((A293/100)^4)*100000 -> 317632.6 | G293: 133.5 | K293: 133.5
A294: 134 | B294: =A294-0.1 -> 133.9 | C294: =((A294/100)^4)*100000 -> 322417.94 | G294: 134 | K294: 134
A295: 134.5 | B295: =A295-0.1 -> 134.4 | C295: =((A295/100)^4)*100000 -> 327257.15 | G295: 134.5 | K295: 134.5
A296: 135 | B296: =A296-0.1 -> 134.9 | C296: =((A296/100)^4)*100000 -> 332150.63 | G296: 135 | K296: 135
A297: 135.5 | B297: =A297-0.1 -> 135.4 | C297: =((A297/100)^4)*100000 -> 337098.78 | G297: 135.5 | K297: 135.5
A298: 136 | B298: =A298-0.1 -> 135.9 | C298: =((A298/100)^4)*100000 -> 342102.02 | G298: 136 | K298: 136
... A305: 139.5 | B305: =A305-0.1 -> 139.4 | C305: =((A305/100)^4)*100000 -> 378701.33 | G305: 139.5 | K305: 139.5
A306: 140 | B306: =A306-0.1 -> 139.9 | C306: =((A306/100)^4)*100000 -> 384160 | E306: =I306*1000 -> 238444.14 | G306: 140 | I306: =(18/29)*(C306)/1000 -> 238.44414 | J306: =((22.41/273)*(A306+273))*((1/29)+((1/18)*I306)) -> 450.26941 | K306: 140
A307: 140.5 | B307: =A307-0.1 -> 140.4 | C307: =((A307/100)^4)*100000 -> 389677.47 | G307: 140.5 | K307: 140.5
A308: 141 | B308: =A308-0.1 -> 140.9 | C308: =((A308/100)^4)*100000 -> 395254.16 | G308: 141 | K308: 141
A309: 141.5 | B309: =A309-0.1 -> 141.4 | C309: =((A309/100)^4)*100000 -> 400890.5 | G309: 141.5 | K309: 141.5
A310: 142 | B310: =A310-0.1 -> 141.9 | C310: =((A310/100)^4)*100000 -> 406586.9 | G310: 142 | K310: 142
A311: 142.5 | B311: =A311-0.1 -> 142.4 | C311: =((A311/100)^4)*100000 -> 412343.79 | G311: 142.5 | K311: 142.5
A312: 143 | B312: =A312-0.1 -> 142.9 | C312: =((A312/100)^4)*100000 -> 418161.6 | G312: 143 | K312: 143
A313: 143.5 | B313: =A313-0.1 -> 143.4 | C313: =((A313/100)^4)*100000 -> 424040.76 | G313: 143.5 | K313: 143.5
A314: 144 | B314: =A314-0.1 -> 143.9 | C314: =((A314/100)^4)*100000 -> 429981.7 | G314: 144 | K314: 144
A315: 144.5 | B315: =A315-0.1 -> 144.4 | C315: =((A315/100)^4)*100000 -> 435984.84 | G315: 144.5 | K315: 144.5
A316: 145 | B316: =A316-0.1 -> 144.9 | C316: =((A316/100)^4)*100000 -> 442050.62 | G316: 145 | K316: 145
A317: 145.5 | B317: =A317-0.1 -> 145.4 | C317: =((A317/100)^4)*100000 -> 448179.49 | G317: 145.5 | K317: 145.5
A318: 146 | B318: =A318-0.1 -> 145.9 | C318: =((A318/100)^4)*100000 -> 454371.86 | G318: 146 | K318: 146
... A325: 149.5 | B325: =A325-0.1 -> 149.4 | C325: =((A325/100)^4)*100000 -> 499533.68 | G325: 149.5 | K325: 149.5
A326: 150 | B326: =A326-0.1 -> 149.9 | C326: =((A326/100)^4)*100000 -> 506250 | E326: =I326*1000 -> 314224.14 | G326: 150 | I326: =(18/29)*(C326)/1000 -> 314.22414 | J326: =((22.41/273)*(A326+273))*((1/29)+((1/18)*I326)) -> 607.35643 | K326: 150
A327: 150.5 | B327: =A327-0.1 -> 150.4 | C327: =((A327/100)^4)*100000 -> 513033.83 | G327: 150.5 | K327: 150.5
...
